From mboxrd@z Thu Jan 1 00:00:00 1970 Return-Path: Received: from mails.dpdk.org (mails.dpdk.org [217.70.189.124]) by inbox.dpdk.org (Postfix) with ESMTP id 15D4848B28 for ; Sun, 16 Nov 2025 17:21:50 +0100 (CET) Received: from mails.dpdk.org (localhost [127.0.0.1]) by mails.dpdk.org (Postfix) with ESMTP id 0ED2C402E3; Sun, 16 Nov 2025 17:21:50 +0100 (CET) Received: from mail-qt1-f226.google.com (mail-qt1-f226.google.com [209.85.160.226]) by mails.dpdk.org (Postfix) with ESMTP id F252D402E3 for ; Sun, 16 Nov 2025 17:21:48 +0100 (CET) Received: by mail-qt1-f226.google.com with SMTP id d75a77b69052e-4ee04609ffaso4574201cf.3 for ; Sun, 16 Nov 2025 08:21:48 -0800 (PST) DKIM-Signature: v=1; a=rsa-sha256; c=relaxed/relaxed; d=iol.unh.edu; s=unh-iol; t=1763310108; x=1763914908; darn=dpdk.org; h=references:in-reply-to:cc:to:from:subject:message-id:date:from:to :cc:subject:date:message-id:reply-to; bh=fRMEF542A+yAoasIdvy/NWdlXUtQZ5yW27lcDsg/EWY=; b=g5fs6XCBSpD1hysXOXGUi3tEqGJGPHjYip6OEfa9zEofrBRVvY50mm0Up2HchiAh3s ITiMCbGtXw0+Am6vkZ0dcWV0/TSIUJEmtdl5T0WExNNGNfGP8ExH3y6CM+kfe/41djaV gfEMXNDtlcA5FLICqpor3OU3UWX8Tl4ud8tU4= X-Google-DKIM-Signature: v=1; a=rsa-sha256; c=relaxed/relaxed; d=1e100.net; s=20230601; t=1763310108; x=1763914908; h=references:in-reply-to:cc:to:from:subject:message-id:date:x-gm-gg :x-gm-message-state:from:to:cc:subject:date:message-id:reply-to; bh=fRMEF542A+yAoasIdvy/NWdlXUtQZ5yW27lcDsg/EWY=; b=lAcxOnWKU8njrdCT1X3Eypr7CMR5xg7mCpdrMCQd/sbi/ds8MrDGgSJwLY9sLtY3jU 0DM65buogpoaIk5+Yl6iMwOZQpvmOwhhCiG2binvo1iUi25QSibLMbEWo6+EdcbWBAWg WKLWrTPV7NipJEkvsTT9wMRfD/DaAkUerIFGXK5crsaU43cimECx70pR0TRmHNCIaP/c 3aSKl8Wv7LXxbGsjOfYuHDRjXmS3ZpJnHNdSa1cF7QKfv33KhtLgLNDZhLC9zOxWHXMw f7di8pUT/BcB6yFuzoJNPTtpbEVQI0CYyoR/DpxteSe0dtWQdgy3LNpLqdG+FYvZ+Bgb Fqsw== X-Gm-Message-State: AOJu0Yzin7N1q+oVkHeD/cSLcRtsfHpLNOnW4gn92eBeEV6I+h4cDm/8 XPGDhXfoYDcH9e+med8RcEcXhMuM45dev3nQBK7xYppEoEdp9LojC56gXb1/pb922HqRF1YuXYG AnTPpXuGQuRSG9zoP/AXrNmy1lNW2MC/mT/lzRZv1Crbh X-Gm-Gg: ASbGncu+sfBp/z4Et8kRFO0AQpTbe55EQeWg4dF6RKEsBEQBeC0IBQ/NWR38tbq+LXx i6HE3xQC5CCS2MSxhbiFQXt8wXJBwO7get50VfUawTPA1BJsWrcBePr6dXHHOJ7luxyOP40XjO3 AAco6f//IXzlUUA8HGgoSNdN1JAxhp7RtKYtmcGg2Xaao+chGUzxZmAQcm5fvSUwNozwVuR3KcL 5muCLxQhCjJa4OILocTgve2hBVdz5Ta+4R10++kIxm0aXfA5HRtgx4QLXPFJGNZlMouQ2L3mlga hE5DzHNKhdwDEfAPrbo3pjMhG7vBqNCYf/MPIlbEzoRmapBYcwU67w8Z9fNYamr2H/tVPbWoDek 6WoQJwBMJFLr9r/sQ/AwvhJ+C0LMLQHU= X-Google-Smtp-Source: AGHT+IFv3+9LZXV755hZJM4pQT/64CRmxP4Q02R+oJSkmCuQZgJplCiWWN7iLihMXxc3WEp34dXxKy+eM51q X-Received: by 2002:ac8:5fc4:0:b0:4ed:dec2:301b with SMTP id d75a77b69052e-4edf211893emr136960021cf.62.1763310108249; Sun, 16 Nov 2025 08:21:48 -0800 (PST) Received: from postal.iol.unh.edu (postal.iol.unh.edu. [132.177.123.84]) by smtp-relay.gmail.com with ESMTPS id 6a1803df08f44-882862f3d94sm13168076d6.8.2025.11.16.08.21.48 (version=TLS1_2 cipher=ECDHE-ECDSA-AES128-GCM-SHA256 bits=128/128); Sun, 16 Nov 2025 08:21:48 -0800 (PST) X-Relaying-Domain: iol.unh.edu Date: Sun, 16 Nov 2025 08:21:48 -0800 (PST) Message-ID: <6919fa1c.d40a0220.2da1aa.0e5aSMTPIN_ADDED_MISSING@mx.google.com> Received: from [172.21.0.5] (unknown [172.18.0.240]) by postal.iol.unh.edu (Postfix) with ESMTP id D4CA26051830; Sun, 16 Nov 2025 11:21:47 -0500 (EST) Subject: |SUCCESS| pw158833 [PATCH] [v2] net/ice: add MAC anti-spoof option From: dpdklab@iol.unh.edu To: Test Report Cc: dpdk-test-reports@iol.unh.edu, Bruce Richardson In-Reply-To: <20251116035749.45922-1-anurag.mandal@intel.com> References: <20251116035749.45922-1-anurag.mandal@intel.com> Content-Type: text/plain X-BeenThere: test-report@dpdk.org X-Mailman-Version: 2.1.29 Precedence: list List-Id: automatic DPDK test reports List-Unsubscribe: , List-Archive: List-Post: List-Help: List-Subscribe: , Errors-To: test-report-bounces@dpdk.org Test-Label: iol-unit-arm64-testing Test-Status: SUCCESS http://dpdk.org/patch/158833 _Testing PASS_ Submitter: Anurag Mandal Date: Sunday, November 16 2025 03:57:49 DPDK git baseline: Repo:dpdk-next-net-intel Branch: master CommitID:e5357d609907d504f4705e4899f3dad43cb4b70f 158833 --> testing pass Upstream job id: Generic-Unit-Test-DPDK#393313 Test environment and result as below: +------------------------------+--------------+------------------------------+---------------------------+----------------+ | Environment | lpm_autotest | cryptodev_sw_snow3g_autotest | cryptodev_sw_zuc_autotest | dpdk_unit_test | +==============================+==============+==============================+===========================+================+ | Ubuntu 20.04 | PASS | SKIPPED | SKIPPED | PASS | +------------------------------+--------------+------------------------------+---------------------------+----------------+ | Debian 12 (arm) | SKIPPED | PASS | PASS | SKIPPED | +------------------------------+--------------+------------------------------+---------------------------+----------------+ | Ubuntu 22.04 | SKIPPED | SKIPPED | SKIPPED | PASS | +------------------------------+--------------+------------------------------+---------------------------+----------------+ | Fedora Linux 41 | SKIPPED | SKIPPED | SKIPPED | PASS | +------------------------------+--------------+------------------------------+---------------------------+----------------+ | Fedora Linux 40 | SKIPPED | SKIPPED | SKIPPED | PASS | +------------------------------+--------------+------------------------------+---------------------------+----------------+ | Debian GNU/Linux 12 | SKIPPED | SKIPPED | SKIPPED | PASS | +------------------------------+--------------+------------------------------+---------------------------+----------------+ | CentOS Stream 9 | SKIPPED | SKIPPED | SKIPPED | PASS | +------------------------------+--------------+------------------------------+---------------------------+----------------+ | CentOS Stream 10 | SKIPPED | SKIPPED | SKIPPED | PASS | +------------------------------+--------------+------------------------------+---------------------------+----------------+ | Fedora Linux 42 | SKIPPED | SKIPPED | SKIPPED | PASS | +------------------------------+--------------+------------------------------+---------------------------+----------------+ | Red Hat Enterprise Linux 9.5 | SKIPPED | SKIPPED | SKIPPED | PASS | +------------------------------+--------------+------------------------------+---------------------------+----------------+ | Ubuntu 24.04 | SKIPPED | SKIPPED | SKIPPED | PASS | +------------------------------+--------------+------------------------------+---------------------------+----------------+ Ubuntu 20.04 Kernel: 5.4 Compiler: gcc gcc (Ubuntu 9.4.0-1ubuntu1~20.04.2) 9.4.0 Debian 12 (arm) Kernel: Depends on container host Compiler: gcc (Debian 12.2.0-14) 12.2.0 Ubuntu 22.04 Kernel: 5.15 Compiler: gcc gcc (Ubuntu 11.4.0-1ubuntu1~22.04.2) 11.4.0 Fedora Linux 41 Kernel: 5.4 Compiler: clang gcc (GCC) 14.3.1 20250523 (Red Hat 14.3.1-1) Fedora Linux 40 Kernel: 5.4 Compiler: gcc gcc (GCC) 14.2.1 20240912 (Red Hat 14.2.1-3) Debian GNU/Linux 12 Kernel: 5.4 Compiler: gcc gcc (Debian 12.2.0-14+deb12u1) 12.2.0 CentOS Stream 9 Kernel: 5.4 Compiler: gcc gcc (GCC) 11.5.0 20240719 (Red Hat 11.5.0-11) CentOS Stream 10 Kernel: 5.4 Compiler: gcc gcc (GCC) 14.2.1 20250110 (Red Hat 14.2.1-8) Fedora Linux 42 Kernel: 5.4 Compiler: gcc gcc (GCC) 15.2.1 20250808 (Red Hat 15.2.1-1) Red Hat Enterprise Linux 9.5 Kernel: 5.4 Compiler: gcc gcc (GCC) 11.5.0 20240719 (Red Hat 11.5.0-2) Ubuntu 24.04 Kernel: 5.4 Compiler: gcc gcc (Ubuntu 13.3.0-6ubuntu2~24.04) 13.3.0 To view detailed results, visit: https://lab.dpdk.org/results/dashboard/patchsets/34608/ UNH-IOL DPDK Community Lab To manage your email subscriptions, visit: https://lab.dpdk.org/results/dashboard/preferences/subscriptions/