From mboxrd@z Thu Jan 1 00:00:00 1970 Return-Path: Received: from mails.dpdk.org (mails.dpdk.org [217.70.189.124]) by inbox.dpdk.org (Postfix) with ESMTP id 88D5748B28 for ; Sun, 16 Nov 2025 17:44:14 +0100 (CET) Received: from mails.dpdk.org (localhost [127.0.0.1]) by mails.dpdk.org (Postfix) with ESMTP id 48613402E3; Sun, 16 Nov 2025 17:44:14 +0100 (CET) Received: from mail-qv1-f98.google.com (mail-qv1-f98.google.com [209.85.219.98]) by mails.dpdk.org (Postfix) with ESMTP id 8F1CF402E3 for ; Sun, 16 Nov 2025 17:44:13 +0100 (CET) Received: by mail-qv1-f98.google.com with SMTP id 6a1803df08f44-8823dfa84c5so40371526d6.3 for ; Sun, 16 Nov 2025 08:44:13 -0800 (PST) DKIM-Signature: v=1; a=rsa-sha256; c=relaxed/relaxed; d=iol.unh.edu; s=unh-iol; t=1763311453; x=1763916253; darn=dpdk.org; h=references:in-reply-to:cc:to:from:subject:message-id:date:from:to :cc:subject:date:message-id:reply-to; bh=lcLeZkSY8ZyodZe3sOh2DVaKmNe1ileswxJNFv/9ED8=; b=K5Ldw/uGoGed614DHpBjp+HCFUyzOI+FXeXTdYVatnvRSEoovcllqkFDai6+k6f9VZ JXZkzcQ5rZMcWfGIrLLajTYtdg+4eqWNbtAGObruHHrnSnmlWLOIuUiAFThoERUALXOt slZGs05g27UL02HKFIj3vBwBOrgb+AxoI/iBA= X-Google-DKIM-Signature: v=1; a=rsa-sha256; c=relaxed/relaxed; d=1e100.net; s=20230601; t=1763311453; x=1763916253; h=references:in-reply-to:cc:to:from:subject:message-id:date:x-gm-gg :x-gm-message-state:from:to:cc:subject:date:message-id:reply-to; bh=lcLeZkSY8ZyodZe3sOh2DVaKmNe1ileswxJNFv/9ED8=; b=VtNPqeFbDVLC4SzQp6gMn/FmtW5uaFN1pMUppvrlaQ9vKkZEEfkYaVXAXUYp5BcjwN 6xB3FqESZQSeSFXIj9E8sqs77dJy/5+T+L9bgFGMOU4K6jEkSNj+n1OKtYokSAVV2UXt 66tRJVdB1k24MdmoIPH8z4O/olO60QgwCofpyEgbUgTakqaIj2+kF1Z4zzbEztMegdHM Ms7vqZwZZWH5oAoHs8lpPJq5yZQPADpm36596BcosisKYYpUsfH6aDcjagO1ruu6uB3+ UolM4yyoUhzSFF9rnzfCQ5RC0Uc0XNbXuwafwbxL8VyAAzSWCHTi+8MErHvdLRSSn5Pt MLeg== X-Gm-Message-State: AOJu0Yw0ulmDz2LxE8ckZoppBV/mab2OhMx1uDfVtGM8T3PpK2PdAgjZ 0poEWrkrqNTBTs8ZygujweHvXjznMDsOHZ1OmtzEwu1mdb3StshrIsUiJ+EXwhvl7nWB2Uy5rcI BVscpQXAJEIaYtBTAKkjJQp8I0uuwz/1rFbRoD+V8oBABJaKqefuFtJiBv1id X-Gm-Gg: ASbGnct23CPvX0Wr2hHrTtKJ5b1ZWgK6M8ERENXQLfx/c0D892myB467Nw0P6/+sMqR GcmFf9xyRdbdfnrW1FQwK1Gm3EHCwFR1fx97ye3A/bZRemq9GnfZfKz2DqIqVAbgCiPRe5AcIcj /QLuTHIBwzMov768DYYqYrWQwlOaoFjojWlzsWwz6n6/B+Eiii+4OLvebN9guZg+8Ry4RjVDCp/ oXs4snp3AdjQhPWVqI8cUuMG1ROgQB16sgP6INHwd6vDZHc1/Mmj8q/DqpY3nSmAtq6P0vZhBUd IfEJjOlRDrRHZL3qWwHCUPtq2YtwUrOgl5vjBF2WNIFDm+dZMrZsnuXGS3dGhlxmE3uyWv+N+9b RF78GOXVh X-Google-Smtp-Source: AGHT+IFs3MtRHVFVt5O/k7EaO8aCcadf7FRjdI11fsuPtr0hG/hlSClDX84vXHm2KMNxe9HOr7YdzaFMeUfj X-Received: by 2002:a05:6214:48b:b0:882:4f53:ed41 with SMTP id 6a1803df08f44-882926d7ea0mr105691956d6.39.1763311452747; Sun, 16 Nov 2025 08:44:12 -0800 (PST) Received: from postal.iol.unh.edu (postal.iol.unh.edu. [2606:4100:3880:1234::84]) by smtp-relay.gmail.com with ESMTPS id 6a1803df08f44-8828653a38fsm12329326d6.21.2025.11.16.08.44.12 (version=TLS1_2 cipher=ECDHE-ECDSA-AES128-GCM-SHA256 bits=128/128); Sun, 16 Nov 2025 08:44:12 -0800 (PST) X-Relaying-Domain: iol.unh.edu Date: Sun, 16 Nov 2025 08:44:12 -0800 (PST) Message-ID: <6919ff5c.050a0220.c1b95.d0f0SMTPIN_ADDED_MISSING@mx.google.com> Received: from [172.21.0.2] (unknown [172.18.0.240]) by postal.iol.unh.edu (Postfix) with ESMTP id 6A8F76051830; Sun, 16 Nov 2025 11:44:12 -0500 (EST) Subject: |SUCCESS| pw158836 [PATCH] net/mlx5: fix null dereference in modify From: dpdklab@iol.unh.edu To: Test Report Cc: dpdk-test-reports@iol.unh.edu In-Reply-To: <20251116121026.180707-1-shperetz@nvidia.com> References: <20251116121026.180707-1-shperetz@nvidia.com> Content-Type: text/plain X-BeenThere: test-report@dpdk.org X-Mailman-Version: 2.1.29 Precedence: list List-Id: automatic DPDK test reports List-Unsubscribe: , List-Archive: List-Post: List-Help: List-Subscribe: , Errors-To: test-report-bounces@dpdk.org Test-Label: iol-compile-arm64-testing Test-Status: SUCCESS http://dpdk.org/patch/158836 _Testing PASS_ Submitter: Shani Peretz Date: Sunday, November 16 2025 12:10:26 DPDK git baseline: Repo:dpdk-next-net-mlx Branch: master CommitID:ae657d56b1f0ea979b3f611edf28d773efc2ddcf 158836 --> testing pass Upstream job id: Generic-DPDK-Compile-Meson#445097 Test environment and result as below: +------------------------------+--------------------+ | Environment | dpdk_meson_compile | +==============================+====================+ | Ubuntu 20.04 | PASS | +------------------------------+--------------------+ | Fedora Linux 42 | PASS | +------------------------------+--------------------+ | Red Hat Enterprise Linux 9.5 | PASS | +------------------------------+--------------------+ | Debian GNU/Linux 12 | PASS | +------------------------------+--------------------+ | Ubuntu 22.04 | PASS | +------------------------------+--------------------+ | Ubuntu 24.04 | PASS | +------------------------------+--------------------+ | CentOS Stream 9 | PASS | +------------------------------+--------------------+ | CentOS Stream 10 | PASS | +------------------------------+--------------------+ Ubuntu 20.04 Kernel: 5.15 Compiler: aarch64-linux-gnu-gcc gcc (Ubuntu 9.4.0-1ubuntu1~20.04.2) 9.4.0 Fedora Linux 42 Kernel: 5.4 Compiler: clang gcc (GCC) 15.2.1 20250808 (Red Hat 15.2.1-1) Red Hat Enterprise Linux 9.5 Kernel: 5.4 Compiler: gcc gcc (GCC) 11.5.0 20240719 (Red Hat 11.5.0-2) Debian GNU/Linux 12 Kernel: 5.4 Compiler: gcc gcc (Debian 12.2.0-14+deb12u1) 12.2.0 Ubuntu 22.04 Kernel: 5.4 Compiler: gcc gcc (Ubuntu 11.4.0-1ubuntu1~22.04) 11.4.0 Ubuntu 24.04 Kernel: 5.4 Compiler: gcc gcc (Ubuntu 13.3.0-6ubuntu2~24.04) 13.3.0 CentOS Stream 9 Kernel: 5.4 Compiler: gcc gcc (GCC) 11.5.0 20240719 (Red Hat 11.5.0-11) CentOS Stream 10 Kernel: 5.4 Compiler: gcc gcc (GCC) 14.2.1 20250110 (Red Hat 14.2.1-8) To view detailed results, visit: https://lab.dpdk.org/results/dashboard/patchsets/34610/ UNH-IOL DPDK Community Lab To manage your email subscriptions, visit: https://lab.dpdk.org/results/dashboard/preferences/subscriptions/