From mboxrd@z Thu Jan 1 00:00:00 1970 Return-Path: Received: from mails.dpdk.org (mails.dpdk.org [217.70.189.124]) by inbox.dpdk.org (Postfix) with ESMTP id 8E9F048ADD for ; Sun, 16 Nov 2025 18:17:52 +0100 (CET) Received: from mails.dpdk.org (localhost [127.0.0.1]) by mails.dpdk.org (Postfix) with ESMTP id 8A634402D3; Sun, 16 Nov 2025 18:17:52 +0100 (CET) Received: from mail-pj1-f97.google.com (mail-pj1-f97.google.com [209.85.216.97]) by mails.dpdk.org (Postfix) with ESMTP id 575B2402D3 for ; Sun, 16 Nov 2025 18:17:51 +0100 (CET) Received: by mail-pj1-f97.google.com with SMTP id 98e67ed59e1d1-3438d4ae152so4557304a91.1 for ; Sun, 16 Nov 2025 09:17:51 -0800 (PST) DKIM-Signature: v=1; a=rsa-sha256; c=relaxed/relaxed; d=iol.unh.edu; s=unh-iol; t=1763313470; x=1763918270; darn=dpdk.org; h=references:in-reply-to:cc:to:from:subject:message-id:date:from:to :cc:subject:date:message-id:reply-to; bh=R/kSIT5DrYljTmoAwY49xzX+JUzGzkUCWXN8YsQIisg=; b=UkrvKLQ9zKEbDU8jBFcEwQl59eU1YnUEAeY91aH0zfUVVGwDaNi+UCpkcnJWexpG5j Lnl29f+7kM8btzZySvYNhUFj66/UXAs/DpKhqnlewjFYlyeXUG9PRbsXsHg/v2c1IpTA 0j45uzvweBys7PVgHRsUH1xbIys2Me/mxUZEM= X-Google-DKIM-Signature: v=1; a=rsa-sha256; c=relaxed/relaxed; d=1e100.net; s=20230601; t=1763313470; x=1763918270; h=references:in-reply-to:cc:to:from:subject:message-id:date:x-gm-gg :x-gm-message-state:from:to:cc:subject:date:message-id:reply-to; bh=R/kSIT5DrYljTmoAwY49xzX+JUzGzkUCWXN8YsQIisg=; b=nXHQojCmqMhR8Fz+pq+wFBwDbeaghkBKlLLphLSxpO4ZudKcgBKi9Jsx+hlI9JgMuw cml21VNmBPb1WEuq6pa8AwIIwWq3eurJWLjWjGnhppKnoHKbxVvMQFy3nP+dnbFT19bf wgObjfZ8nf4A5xl3oYBad2upbuKw0/LSoaAy/P5M877Tak8d61WPxah5vAjVuUru/yEi MvX0O9V/nRpFSQOoXqrvYViTm4hPwo7w/pJ0g3CWqoNmBRlLRxxf/xqTLVqN8LO1RmZE pJD2zxY/fALu/DiS/x/NsoiwOgd1vQvYtu9xKGYg4KLZuF0CSqsb2TJizgFPXf5NRtzh 8MMw== X-Gm-Message-State: AOJu0YwPjcB9m+hS5FqINY/uOoI0XVf9l1C3/TdbfI2380T6RUX3+c/N fMTjdpxUv0dd9Bo05FwTadoU4CAzbO0EtLpzXNF4CSFmfJDHzv35K5aDf9dGA9D88jvW+8z9dCB 3i6T0ff6UwgpwF9t9nyKOLVcqkzCzktlUf4ySOPN4b68uohwMxGUyra5gJURv X-Gm-Gg: ASbGnctkMYYww21ynsniZoiqieMVap8EPne+O/DOBwsEl3wF2mIC67OJkH3DQQR2722 tFMAROh6Z4ZCs1dQcBQJ1zAP59GNc9eXmjf094X/uyqZQrhXRigGT8P84KUzQSUW8UrFoXGjDXl TyYGapDazlBNSfcvbr5B7EfijMdGlbtR4rhQD5iaAg9SZY5oAKJPL7mbvFuIPTtBekXMcJ0aWPw yRgfaE3b0gBxIg1L9RI7RyntbTjhieoRzkupiKFMNI9SoszIXcDfG1/OhJdsbbsU6sib7ahIqtv 5AjrtNNjvLSsq2SFPJ4loX8kuYZwE3csRfPFSX9tRsmMT1gxHEus6w7ilEauHBW4mPhzgVxz42S r8n9mdZ9W X-Google-Smtp-Source: AGHT+IEr1PbQh9BedkYuomMnxrvy2/BO4MPf2+No5v6C1tggvJMjxP/76mKE6ZJWM+TfzwvRB9cG7Hs6v6+y X-Received: by 2002:a17:90b:5243:b0:33b:ba50:fccc with SMTP id 98e67ed59e1d1-343fa63367amr10586494a91.18.1763313470531; Sun, 16 Nov 2025 09:17:50 -0800 (PST) Received: from postal.iol.unh.edu (postal.iol.unh.edu. [2606:4100:3880:1234::84]) by smtp-relay.gmail.com with ESMTPS id 98e67ed59e1d1-343ed5724d6sm1215199a91.6.2025.11.16.09.17.50 (version=TLS1_2 cipher=ECDHE-ECDSA-AES128-GCM-SHA256 bits=128/128); Sun, 16 Nov 2025 09:17:50 -0800 (PST) X-Relaying-Domain: iol.unh.edu Date: Sun, 16 Nov 2025 09:17:50 -0800 (PST) Message-ID: <691a073e.170a0220.32756.c3adSMTPIN_ADDED_MISSING@mx.google.com> Received: from [172.21.0.3] (unknown [172.18.0.240]) by postal.iol.unh.edu (Postfix) with ESMTP id 0DB8A6051830; Sun, 16 Nov 2025 12:17:50 -0500 (EST) Subject: |SUCCESS| pw158837 [PATCH] [v2] app/testpmd: fix flex item link pars From: dpdklab@iol.unh.edu To: Test Report Cc: dpdk-test-reports@iol.unh.edu, Stephen Hemminger In-Reply-To: <20251116121437.159702-1-mkashani@nvidia.com> References: <20251116121437.159702-1-mkashani@nvidia.com> Content-Type: text/plain X-BeenThere: test-report@dpdk.org X-Mailman-Version: 2.1.29 Precedence: list List-Id: automatic DPDK test reports List-Unsubscribe: , List-Archive: List-Post: List-Help: List-Subscribe: , Errors-To: test-report-bounces@dpdk.org Test-Label: iol-unit-amd64-testing Test-Status: SUCCESS http://dpdk.org/patch/158837 _Testing PASS_ Submitter: Maayan Kashani Date: Sunday, November 16 2025 12:14:37 DPDK git baseline: Repo:dpdk-next-net Branch: master CommitID:18d8a8909b8ed6b0a4bd8f99971da74ebba792e2 158837 --> testing pass Upstream job id: Generic-Unit-Test-DPDK#393432 Test environment and result as below: +-------------------------------+----------------+ | Environment | dpdk_unit_test | +===============================+================+ | CentOS Stream 10 | PASS | +-------------------------------+----------------+ | Fedora Linux 40 | PASS | +-------------------------------+----------------+ | Debian GNU/Linux 12 | PASS | +-------------------------------+----------------+ | Fedora Linux 41 | PASS | +-------------------------------+----------------+ | Ubuntu 20.04 | PASS | +-------------------------------+----------------+ | Red Hat Enterprise Linux 9.5 | PASS | +-------------------------------+----------------+ | Red Hat Enterprise Linux 8.10 | PASS | +-------------------------------+----------------+ | CentOS Stream 9 | PASS | +-------------------------------+----------------+ | Fedora Linux 42 | PASS | +-------------------------------+----------------+ | Ubuntu 22.04 | PASS | +-------------------------------+----------------+ | Ubuntu 24.04 | PASS | +-------------------------------+----------------+ | Windows Server 2022 | PASS | +-------------------------------+----------------+ CentOS Stream 10 Kernel: 5.15 Compiler: gcc gcc (GCC) 14.2.1 20250110 (Red Hat 14.2.1-8) Fedora Linux 40 Kernel: 5.15 Compiler: clang gcc (GCC) 14.2.1 20240912 (Red Hat 14.2.1-3) Debian GNU/Linux 12 Kernel: 5.15 Compiler: gcc gcc (Debian 12.2.0-14+deb12u1) 12.2.0 Fedora Linux 41 Kernel: 5.15 Compiler: clang gcc (GCC) 14.3.1 20250523 (Red Hat 14.3.1-1) Ubuntu 20.04 Kernel: 5.15 Compiler: gcc gcc (Ubuntu 9.4.0-1ubuntu1~20.04.2) 9.4.0 Red Hat Enterprise Linux 9.5 Kernel: 5.15 Compiler: gcc gcc (GCC) 11.5.0 20240719 (Red Hat 11.5.0-2) Red Hat Enterprise Linux 8.10 Kernel: 5.15 Compiler: gcc gcc (GCC) 8.5.0 20210514 (Red Hat 8.5.0-22) CentOS Stream 9 Kernel: 5.15 Compiler: gcc gcc (GCC) 11.5.0 20240719 (Red Hat 11.5.0-11) Fedora Linux 42 Kernel: 5.15 Compiler: clang gcc (GCC) 15.2.1 20250808 (Red Hat 15.2.1-1) Ubuntu 22.04 Kernel: 5.15 Compiler: gcc gcc (Ubuntu 11.4.0-1ubuntu1~22.04) 11.4.0 Ubuntu 24.04 Kernel: 5.15 Compiler: gcc gcc (Ubuntu 13.3.0-6ubuntu2~24.04) 13.3.0 Windows Server 2022 Kernel: 10.0.20348.2031 Compiler: clang 15.0.7, gcc 14.1.0 (MinGW), and MSVC VS 19.39.33521 To view detailed results, visit: https://lab.dpdk.org/results/dashboard/patchsets/34612/ UNH-IOL DPDK Community Lab To manage your email subscriptions, visit: https://lab.dpdk.org/results/dashboard/preferences/subscriptions/