From mboxrd@z Thu Jan 1 00:00:00 1970 Return-Path: Received: from mails.dpdk.org (mails.dpdk.org [217.70.189.124]) by inbox.dpdk.org (Postfix) with ESMTP id AE74248ADD for ; Sun, 16 Nov 2025 18:18:37 +0100 (CET) Received: from mails.dpdk.org (localhost [127.0.0.1]) by mails.dpdk.org (Postfix) with ESMTP id A91C2402D3; Sun, 16 Nov 2025 18:18:37 +0100 (CET) Received: from mail-pl1-f228.google.com (mail-pl1-f228.google.com [209.85.214.228]) by mails.dpdk.org (Postfix) with ESMTP id 4B998402D3 for ; Sun, 16 Nov 2025 18:18:36 +0100 (CET) Received: by mail-pl1-f228.google.com with SMTP id d9443c01a7336-2981f9ce15cso43901905ad.1 for ; Sun, 16 Nov 2025 09:18:36 -0800 (PST) DKIM-Signature: v=1; a=rsa-sha256; c=relaxed/relaxed; d=iol.unh.edu; s=unh-iol; t=1763313515; x=1763918315; darn=dpdk.org; h=references:in-reply-to:cc:to:from:subject:message-id:date:from:to :cc:subject:date:message-id:reply-to; bh=xj1fapTojx2fAOQy3iZQ0C8H7cfyrqDNFkr2BezgC3E=; b=ePZOgvXcYgCkZgueVmwmdl2SLibEnt1EawEqNfZKytGokE/eAqEO7piugDZBTc6aC7 xxg5jIXWvkl+CPhG/4Wml+F+e7V0l1a6On0X/6C/b5SuAzGXrMnhE9ZjH3N6Gb9oLuf2 VSEfH8tP82B1r53hHeZRp58kJhRfKHj8fAyd4= X-Google-DKIM-Signature: v=1; a=rsa-sha256; c=relaxed/relaxed; d=1e100.net; s=20230601; t=1763313515; x=1763918315; h=references:in-reply-to:cc:to:from:subject:message-id:date:x-gm-gg :x-gm-message-state:from:to:cc:subject:date:message-id:reply-to; bh=xj1fapTojx2fAOQy3iZQ0C8H7cfyrqDNFkr2BezgC3E=; b=JAPSi6kDIK4/2gYDOeHycfH+Bck23CRFlzj4g8OMY5fjkeX25PreBLB2QBkADMn70q gD6MTCk9vajKGqZiDn2cAdNFf3fNBbxt2cqyZEEssWMAMb/1ouGTsjyNcYnJGMnhWDxU MLZv16sXe4y+3oMqlRbSHSsA5dXn0kS64hubaZkJuVn5KOKRDDjQGKKM6tES8X7qweGZ VVZgy4VHXxCfsj30+tDtHBsJGtfZTFfNnynEpZXqLHLPlfgp1Slsps3AOHEZNm64TMn8 5hMIC5FMNdm+nPDIDO5UkByQxhXEbvxs2oVN7P6qCWijyEJFs8D/vNVezUB14vEJVG84 Y1dA== X-Gm-Message-State: AOJu0Yy5NrYqQHJlIsKchMf7TvlETXEQkx0sNqwLGX11aLPl8e3PUaKx N6Y7z8gYsokBEQ77Ara2/RxJl2dH7vaWHZq/cR9kz8fhrsZ+jMRVYno7UHq0H5yEU8wDhXEThzE LZUS0adkQeslOzT4dpYKvjQzrUyxh4+t4fyukjfcQeY82 X-Gm-Gg: ASbGncu4WDyz9AnjL8u18R7zr/uJIQIytwvFvV04wYRatcNVxY9RznqnfUooREqHZyz zTtHqAYG1LICmA86E0wRqegJSn34IcCg8GOrf6RDdwI2rccMuIImsE9efmEPbE8uUAJyvuqpfbX R/4irYSKXCw3gQeLGbm8/w7LpzTqWEBtlqn37pOU+sSLzhzFOYu2rrrz2TNUKbAEURvObTj+00t tFNMjRXKsEzEvBmkfqpThGLeUDDdqJLVU3lyLqd4SnNvHmGcERTlhZyWdAqmnOOZYZY6ONSLQ2r zXIjtHnn781Hng6l7tDLLRuQ3T6IV2IFCF1CUsRGpenIFBTTaeJCc/K/ktHj/hdj3qETXLJVlOP ORHLOREQIuR/XW8evSp6gpddP5KJf07I= X-Google-Smtp-Source: AGHT+IFI72Av0m3CjplkTIPV27imcn98zUvOMQ4rDV5RJOztNO4P0Mk1P6V860i9mGhuPvfZ0E8zhYtAjsZB X-Received: by 2002:a17:902:ce8b:b0:297:c0f0:42a1 with SMTP id d9443c01a7336-2986a741b77mr119417335ad.44.1763313515493; Sun, 16 Nov 2025 09:18:35 -0800 (PST) Received: from postal.iol.unh.edu (postal.iol.unh.edu. [132.177.123.84]) by smtp-relay.gmail.com with ESMTPS id d9443c01a7336-2985c234597sm12375585ad.12.2025.11.16.09.18.35 (version=TLS1_2 cipher=ECDHE-ECDSA-AES128-GCM-SHA256 bits=128/128); Sun, 16 Nov 2025 09:18:35 -0800 (PST) X-Relaying-Domain: iol.unh.edu Date: Sun, 16 Nov 2025 09:18:35 -0800 (PST) Message-ID: <691a076b.170a0220.131de5.ee59SMTPIN_ADDED_MISSING@mx.google.com> Received: from [172.21.0.2] (unknown [172.18.0.240]) by postal.iol.unh.edu (Postfix) with ESMTP id E3CD86051830; Sun, 16 Nov 2025 12:18:34 -0500 (EST) Subject: |SUCCESS| pw158834 [PATCH] [v2] gro : improve GRO performance based From: dpdklab@iol.unh.edu To: Test Report Cc: dpdk-test-reports@iol.unh.edu In-Reply-To: <20251116060634.262352-1-kumaraparamesh92@gmail.com> References: <20251116060634.262352-1-kumaraparamesh92@gmail.com> Content-Type: text/plain X-BeenThere: test-report@dpdk.org X-Mailman-Version: 2.1.29 Precedence: list List-Id: automatic DPDK test reports List-Unsubscribe: , List-Archive: List-Post: List-Help: List-Subscribe: , Errors-To: test-report-bounces@dpdk.org Test-Label: iol-unit-arm64-testing Test-Status: SUCCESS http://dpdk.org/patch/158834 _Testing PASS_ Submitter: Kumara Parameshwaran Date: Sunday, November 16 2025 06:06:34 DPDK git baseline: Repo:dpdk Branch: master CommitID:be0112878b4fc3a1b918370ed2fe615c52039d77 158834 --> testing pass Upstream job id: Generic-Unit-Test-DPDK#393335 Test environment and result as below: +------------------------------+--------------+---------------------------+------------------------------+----------------+ | Environment | lpm_autotest | cryptodev_sw_zuc_autotest | cryptodev_sw_snow3g_autotest | dpdk_unit_test | +==============================+==============+===========================+==============================+================+ | Ubuntu 20.04 | PASS | SKIPPED | SKIPPED | PASS | +------------------------------+--------------+---------------------------+------------------------------+----------------+ | Debian 12 (arm) | SKIPPED | PASS | PASS | SKIPPED | +------------------------------+--------------+---------------------------+------------------------------+----------------+ | Debian GNU/Linux 12 | SKIPPED | SKIPPED | SKIPPED | PASS | +------------------------------+--------------+---------------------------+------------------------------+----------------+ | Fedora Linux 40 | SKIPPED | SKIPPED | SKIPPED | PASS | +------------------------------+--------------+---------------------------+------------------------------+----------------+ | CentOS Stream 9 | SKIPPED | SKIPPED | SKIPPED | PASS | +------------------------------+--------------+---------------------------+------------------------------+----------------+ | Ubuntu 22.04 | SKIPPED | SKIPPED | SKIPPED | PASS | +------------------------------+--------------+---------------------------+------------------------------+----------------+ | Fedora Linux 41 | SKIPPED | SKIPPED | SKIPPED | PASS | +------------------------------+--------------+---------------------------+------------------------------+----------------+ | Ubuntu 24.04 | SKIPPED | SKIPPED | SKIPPED | PASS | +------------------------------+--------------+---------------------------+------------------------------+----------------+ | Fedora Linux 42 | SKIPPED | SKIPPED | SKIPPED | PASS | +------------------------------+--------------+---------------------------+------------------------------+----------------+ | CentOS Stream 10 | SKIPPED | SKIPPED | SKIPPED | PASS | +------------------------------+--------------+---------------------------+------------------------------+----------------+ | Red Hat Enterprise Linux 9.5 | SKIPPED | SKIPPED | SKIPPED | PASS | +------------------------------+--------------+---------------------------+------------------------------+----------------+ Ubuntu 20.04 Kernel: 5.4 Compiler: gcc gcc (Ubuntu 9.4.0-1ubuntu1~20.04.2) 9.4.0 Debian 12 (arm) Kernel: Depends on container host Compiler: gcc (Debian 12.2.0-14) 12.2.0 Debian GNU/Linux 12 Kernel: 5.4 Compiler: gcc gcc (Debian 12.2.0-14+deb12u1) 12.2.0 Fedora Linux 40 Kernel: 5.4 Compiler: gcc gcc (GCC) 14.2.1 20240912 (Red Hat 14.2.1-3) CentOS Stream 9 Kernel: 5.4 Compiler: gcc gcc (GCC) 11.5.0 20240719 (Red Hat 11.5.0-11) Ubuntu 22.04 Kernel: 5.4 Compiler: gcc gcc (Ubuntu 11.4.0-1ubuntu1~22.04) 11.4.0 Fedora Linux 41 Kernel: 5.4 Compiler: clang gcc (GCC) 14.3.1 20250523 (Red Hat 14.3.1-1) Ubuntu 24.04 Kernel: 5.4 Compiler: gcc gcc (Ubuntu 13.3.0-6ubuntu2~24.04) 13.3.0 Fedora Linux 42 Kernel: 5.4 Compiler: clang gcc (GCC) 15.2.1 20250808 (Red Hat 15.2.1-1) CentOS Stream 10 Kernel: 5.4 Compiler: gcc gcc (GCC) 14.2.1 20250110 (Red Hat 14.2.1-8) Red Hat Enterprise Linux 9.5 Kernel: 5.4 Compiler: gcc gcc (GCC) 11.5.0 20240719 (Red Hat 11.5.0-2) To view detailed results, visit: https://lab.dpdk.org/results/dashboard/patchsets/34609/ UNH-IOL DPDK Community Lab To manage your email subscriptions, visit: https://lab.dpdk.org/results/dashboard/preferences/subscriptions/