From mboxrd@z Thu Jan 1 00:00:00 1970 Return-Path: Received: from mails.dpdk.org (mails.dpdk.org [217.70.189.124]) by inbox.dpdk.org (Postfix) with ESMTP id D20C448B10 for ; Sun, 16 Nov 2025 19:30:38 +0100 (CET) Received: from mails.dpdk.org (localhost [127.0.0.1]) by mails.dpdk.org (Postfix) with ESMTP id CE1BD402D3; Sun, 16 Nov 2025 19:30:38 +0100 (CET) Received: from mail-oo1-f100.google.com (mail-oo1-f100.google.com [209.85.161.100]) by mails.dpdk.org (Postfix) with ESMTP id 69C06402D3 for ; Sun, 16 Nov 2025 19:30:37 +0100 (CET) Received: by mail-oo1-f100.google.com with SMTP id 006d021491bc7-656b612e607so1458955eaf.2 for ; Sun, 16 Nov 2025 10:30:37 -0800 (PST) DKIM-Signature: v=1; a=rsa-sha256; c=relaxed/relaxed; d=iol.unh.edu; s=unh-iol; t=1763317836; x=1763922636; darn=dpdk.org; h=references:in-reply-to:cc:to:from:subject:message-id:date:from:to :cc:subject:date:message-id:reply-to; bh=x+uuU8e7YuIWTCZ6unMOLZFHALMmmvBIWgnjL8xjky0=; b=GYXzcHGYItBch30SHX9Mp9MppSCoO7rrUJvfozUpByH+F3SA5XnV97eGT/U3hvgb5K GKTqOJlXKIvkcww++ZgRlVlVDnfidyA83yHTg/xbIQpousQLekehqErNUG79a72NB5nA FmYDIib/+HPsWht8l6FH+YlXh8yHZcc0o6ojE= X-Google-DKIM-Signature: v=1; a=rsa-sha256; c=relaxed/relaxed; d=1e100.net; s=20230601; t=1763317836; x=1763922636; h=references:in-reply-to:cc:to:from:subject:message-id:date:x-gm-gg :x-gm-message-state:from:to:cc:subject:date:message-id:reply-to; bh=x+uuU8e7YuIWTCZ6unMOLZFHALMmmvBIWgnjL8xjky0=; b=wpUgB44tQ7ETaqmUlQEb5n9j4AinClVi+Pqc7AQ0WiDQbwG92s/lWpXQvGtKR3BaBd XB/DYcfbTa7hE+zc6JQRW1KFGNWXKAoTthcY7uu1Ad3MwYgHTmvOi/w3EiuaVV6rkpVt 0r7NidCYN7K4TOue4ta4CRpJQDHWEkjduTPT5rw+SrURBO9g7Fx93qq4XYMWxor/aQbY HFbkKiG5CCgfl5THOOZosK6cfjAnqoxgQGKDtpcm2mjtauFMRfIOCJrOfEwGwymU9RVu +LKyO5FQVKCsZguDN+fZYRAy0TBG/a33QHZQ+OITC2xz0JrlNuuLLfbzw9ovH/UZo8Qi nVUg== X-Gm-Message-State: AOJu0YzpiiBnlQJ6gP0ysEr/teB/ZLAfYK9w/89p+nEsAsvOIPn+dlMK 7waZGfQKLPlzVunauXKPNT7+KSNS5xqgkVQvDsozoJ4kOX7dnLBE2eJbJ1by5+haBdzq/03NrV7 6O+ILqubSfiQpL1kHXRKz+VONE8sikOv6ZKTyURUnl6L8 X-Gm-Gg: ASbGncuzEjFJplbQplaw5mEtC4nU3XAqiBrd4nNBo+9yP7j0ej8N28VHIfoUyesUsS3 iW0pSMPiPzPUMsp3aJX/2WAq/guMfs4oT1BdSaRB32jlwYxvSbyrm4tdS15ix0hGx+vmkwOVe6o HgSzDxr8I1Gxds3mTO8oRdoZpgj0EXJDkafQCwhNpWkydtBX45hiVFJw+rdUIuJ9SNHS0jj+C/4 7DfQQD61AMHS3qzERXVPc7f/OH5ahMljROSZP3oWkkvo2k4aKBvZNFvn0aJsRF/zAW6ikZuFd4C FCBBbuiHdiznRjktYPSPv7QKodiVy/wyN/FimLdknwitTyMTLNHEa4FFI+13lPtZ6mHXKeNY6Ej kvTj/Ur9xHeHLr3N1398WMa5NjdzOosE= X-Google-Smtp-Source: AGHT+IG/+/EJrNvx989vIbOfiIKRbU3gTKUF46PWtmxcFtG6XL77xOfel211R9S38bBeZ1KJjhmh6/yU4LUa X-Received: by 2002:a05:6870:1990:b0:3e7:ea17:ff34 with SMTP id 586e51a60fabf-3e869194bdfmr4589561fac.48.1763317836487; Sun, 16 Nov 2025 10:30:36 -0800 (PST) Received: from postal.iol.unh.edu (postal.iol.unh.edu. [132.177.123.84]) by smtp-relay.gmail.com with ESMTPS id 586e51a60fabf-3ec48dcb934sm9135fac.15.2025.11.16.10.30.36 (version=TLS1_2 cipher=ECDHE-ECDSA-AES128-GCM-SHA256 bits=128/128); Sun, 16 Nov 2025 10:30:36 -0800 (PST) X-Relaying-Domain: iol.unh.edu Date: Sun, 16 Nov 2025 10:30:36 -0800 (PST) Message-ID: <691a184c.050a0220.56b6e.0701SMTPIN_ADDED_MISSING@mx.google.com> Received: from [172.21.0.3] (unknown [172.18.0.240]) by postal.iol.unh.edu (Postfix) with ESMTP id F2AB76051830; Sun, 16 Nov 2025 13:30:35 -0500 (EST) Subject: |SUCCESS| pw158835 [PATCH] net/mlx5/hws: fix cap check for hash calc From: dpdklab@iol.unh.edu To: Test Report Cc: dpdk-test-reports@iol.unh.edu In-Reply-To: <20251116115925.158944-1-mkashani@nvidia.com> References: <20251116115925.158944-1-mkashani@nvidia.com> Content-Type: text/plain X-BeenThere: test-report@dpdk.org X-Mailman-Version: 2.1.29 Precedence: list List-Id: automatic DPDK test reports List-Unsubscribe: , List-Archive: List-Post: List-Help: List-Subscribe: , Errors-To: test-report-bounces@dpdk.org Test-Label: iol-compile-arm64-testing Test-Status: SUCCESS http://dpdk.org/patch/158835 _Testing PASS_ Submitter: Maayan Kashani Date: Sunday, November 16 2025 11:59:25 DPDK git baseline: Repo:dpdk-next-net-mlx Branch: master CommitID:ae657d56b1f0ea979b3f611edf28d773efc2ddcf 158835 --> testing pass Upstream job id: Generic-DPDK-Compile-Meson#445139 Test environment and result as below: +------------------------------+--------------------+ | Environment | dpdk_meson_compile | +==============================+====================+ | Red Hat Enterprise Linux 9.5 | PASS | +------------------------------+--------------------+ | Ubuntu 20.04 | PASS | +------------------------------+--------------------+ | Debian GNU/Linux 12 | PASS | +------------------------------+--------------------+ | Fedora Linux 42 | PASS | +------------------------------+--------------------+ | Ubuntu 24.04 | PASS | +------------------------------+--------------------+ | Ubuntu 22.04 | PASS | +------------------------------+--------------------+ | CentOS Stream 9 | PASS | +------------------------------+--------------------+ | CentOS Stream 10 | PASS | +------------------------------+--------------------+ Red Hat Enterprise Linux 9.5 Kernel: 5.4 Compiler: gcc gcc (GCC) 11.5.0 20240719 (Red Hat 11.5.0-2) Ubuntu 20.04 Kernel: 5.15 Compiler: aarch64-linux-gnu-gcc gcc (Ubuntu 9.4.0-1ubuntu1~20.04.2) 9.4.0 Debian GNU/Linux 12 Kernel: 5.4 Compiler: gcc gcc (Debian 12.2.0-14+deb12u1) 12.2.0 Fedora Linux 42 Kernel: 5.4 Compiler: gcc gcc (GCC) 15.2.1 20250808 (Red Hat 15.2.1-1) Ubuntu 24.04 Kernel: 5.4 Compiler: gcc gcc (Ubuntu 13.3.0-6ubuntu2~24.04) 13.3.0 Ubuntu 22.04 Kernel: 5.4 Compiler: gcc gcc (Ubuntu 11.4.0-1ubuntu1~22.04) 11.4.0 CentOS Stream 9 Kernel: 5.4 Compiler: gcc gcc (GCC) 11.5.0 20240719 (Red Hat 11.5.0-11) CentOS Stream 10 Kernel: 5.4 Compiler: gcc gcc (GCC) 14.2.1 20250110 (Red Hat 14.2.1-8) To view detailed results, visit: https://lab.dpdk.org/results/dashboard/patchsets/34611/ UNH-IOL DPDK Community Lab To manage your email subscriptions, visit: https://lab.dpdk.org/results/dashboard/preferences/subscriptions/