From mboxrd@z Thu Jan 1 00:00:00 1970 Return-Path: Received: from mails.dpdk.org (mails.dpdk.org [217.70.189.124]) by inbox.dpdk.org (Postfix) with ESMTP id 758D248B10 for ; Sun, 16 Nov 2025 19:36:31 +0100 (CET) Received: from mails.dpdk.org (localhost [127.0.0.1]) by mails.dpdk.org (Postfix) with ESMTP id 4EFE9402D3; Sun, 16 Nov 2025 19:36:31 +0100 (CET) Received: from mail-io1-f100.google.com (mail-io1-f100.google.com [209.85.166.100]) by mails.dpdk.org (Postfix) with ESMTP id DEC02402D3 for ; Sun, 16 Nov 2025 19:36:29 +0100 (CET) Received: by mail-io1-f100.google.com with SMTP id ca18e2360f4ac-9490a482b7bso7894139f.1 for ; Sun, 16 Nov 2025 10:36:29 -0800 (PST) DKIM-Signature: v=1; a=rsa-sha256; c=relaxed/relaxed; d=iol.unh.edu; s=unh-iol; t=1763318189; x=1763922989; darn=dpdk.org; h=references:in-reply-to:cc:to:from:subject:message-id:date:from:to :cc:subject:date:message-id:reply-to; bh=fFzCVKEU8vIIK1MZ7u6rw+yW6Z7XJlW8A9kqQ1xIMhg=; b=O+T/gL/p3NJplG/Ucwii8IvfxTA1Nq8kd1iC2zrdtsB3TYUh82OQ+f3ok3Sa3BPRZj vfCnNrjPwY6bcgUET65MjEjeAjzYAJ79tgezAT2QvNBBF/Ok0ZuFQaEIHj1wWzxlFwtO MQf002V7XpQ8+Ou4YsPU79a4rk3P2KkyC+0Lk= X-Google-DKIM-Signature: v=1; a=rsa-sha256; c=relaxed/relaxed; d=1e100.net; s=20230601; t=1763318189; x=1763922989; h=references:in-reply-to:cc:to:from:subject:message-id:date:x-gm-gg :x-gm-message-state:from:to:cc:subject:date:message-id:reply-to; bh=fFzCVKEU8vIIK1MZ7u6rw+yW6Z7XJlW8A9kqQ1xIMhg=; b=tAoT32kv15ZVbomQkaEg1urwXjmG+CY21xiv7hKqOs4l0u+tSDw0lvsKzKq8+FCnUA Pr4Nomy4JUWWFz0sPwefE4z3hl7nKWU5kLfH7GPvgpt8EhUqY1VfsIpA+XSbeoCJSxIB LVb5d/M8phHZamoKS1l2t+7+KAMGL9xM/jGDAGuJO5Zg54AId+Y6AHgP+AIIT5Da7Sl2 GBfsxZEIBMksFAbz81BKCuAOa/hmJgiF+vD7+pcB/3FUJtAIzhN2Xv6Gp3yrNxnbdBFF 0TVFdslGwMThy2atE4kudV+M1GeVy0wSZrGh87+XroA4OjCDtOgpmKX45ItHqNe7nqDD e1hA== X-Gm-Message-State: AOJu0YyxQMQpzFmX5+x3UCaKVYn9l0lN5zhF8TN/g/aryYtqs8vakirb 9Pr8YKVHvdzDJE4vWTqC8BIevj6wVjPh6shP0WCZSP4BTYEeh2Pfux51eSoB4A5IsKwpXw2HKqC vjvTHre4njYbnZ3K4dqW1i1p42nQGdZxqL+GI9MqP8T4/ X-Gm-Gg: ASbGncv48Sl7oaTR6GEkdp3L2UJ4X49RmURWwRlbm5eSa4qpXXO0PpzfwOZ8Oz9tNxV wAkC7E/EDp9sYI7E4NqzSwVTSu+4+UKDcVFrJVCQJ8vIbb1QhejGpMnalvt3v4Jxz6YF4FbKU5a TIX4C5my/WNl2MKtPUg7HR33S6YcZWBboLOwl3bQABq+hg8GPlkIuZ4zjBdo1fmeTJzyU1cueFP Bys19w+zU9WsePXf7Po7z6sKqtN4NfwIrWToDSdCVwBY6tVR4EjTL8aJU5M1UUnV3xRiJ6XN2bq 5nDayiAWf5sb5aRdhd7RgHwc6ToFK7jSSC38Jhcz/xpimQ1fQzwJk72GSq9+9eQWa1xf9JfIASd zyeO/T7LJLvQUnDuoGgQ/kgdi6FUd2Ik= X-Google-Smtp-Source: AGHT+IEtFjKJk8ClTL6npTTDR7K6Uxt6VsnRec1uYx3/w/hwHFcCrtMeIQvk44UUTAAoSBc3AOkTURuSJM2x X-Received: by 2002:a05:6602:26d2:b0:940:d7bd:a850 with SMTP id ca18e2360f4ac-948e0dd49a1mr1249205639f.16.1763318188977; Sun, 16 Nov 2025 10:36:28 -0800 (PST) Received: from postal.iol.unh.edu (postal.iol.unh.edu. [132.177.123.84]) by smtp-relay.gmail.com with ESMTPS id ca18e2360f4ac-94907fb3f55sm2139939f.2.2025.11.16.10.36.28 (version=TLS1_2 cipher=ECDHE-ECDSA-AES128-GCM-SHA256 bits=128/128); Sun, 16 Nov 2025 10:36:28 -0800 (PST) X-Relaying-Domain: iol.unh.edu Date: Sun, 16 Nov 2025 10:36:28 -0800 (PST) Message-ID: <691a19ac.050a0220.c1f49.0fceSMTPIN_ADDED_MISSING@mx.google.com> Received: from [172.21.0.3] (unknown [172.18.0.240]) by postal.iol.unh.edu (Postfix) with ESMTP id 7B4AF6051830; Sun, 16 Nov 2025 13:36:28 -0500 (EST) Subject: |SUCCESS| pw158836 [PATCH] net/mlx5: fix null dereference in modify From: dpdklab@iol.unh.edu To: Test Report Cc: dpdk-test-reports@iol.unh.edu In-Reply-To: <20251116121026.180707-1-shperetz@nvidia.com> References: <20251116121026.180707-1-shperetz@nvidia.com> Content-Type: text/plain X-BeenThere: test-report@dpdk.org X-Mailman-Version: 2.1.29 Precedence: list List-Id: automatic DPDK test reports List-Unsubscribe: , List-Archive: List-Post: List-Help: List-Subscribe: , Errors-To: test-report-bounces@dpdk.org Test-Label: iol-unit-arm64-testing Test-Status: SUCCESS http://dpdk.org/patch/158836 _Testing PASS_ Submitter: Shani Peretz Date: Sunday, November 16 2025 12:10:26 DPDK git baseline: Repo:dpdk-next-net-mlx Branch: master CommitID:ae657d56b1f0ea979b3f611edf28d773efc2ddcf 158836 --> testing pass Upstream job id: Generic-Unit-Test-DPDK#393363 Test environment and result as below: +------------------------------+--------------+------------------------------+---------------------------+----------------+ | Environment | lpm_autotest | cryptodev_sw_snow3g_autotest | cryptodev_sw_zuc_autotest | dpdk_unit_test | +==============================+==============+==============================+===========================+================+ | Ubuntu 20.04 | PASS | SKIPPED | SKIPPED | PASS | +------------------------------+--------------+------------------------------+---------------------------+----------------+ | Debian 12 (arm) | SKIPPED | PASS | PASS | SKIPPED | +------------------------------+--------------+------------------------------+---------------------------+----------------+ | Ubuntu 22.04 | SKIPPED | SKIPPED | SKIPPED | PASS | +------------------------------+--------------+------------------------------+---------------------------+----------------+ | CentOS Stream 10 | SKIPPED | SKIPPED | SKIPPED | PASS | +------------------------------+--------------+------------------------------+---------------------------+----------------+ | Debian GNU/Linux 12 | SKIPPED | SKIPPED | SKIPPED | PASS | +------------------------------+--------------+------------------------------+---------------------------+----------------+ | CentOS Stream 9 | SKIPPED | SKIPPED | SKIPPED | PASS | +------------------------------+--------------+------------------------------+---------------------------+----------------+ | Fedora Linux 40 | SKIPPED | SKIPPED | SKIPPED | PASS | +------------------------------+--------------+------------------------------+---------------------------+----------------+ | Fedora Linux 41 | SKIPPED | SKIPPED | SKIPPED | PASS | +------------------------------+--------------+------------------------------+---------------------------+----------------+ | Fedora Linux 42 | SKIPPED | SKIPPED | SKIPPED | PASS | +------------------------------+--------------+------------------------------+---------------------------+----------------+ | Red Hat Enterprise Linux 9.5 | SKIPPED | SKIPPED | SKIPPED | PASS | +------------------------------+--------------+------------------------------+---------------------------+----------------+ | Ubuntu 24.04 | SKIPPED | SKIPPED | SKIPPED | PASS | +------------------------------+--------------+------------------------------+---------------------------+----------------+ Ubuntu 20.04 Kernel: 5.4 Compiler: gcc gcc (Ubuntu 9.4.0-1ubuntu1~20.04.2) 9.4.0 Debian 12 (arm) Kernel: Depends on container host Compiler: gcc (Debian 12.2.0-14) 12.2.0 Ubuntu 22.04 Kernel: 5.15 Compiler: gcc gcc (Ubuntu 11.4.0-1ubuntu1~22.04.2) 11.4.0 CentOS Stream 10 Kernel: 5.4 Compiler: gcc gcc (GCC) 14.2.1 20250110 (Red Hat 14.2.1-8) Debian GNU/Linux 12 Kernel: 5.4 Compiler: gcc gcc (Debian 12.2.0-14+deb12u1) 12.2.0 CentOS Stream 9 Kernel: 5.4 Compiler: gcc gcc (GCC) 11.5.0 20240719 (Red Hat 11.5.0-11) Fedora Linux 40 Kernel: 5.4 Compiler: gcc gcc (GCC) 14.2.1 20240912 (Red Hat 14.2.1-3) Fedora Linux 41 Kernel: 5.4 Compiler: gcc gcc (GCC) 14.3.1 20250523 (Red Hat 14.3.1-1) Fedora Linux 42 Kernel: 5.4 Compiler: clang gcc (GCC) 15.2.1 20250808 (Red Hat 15.2.1-1) Red Hat Enterprise Linux 9.5 Kernel: 5.4 Compiler: gcc gcc (GCC) 11.5.0 20240719 (Red Hat 11.5.0-2) Ubuntu 24.04 Kernel: 5.4 Compiler: gcc gcc (Ubuntu 13.3.0-6ubuntu2~24.04) 13.3.0 To view detailed results, visit: https://lab.dpdk.org/results/dashboard/patchsets/34610/ UNH-IOL DPDK Community Lab To manage your email subscriptions, visit: https://lab.dpdk.org/results/dashboard/preferences/subscriptions/