From mboxrd@z Thu Jan 1 00:00:00 1970 Return-Path: Received: from mails.dpdk.org (mails.dpdk.org [217.70.189.124]) by inbox.dpdk.org (Postfix) with ESMTP id F293C48B28 for ; Sun, 16 Nov 2025 20:43:33 +0100 (CET) Received: from mails.dpdk.org (localhost [127.0.0.1]) by mails.dpdk.org (Postfix) with ESMTP id ED976402D3; Sun, 16 Nov 2025 20:43:33 +0100 (CET) Received: from mail-pl1-f228.google.com (mail-pl1-f228.google.com [209.85.214.228]) by mails.dpdk.org (Postfix) with ESMTP id 5342B402D3 for ; Sun, 16 Nov 2025 20:43:29 +0100 (CET) Received: by mail-pl1-f228.google.com with SMTP id d9443c01a7336-298039e00c2so46389395ad.3 for ; Sun, 16 Nov 2025 11:43:29 -0800 (PST) DKIM-Signature: v=1; a=rsa-sha256; c=relaxed/relaxed; d=iol.unh.edu; s=unh-iol; t=1763322208; x=1763927008; darn=dpdk.org; h=references:in-reply-to:cc:to:from:subject:message-id:date:from:to :cc:subject:date:message-id:reply-to; bh=phLEh8kraPJ6rxug9KO1iHRLlLpZfmpO219pks6jd1A=; b=EzZPB/bcWToGtXicYSsBV86AukwzufsrVgewSIiNI4V0iaPmpuoyVkJ3QJrEbTWj5x M2OixyBvkzffGORBrvk66y2kl/rZ7QdKkaiFTZhFB28rBdzHUn5E4bupqM/ZwQxGEcZ2 AK8onLNy+LO11ly5LISzX6M5TsP5aU7b8vtoQ= X-Google-DKIM-Signature: v=1; a=rsa-sha256; c=relaxed/relaxed; d=1e100.net; s=20230601; t=1763322208; x=1763927008; h=references:in-reply-to:cc:to:from:subject:message-id:date:x-gm-gg :x-gm-message-state:from:to:cc:subject:date:message-id:reply-to; bh=phLEh8kraPJ6rxug9KO1iHRLlLpZfmpO219pks6jd1A=; b=bSrUiowSC3w4GAL6Ag8RWuXO2lrS3DNpg8UwUmXd3MoZotnup0spCDE2fTjETJxKyn 6caaqrbQ3i0xYsDbsZks4ClUNTWJwhufN2L9UORAow9br8/xsHfc5aQxJlBQo0borklQ 2NsYTCOKuibRsGDTArupO/xjFsdlM3lHYzOQ4/MVGXBy7C4OciE13Tro+g/dutBF0WYr 2roaowgdqDArGvzGx08kvTqYhwwCWKXio8tCiBZ0kDe9tl43KfCqPklJO/v2n3HtuJuX UTcqv2AVOUe8X5CPNqN5uM3RAXvfTfVgO4ZnSztOmlmufb1mvUEkKJDDFRRYw9l3YfNV ul+g== X-Gm-Message-State: AOJu0Yx9z9BZwf3DlpShspy/ippx2PXLxPbz/x773QnNiDol4b0cCCKD xAipIHiBznLkmgSr5fBkKAAo2BSQjow4mEWeRDkExOTAX9oonQ9SHcRft+GwGhHkaIBshn01Ti0 Am3UW9ab6GGFK1Xdy1JM35i54A3udJacpZI5/LoA4KEUuzbOFUu1qD+S43wj7 X-Gm-Gg: ASbGncsyztpo5/A1mhU3lqLpV7IId7XojFQ6b5uOXWoiHhVsIJNB0Dz+aGvwq1aV2Ui FVg8MAIydynLUDczqyZ7TudUWyNRr+WoHL7+xPF9kcxNallC7I6zdmWqQvKHuv2hetTQ3VPl+oP M9h6yyJ4WI/4MHvsenzus08G7sgQ/erlZ4AYPSBVl5HPY6gCph01geT+kqeDjkunYXom3tFLhTk hvWqBaqPR5jCxg1qpaI2Zl/eeFMFbTuerO/kuNBvAJocwRWAuJrDE6qPC1ngAhhSuoo62NPS8qZ 4c9uttoSloo9Vn508pXNPQgJN1WapgS5xuLP4tDhNX7ixNEHktcv2d3m0mef3w74hnR36smFtay lr5+tQVnv X-Google-Smtp-Source: AGHT+IEKxwt/hq7vX2uzQgTEnf+SY6fE6KpjOZVbadHPWko/8z7uL6QaMUFNAC6EH8C1HnXad4vcPM9RowT+ X-Received: by 2002:a17:903:2443:b0:295:4d62:61a9 with SMTP id d9443c01a7336-2986a74210dmr106709975ad.38.1763322208523; Sun, 16 Nov 2025 11:43:28 -0800 (PST) Received: from postal.iol.unh.edu (postal.iol.unh.edu. [2606:4100:3880:1234::84]) by smtp-relay.gmail.com with ESMTPS id d9443c01a7336-2985c2b7b81sm13120655ad.50.2025.11.16.11.43.28 (version=TLS1_2 cipher=ECDHE-ECDSA-AES128-GCM-SHA256 bits=128/128); Sun, 16 Nov 2025 11:43:28 -0800 (PST) X-Relaying-Domain: iol.unh.edu Date: Sun, 16 Nov 2025 11:43:28 -0800 (PST) Message-ID: <691a2960.170a0220.2073c2.2e60SMTPIN_ADDED_MISSING@mx.google.com> Received: from [172.21.0.5] (unknown [172.18.0.240]) by postal.iol.unh.edu (Postfix) with ESMTP id 0B9126051830; Sun, 16 Nov 2025 14:43:28 -0500 (EST) Subject: |SUCCESS| pw158837 [PATCH] [v2] app/testpmd: fix flex item link pars From: dpdklab@iol.unh.edu To: Test Report Cc: dpdk-test-reports@iol.unh.edu, Stephen Hemminger In-Reply-To: <20251116121437.159702-1-mkashani@nvidia.com> References: <20251116121437.159702-1-mkashani@nvidia.com> Content-Type: text/plain X-BeenThere: test-report@dpdk.org X-Mailman-Version: 2.1.29 Precedence: list List-Id: automatic DPDK test reports List-Unsubscribe: , List-Archive: List-Post: List-Help: List-Subscribe: , Errors-To: test-report-bounces@dpdk.org Test-Label: iol-compile-arm64-testing Test-Status: SUCCESS http://dpdk.org/patch/158837 _Testing PASS_ Submitter: Maayan Kashani Date: Sunday, November 16 2025 12:14:37 DPDK git baseline: Repo:dpdk-next-net Branch: master CommitID:18d8a8909b8ed6b0a4bd8f99971da74ebba792e2 158837 --> testing pass Upstream job id: Generic-DPDK-Compile-Meson#445160 Test environment and result as below: +------------------------------+--------------------+ | Environment | dpdk_meson_compile | +==============================+====================+ | Ubuntu 20.04 | PASS | +------------------------------+--------------------+ | Red Hat Enterprise Linux 9.5 | PASS | +------------------------------+--------------------+ | Fedora Linux 42 | PASS | +------------------------------+--------------------+ | Ubuntu 22.04 | PASS | +------------------------------+--------------------+ | Debian GNU/Linux 12 | PASS | +------------------------------+--------------------+ | Ubuntu 24.04 | PASS | +------------------------------+--------------------+ | CentOS Stream 9 | PASS | +------------------------------+--------------------+ | CentOS Stream 10 | PASS | +------------------------------+--------------------+ Ubuntu 20.04 Kernel: 5.15 Compiler: aarch64-linux-gnu-gcc gcc (Ubuntu 9.4.0-1ubuntu1~20.04.2) 9.4.0 Red Hat Enterprise Linux 9.5 Kernel: 5.4 Compiler: gcc gcc (GCC) 11.5.0 20240719 (Red Hat 11.5.0-2) Fedora Linux 42 Kernel: 5.4 Compiler: clang gcc (GCC) 15.2.1 20250808 (Red Hat 15.2.1-1) Ubuntu 22.04 Kernel: 5.4 Compiler: gcc gcc (Ubuntu 11.4.0-1ubuntu1~22.04) 11.4.0 Debian GNU/Linux 12 Kernel: 5.4 Compiler: gcc gcc (Debian 12.2.0-14+deb12u1) 12.2.0 Ubuntu 24.04 Kernel: 5.4 Compiler: gcc gcc (Ubuntu 13.3.0-6ubuntu2~24.04) 13.3.0 CentOS Stream 9 Kernel: 5.4 Compiler: gcc gcc (GCC) 11.5.0 20240719 (Red Hat 11.5.0-11) CentOS Stream 10 Kernel: 5.4 Compiler: gcc gcc (GCC) 14.2.1 20250110 (Red Hat 14.2.1-8) To view detailed results, visit: https://lab.dpdk.org/results/dashboard/patchsets/34612/ UNH-IOL DPDK Community Lab To manage your email subscriptions, visit: https://lab.dpdk.org/results/dashboard/preferences/subscriptions/