From mboxrd@z Thu Jan 1 00:00:00 1970 Return-Path: Received: from mails.dpdk.org (mails.dpdk.org [217.70.189.124]) by inbox.dpdk.org (Postfix) with ESMTP id 6D2F748B28 for ; Sun, 16 Nov 2025 21:21:21 +0100 (CET) Received: from mails.dpdk.org (localhost [127.0.0.1]) by mails.dpdk.org (Postfix) with ESMTP id 32CB5402D3; Sun, 16 Nov 2025 21:21:21 +0100 (CET) Received: from mail-il1-f227.google.com (mail-il1-f227.google.com [209.85.166.227]) by mails.dpdk.org (Postfix) with ESMTP id 6184A402D3 for ; Sun, 16 Nov 2025 21:21:20 +0100 (CET) Received: by mail-il1-f227.google.com with SMTP id e9e14a558f8ab-433217b58d9so13012075ab.1 for ; Sun, 16 Nov 2025 12:21:20 -0800 (PST) DKIM-Signature: v=1; a=rsa-sha256; c=relaxed/relaxed; d=iol.unh.edu; s=unh-iol; t=1763324479; x=1763929279; darn=dpdk.org; h=references:in-reply-to:cc:to:from:subject:message-id:date:from:to :cc:subject:date:message-id:reply-to; bh=wp8IqmiXea2gK07WajZF+zOwnjnRN0+j6qTMNxxCQGI=; b=VZV/6MYutfVfsTPxrEDDcjy9aLnB8jSKsUhaimrVhx2AOpoBoVHRxKjW5uMZy7XzjV rlJWjVyWPSguCMYsWfOPeIQpe7Asica/DsaCDxq4LIZLfc8/hdMDbiXywIYW2EW7KX8x 81A5gug1daPOymmujtx1Xp8CsX1th9BUfs+uc= X-Google-DKIM-Signature: v=1; a=rsa-sha256; c=relaxed/relaxed; d=1e100.net; s=20230601; t=1763324479; x=1763929279; h=references:in-reply-to:cc:to:from:subject:message-id:date:x-gm-gg :x-gm-message-state:from:to:cc:subject:date:message-id:reply-to; bh=wp8IqmiXea2gK07WajZF+zOwnjnRN0+j6qTMNxxCQGI=; b=nA+wRdcNd00mXd/gOooRYtTVAVMhzxSBEeLdixF5p2N5U0cc8+sQdrxN51d+Abxq8c 6kbZwuTgPSrJIT6sQYCTp6Sm0aOhR8Ces3AatiT0hXC/dNNDd72oQ7uO8YZbxEWXbXPH rJiwuY28jwJus2FZVpDmoQoF6F8D3HzPp0QCgNGJb5EcEg+M8Qi7wRFro7x1XIqOhXUl fV4WOuZQI/oWGK1FuiywKTnLYGh+Nw1cVMXPtJ+GBTQD21/KkepVTaNQ2TgAuFj++VWy c793Hj7k0iiowGssrAYTyumYp098ySuy3BrSBe3AljtzGmP0PwOtlEd858SGfvYJL2ip DGSA== X-Gm-Message-State: AOJu0YxUXDAqsUIqmMQlEhFWuvY0XmeMhd2uSvk6AqGKkzasoLThOvQA gvWUrcwonXXZeKzLb0owH+Jy5PcdHys3+hW6p9VHCyOx3tkn09Qf0/0cW5vE4R3KRQC103TtbSH ThHJi6aQ7GSm+xR1TF/PM77lfF4JFRtilhE0vi+adVPSV X-Gm-Gg: ASbGncus9/x6T/d0pStE2UhM7PYE4K03rcxPYopvKSYqwQAEVtrg6mq+kTaZzj8oYTp Vd4WTxpf7DVjR1cWZvat+6LGh33EsjKtMRNfDcig+QmhMHKwVd4oiRdR0K/UklD/HFeAvGlE2/e 11mV6QINP4usQUys3UICl+bQKTv8N/yhf5pGTJuX7MM0DpRCrlmAHj0arjjgH6KPBdWeq7Hl/7Y wd7ouAeLebcjxVMfMmDwipZTINVJ7NI6zGTbBEzklX++x43Bt5fTsGET0dOWBxsIbk49EbDZjTe dkOTHFMrwLUQmMxOn8rJWVJxowA6+/nNKEh1wFRk6cPOFApluP2KnfRsXA58NllWUymkOfeGGlU vv96DMfKztLITkt+do2TjxagHDv1f9lI= X-Google-Smtp-Source: AGHT+IFmeMACyhWdTbbXutr18g/VJdga28Wj5Cgg5w6+iaRzDAYP09ujpaqQp0T+r84xEoUWqBnzs7uNJAYe X-Received: by 2002:a05:6e02:3c86:b0:433:7b22:c2bd with SMTP id e9e14a558f8ab-4348c864268mr144038795ab.2.1763324479582; Sun, 16 Nov 2025 12:21:19 -0800 (PST) Received: from postal.iol.unh.edu (postal.iol.unh.edu. [132.177.123.84]) by smtp-relay.gmail.com with ESMTPS id e9e14a558f8ab-434839b238asm10326225ab.24.2025.11.16.12.21.19 (version=TLS1_2 cipher=ECDHE-ECDSA-AES128-GCM-SHA256 bits=128/128); Sun, 16 Nov 2025 12:21:19 -0800 (PST) X-Relaying-Domain: iol.unh.edu Date: Sun, 16 Nov 2025 12:21:19 -0800 (PST) Message-ID: <691a323f.050a0220.ea2aa.31e5SMTPIN_ADDED_MISSING@mx.google.com> Received: from [172.21.0.3] (unknown [172.18.0.240]) by postal.iol.unh.edu (Postfix) with ESMTP id BACE16051830; Sun, 16 Nov 2025 15:21:18 -0500 (EST) Subject: |SUCCESS| pw158838 [PATCH] node: lookup with RISC-V vector extension From: dpdklab@iol.unh.edu To: Test Report Cc: dpdk-test-reports@iol.unh.edu In-Reply-To: <20251116155001.2809998-1-sunyuechi@iscas.ac.cn> References: <20251116155001.2809998-1-sunyuechi@iscas.ac.cn> Content-Type: text/plain X-BeenThere: test-report@dpdk.org X-Mailman-Version: 2.1.29 Precedence: list List-Id: automatic DPDK test reports List-Unsubscribe: , List-Archive: List-Post: List-Help: List-Subscribe: , Errors-To: test-report-bounces@dpdk.org Test-Label: iol-unit-amd64-testing Test-Status: SUCCESS http://dpdk.org/patch/158838 _Testing PASS_ Submitter: Sun Yuechi Date: Sunday, November 16 2025 15:50:01 DPDK git baseline: Repo:dpdk Branch: master CommitID:be0112878b4fc3a1b918370ed2fe615c52039d77 158838 --> testing pass Upstream job id: Generic-VM-Unit-Test-DPDK#32626 Test environment and result as below: +-------------------------------+----------------+ | Environment | dpdk_unit_test | +===============================+================+ | CentOS Stream 10 | PASS | +-------------------------------+----------------+ | CentOS Stream 9 | PASS | +-------------------------------+----------------+ | Fedora Linux 40 | PASS | +-------------------------------+----------------+ | Windows Server 2022 | PASS | +-------------------------------+----------------+ | Red Hat Enterprise Linux 8.10 | PASS | +-------------------------------+----------------+ | Fedora Linux 42 | PASS | +-------------------------------+----------------+ | Debian GNU/Linux 12 | PASS | +-------------------------------+----------------+ | Ubuntu 20.04 | PASS | +-------------------------------+----------------+ | Fedora Linux 41 | PASS | +-------------------------------+----------------+ | Ubuntu 24.04 | PASS | +-------------------------------+----------------+ | Red Hat Enterprise Linux 9.5 | PASS | +-------------------------------+----------------+ | Ubuntu 22.04 | PASS | +-------------------------------+----------------+ CentOS Stream 10 Kernel: 5.15 Compiler: gcc gcc (GCC) 14.2.1 20250110 (Red Hat 14.2.1-8) CentOS Stream 9 Kernel: 5.15 Compiler: gcc gcc (GCC) 11.5.0 20240719 (Red Hat 11.5.0-11) Fedora Linux 40 Kernel: 5.15 Compiler: clang gcc (GCC) 14.2.1 20240912 (Red Hat 14.2.1-3) Windows Server 2022 Kernel: 10.0.20348.2031 Compiler: clang 15.0.7, gcc 14.1.0 (MinGW), and MSVC VS 19.39.33521 Red Hat Enterprise Linux 8.10 Kernel: 5.15 Compiler: gcc gcc (GCC) 8.5.0 20210514 (Red Hat 8.5.0-22) Fedora Linux 42 Kernel: 5.15 Compiler: clang gcc (GCC) 15.2.1 20250808 (Red Hat 15.2.1-1) Debian GNU/Linux 12 Kernel: 5.15 Compiler: gcc gcc (Debian 12.2.0-14+deb12u1) 12.2.0 Ubuntu 20.04 Kernel: 5.15 Compiler: gcc gcc (Ubuntu 9.4.0-1ubuntu1~20.04.2) 9.4.0 Fedora Linux 41 Kernel: 5.15 Compiler: clang gcc (GCC) 14.3.1 20250523 (Red Hat 14.3.1-1) Ubuntu 24.04 Kernel: 5.15 Compiler: gcc gcc (Ubuntu 13.3.0-6ubuntu2~24.04) 13.3.0 Red Hat Enterprise Linux 9.5 Kernel: 5.15 Compiler: gcc gcc (GCC) 11.5.0 20240719 (Red Hat 11.5.0-2) Ubuntu 22.04 Kernel: 5.15 Compiler: gcc gcc (Ubuntu 11.4.0-1ubuntu1~22.04) 11.4.0 To view detailed results, visit: https://lab.dpdk.org/results/dashboard/patchsets/34613/ UNH-IOL DPDK Community Lab To manage your email subscriptions, visit: https://lab.dpdk.org/results/dashboard/preferences/subscriptions/