From mboxrd@z Thu Jan 1 00:00:00 1970 Return-Path: Received: from mails.dpdk.org (mails.dpdk.org [217.70.189.124]) by inbox.dpdk.org (Postfix) with ESMTP id 03C3848B28 for ; Sun, 16 Nov 2025 21:29:17 +0100 (CET) Received: from mails.dpdk.org (localhost [127.0.0.1]) by mails.dpdk.org (Postfix) with ESMTP id D641B402D3; Sun, 16 Nov 2025 21:29:17 +0100 (CET) Received: from mail-io1-f99.google.com (mail-io1-f99.google.com [209.85.166.99]) by mails.dpdk.org (Postfix) with ESMTP id 6D4BB402D3 for ; Sun, 16 Nov 2025 21:29:17 +0100 (CET) Received: by mail-io1-f99.google.com with SMTP id ca18e2360f4ac-94903ea3766so35531839f.3 for ; Sun, 16 Nov 2025 12:29:17 -0800 (PST) DKIM-Signature: v=1; a=rsa-sha256; c=relaxed/relaxed; d=iol.unh.edu; s=unh-iol; t=1763324956; x=1763929756; darn=dpdk.org; h=references:in-reply-to:cc:to:from:subject:message-id:date:from:to :cc:subject:date:message-id:reply-to; bh=j//JGOoIWU78D4rcM4SC61h99ASiLquHmksU3rkCFCQ=; b=eugfLlGH3frlhKy3sSaeO4UNv5fOR05owAaQeEcZdu6PsWIcsWS63CKAQBRtuYCiDy ywF0fxERjJORy9/EFPM+sRkYULzDJNUI1C35qhsRySlJ7pc+t9He4RXhNKlpNzWLza26 hPWeTVnXbaD4mMGRPe9CQRzJV+dWOEglraWwE= X-Google-DKIM-Signature: v=1; a=rsa-sha256; c=relaxed/relaxed; d=1e100.net; s=20230601; t=1763324956; x=1763929756; h=references:in-reply-to:cc:to:from:subject:message-id:date:x-gm-gg :x-gm-message-state:from:to:cc:subject:date:message-id:reply-to; bh=j//JGOoIWU78D4rcM4SC61h99ASiLquHmksU3rkCFCQ=; b=aHxfX1O6gxuxTfOGn2UXuxl4SGy6yJp/ckd9LQqxcuY0WuSg9ac3tTyZ3rat8o8ecw ZfNPn9hK1Zd4wTUGAp/8FM4jremUGY41SKKg03UMYVwGeRzJscAcFabrxm2LPrknsKQ8 wY148SJO7L1Sf5lvRxRaEEDaUmfaEr/3yNQC5JgTXyrlG01KYxAhO6lSCmVniGuPyDIK K/UDAeFjhhvGJHY8pAeA0eLlH2LENnG2GzwXiIVKQocSWGZVmNUumFOxZaou3PoorXsx 57XRPkHXTDr+xfFnWJRY2EDFZQIHjpRR7HlKaKed/hc+AeLsvvl8dFCLMe/RGzfCzyG2 suGg== X-Gm-Message-State: AOJu0YzhORVJUXCBXeT8ruXeO+yKL/pwAbNmwvdaCFkL71rSbhPuSUNc wOCmW4VzM7az5aM0sTgztgMKFvUsJoKY9e/7Ign4vH1Mf4GNx0vcEJCZHfm+gFFlcQNtP+zW2cX Dc17DL4kSnxkaBeMG+BBtiuShejisfihbZyf13r3o/0C6HLcmJmSr1AIXfv6p X-Gm-Gg: ASbGncvsBllVr++M6U311UXWniocv9F6wSy/EjUPOLjpr0oxWWvPbdVKQR/P1vc0KD+ EdNYbGUwIhEFLb0EBJYWx/U+swH20z1tVEhCXPeI9olMO1mlF/B70wsZutf4gjktqa9fwSnbeeK NDWKin1k5iDx9qv0X2s2vdcFyfCowzgHOzQpMsibOUOqD3l6M+6wJGkLwFIq8qIbRjm36UVtx+v zr6p82XkSRMhj/kIjm7ppBi9psRsHDvGrEp1PaQcVmrGxNDMz8F2r9IONRs8EDW0+2CJ4mLN5+I tz7ixmXFFNc9lrsi3H/e7RJrPGyeEjtavCUtiB3/sb9YBqmFpj9Pipt4L28o/J1oJGHKdU+cFaU Kl9n7mTAf X-Google-Smtp-Source: AGHT+IE5yPWpLGo2MEuBWJsmP59JcwS7VLYeL2/k28Nz7ukuQRCBARsX+giWlIPNIsbL38go5Q6YU1IFCxPn X-Received: by 2002:a05:6638:c792:20b0:5b7:bd3f:ae00 with SMTP id 8926c6da1cb9f-5b7c9c55969mr5738001173.6.1763324956612; Sun, 16 Nov 2025 12:29:16 -0800 (PST) Received: from postal.iol.unh.edu (postal.iol.unh.edu. [2606:4100:3880:1234::84]) by smtp-relay.gmail.com with ESMTPS id 8926c6da1cb9f-5b7bd246b79sm700598173.5.2025.11.16.12.29.16 (version=TLS1_2 cipher=ECDHE-ECDSA-AES128-GCM-SHA256 bits=128/128); Sun, 16 Nov 2025 12:29:16 -0800 (PST) X-Relaying-Domain: iol.unh.edu Date: Sun, 16 Nov 2025 12:29:16 -0800 (PST) Message-ID: <691a341c.050a0220.f737f.38b8SMTPIN_ADDED_MISSING@mx.google.com> Received: from [172.21.0.2] (unknown [172.18.0.240]) by postal.iol.unh.edu (Postfix) with ESMTP id 23CCA6051830; Sun, 16 Nov 2025 15:29:16 -0500 (EST) Subject: |SUCCESS| pw158838 [PATCH] node: lookup with RISC-V vector extension From: dpdklab@iol.unh.edu To: Test Report Cc: dpdk-test-reports@iol.unh.edu In-Reply-To: <20251116155001.2809998-1-sunyuechi@iscas.ac.cn> References: <20251116155001.2809998-1-sunyuechi@iscas.ac.cn> Content-Type: text/plain X-BeenThere: test-report@dpdk.org X-Mailman-Version: 2.1.29 Precedence: list List-Id: automatic DPDK test reports List-Unsubscribe: , List-Archive: List-Post: List-Help: List-Subscribe: , Errors-To: test-report-bounces@dpdk.org Test-Label: iol-compile-amd64-testing Test-Status: SUCCESS http://dpdk.org/patch/158838 _Testing PASS_ Submitter: Sun Yuechi Date: Sunday, November 16 2025 15:50:01 DPDK git baseline: Repo:dpdk Branch: master CommitID:be0112878b4fc3a1b918370ed2fe615c52039d77 158838 --> testing pass Upstream job id: Generic-DPDK-Compile-Meson#445190 Test environment and result as below: +-------------------------------+-------------------+--------------------+------------------+-------------------------+----------------------+ | Environment | dpdk_msvc_compile | dpdk_meson_compile | dpdk_compile_ovs | dpdk_llvm_clang_compile | dpdk_mingw64_compile | +===============================+===================+====================+==================+=========================+======================+ | Windows Server 2022 | PASS | SKIPPED | SKIPPED | PASS | PASS | +-------------------------------+-------------------+--------------------+------------------+-------------------------+----------------------+ | FreeBSD 14.2 | SKIPPED | PASS | SKIPPED | SKIPPED | SKIPPED | +-------------------------------+-------------------+--------------------+------------------+-------------------------+----------------------+ | Red Hat Enterprise Linux 8.10 | SKIPPED | PASS | SKIPPED | SKIPPED | SKIPPED | +-------------------------------+-------------------+--------------------+------------------+-------------------------+----------------------+ | CentOS Stream 10 | SKIPPED | PASS | SKIPPED | SKIPPED | SKIPPED | +-------------------------------+-------------------+--------------------+------------------+-------------------------+----------------------+ | Debian GNU/Linux 12 | SKIPPED | PASS | SKIPPED | SKIPPED | SKIPPED | +-------------------------------+-------------------+--------------------+------------------+-------------------------+----------------------+ | CentOS Stream 9 | SKIPPED | PASS | SKIPPED | SKIPPED | SKIPPED | +-------------------------------+-------------------+--------------------+------------------+-------------------------+----------------------+ | openSUSE Leap 15.6 | SKIPPED | PASS | SKIPPED | SKIPPED | SKIPPED | +-------------------------------+-------------------+--------------------+------------------+-------------------------+----------------------+ | Fedora Linux 42 | SKIPPED | PASS | PASS | SKIPPED | SKIPPED | +-------------------------------+-------------------+--------------------+------------------+-------------------------+----------------------+ | Ubuntu 20.04 | SKIPPED | PASS | SKIPPED | SKIPPED | SKIPPED | +-------------------------------+-------------------+--------------------+------------------+-------------------------+----------------------+ | Red Hat Enterprise Linux 9.5 | SKIPPED | PASS | SKIPPED | SKIPPED | SKIPPED | +-------------------------------+-------------------+--------------------+------------------+-------------------------+----------------------+ | Ubuntu 22.04 | SKIPPED | PASS | SKIPPED | SKIPPED | SKIPPED | +-------------------------------+-------------------+--------------------+------------------+-------------------------+----------------------+ | Ubuntu 24.04 | SKIPPED | PASS | PASS | SKIPPED | SKIPPED | +-------------------------------+-------------------+--------------------+------------------+-------------------------+----------------------+ | Alpine Linux 3.22.0 | SKIPPED | PASS | SKIPPED | SKIPPED | SKIPPED | +-------------------------------+-------------------+--------------------+------------------+-------------------------+----------------------+ Windows Server 2022 Kernel: 10.0.20348.2031 Compiler: clang 15.0.7, gcc 14.1.0 (MinGW), and MSVC VS 19.39.33521 FreeBSD 14.2 Kernel: 14.2-RELEASE Compiler: clang 18.1.6 Red Hat Enterprise Linux 8.10 Kernel: 5.15 Compiler: gcc gcc (GCC) 8.5.0 20210514 (Red Hat 8.5.0-22) CentOS Stream 10 Kernel: 5.15 Compiler: gcc gcc (GCC) 14.2.1 20250110 (Red Hat 14.2.1-8) Debian GNU/Linux 12 Kernel: 5.15 Compiler: gcc gcc (Debian 12.2.0-14+deb12u1) 12.2.0 CentOS Stream 9 Kernel: 5.15 Compiler: gcc gcc (GCC) 11.5.0 20240719 (Red Hat 11.5.0-11) openSUSE Leap 15.6 Kernel: 5.15 Compiler: gcc gcc (SUSE Linux) 7.5.0 Fedora Linux 42 Kernel: 5.15 Compiler: clang gcc (GCC) 15.2.1 20250808 (Red Hat 15.2.1-1) Ubuntu 20.04 Kernel: 4.19 Compiler: gcc gcc (Ubuntu 9.4.0-1ubuntu1~20.04.2) 9.4.0 Red Hat Enterprise Linux 9.5 Kernel: 5.15 Compiler: gcc gcc (GCC) 11.5.0 20240719 (Red Hat 11.5.0-2) Ubuntu 22.04 Kernel: 5.15 Compiler: gcc gcc (Ubuntu 11.4.0-1ubuntu1~22.04) 11.4.0 Ubuntu 24.04 Kernel: 5.15 Compiler: gcc gcc (Ubuntu 13.3.0-6ubuntu2~24.04) 13.3.0 Alpine Linux 3.22.0 Kernel: 5.15 Compiler: gcc gcc (Alpine 14.2.0) 14.2.0 To view detailed results, visit: https://lab.dpdk.org/results/dashboard/patchsets/34613/ UNH-IOL DPDK Community Lab To manage your email subscriptions, visit: https://lab.dpdk.org/results/dashboard/preferences/subscriptions/