From mboxrd@z Thu Jan 1 00:00:00 1970 Return-Path: Received: from mails.dpdk.org (mails.dpdk.org [217.70.189.124]) by inbox.dpdk.org (Postfix) with ESMTP id A357F48B28 for ; Sun, 16 Nov 2025 21:37:40 +0100 (CET) Received: from mails.dpdk.org (localhost [127.0.0.1]) by mails.dpdk.org (Postfix) with ESMTP id 8E344402D3; Sun, 16 Nov 2025 21:37:40 +0100 (CET) Received: from mail-il1-f227.google.com (mail-il1-f227.google.com [209.85.166.227]) by mails.dpdk.org (Postfix) with ESMTP id 2EB76402D3 for ; Sun, 16 Nov 2025 21:37:39 +0100 (CET) Received: by mail-il1-f227.google.com with SMTP id e9e14a558f8ab-4349044be0eso16338615ab.1 for ; Sun, 16 Nov 2025 12:37:39 -0800 (PST) DKIM-Signature: v=1; a=rsa-sha256; c=relaxed/relaxed; d=iol.unh.edu; s=unh-iol; t=1763325458; x=1763930258; darn=dpdk.org; h=references:in-reply-to:cc:to:from:subject:message-id:date:from:to :cc:subject:date:message-id:reply-to; bh=oPb+xD9N84Y7sq3s9+mPSLVLE7lECvR+Q034yOMoH04=; b=eiH9orWlr8B5n/Kr5zw23qEOJhmyLmS3uyNYg5juHKPSuHyP1ZlfZ94UXs2RMBF2nG XTT+n6Loc3by651TzvWi7uYhmAPyer3uBuFkBsVMh5Ghr4DDUtEnBJs50dO2jHuEybWx UbGD1+wmtUYExnKmyl4TdzKqz/XCJDIi0C9NA= X-Google-DKIM-Signature: v=1; a=rsa-sha256; c=relaxed/relaxed; d=1e100.net; s=20230601; t=1763325458; x=1763930258; h=references:in-reply-to:cc:to:from:subject:message-id:date:x-gm-gg :x-gm-message-state:from:to:cc:subject:date:message-id:reply-to; bh=oPb+xD9N84Y7sq3s9+mPSLVLE7lECvR+Q034yOMoH04=; b=mcCR3q9nSjl7AOCovr6Df3fnwWtSO3VOASNAZ9I3ISeWslWY7uNw15ThXjAV/P9SHz aJObGXZHwd0Pv49sMhCDfPga1UN0mdVO9kEJD7eoaW5iNK+f1d+MdCnFduh/CGdco3BY nmLZ4ub5NLca1i0TDusqqcjj3E4LDmo4/wYx+imEA4w2zwy2VO1gR2zsFKsB+VrtIAp8 JE3N8SS4pjumwQktwhAXI2LF98M3w6fqEVyfTQKjLOxxESlfe3Uq2eTxCBFPp7TIrsSR q2MGtE0p6bSxhQU+yGzGyEkFT9547jLs0jSTKNLSXS8jVE3DpHGzkcQp4ARu5a4tho0Z kpwg== X-Gm-Message-State: AOJu0YwvNI9+QG4wNppf38AxWARHOO8/eFBXSzU6NW2Fo8vQYSeG/5sG E404fzfbKv/VyoOpCkP8NkrZW4CG9E0h4X35WX8Dyx4ujzBtTJW/zDimOFLQ0w1Bb9dqEYUCrAK gEYbnnJIQ7XxCAsjDhE+aBLosSrJgByfWDb+/qTxRj4ZzQKzBiUFFt1nC6cu4 X-Gm-Gg: ASbGnctq7/3ufy3O27D1ho/BpvK5L1i6ZVf3s8D+5bEOK8WOLoU4azWxQBv4RrhGHLv PJBoyGVC/AxV5LoWcA6h+osneCqT3FO5QPQhlF4oLkxjp517m2iog46e4j4ihBENpmdWL/sFB/l hLNL48BXHQOH5HYD/BGs+mOplf2c6Jgew6OlfbDoYzYvXJxEptCeedFeP3PE2/iOYGW8bHLe2ff LU7/Ar8jh/erY6sQB0GiWPy4nLbQIgDpmreHO9g555KWTN5F9FEzHlzfvLn+RjCzEA0JbJqFqTJ rHTic4ysqoUiu1rEcmiyRRrnfH60Mtp+iwIRaDkP0TEW3QCDMYKYXlWhoLJ5ZJTOddyZoyBxav9 LKpuovFqm X-Google-Smtp-Source: AGHT+IERXpnJvBDd14n2NEJkwLkt8JIXAn4rIv0/EnPK4nxMIpeFsLabGbWDbzLHp008KDyqaemyMk3pttWJ X-Received: by 2002:a05:6e02:1a0a:b0:433:7e2f:83c5 with SMTP id e9e14a558f8ab-4348c88f4e9mr142739835ab.3.1763325458480; Sun, 16 Nov 2025 12:37:38 -0800 (PST) Received: from postal.iol.unh.edu (postal.iol.unh.edu. [2606:4100:3880:1234::84]) by smtp-relay.gmail.com with ESMTPS id e9e14a558f8ab-434833c6059sm10128655ab.6.2025.11.16.12.37.38 (version=TLS1_2 cipher=ECDHE-ECDSA-AES128-GCM-SHA256 bits=128/128); Sun, 16 Nov 2025 12:37:38 -0800 (PST) X-Relaying-Domain: iol.unh.edu Date: Sun, 16 Nov 2025 12:37:38 -0800 (PST) Message-ID: <691a3612.050a0220.8c33d.1d97SMTPIN_ADDED_MISSING@mx.google.com> Received: from [172.21.0.2] (unknown [172.18.0.240]) by postal.iol.unh.edu (Postfix) with ESMTP id E30D16051830; Sun, 16 Nov 2025 15:37:37 -0500 (EST) Subject: |SUCCESS| pw158835 [PATCH] net/mlx5/hws: fix cap check for hash calc From: dpdklab@iol.unh.edu To: Test Report Cc: dpdk-test-reports@iol.unh.edu In-Reply-To: <20251116115925.158944-1-mkashani@nvidia.com> References: <20251116115925.158944-1-mkashani@nvidia.com> Content-Type: text/plain X-BeenThere: test-report@dpdk.org X-Mailman-Version: 2.1.29 Precedence: list List-Id: automatic DPDK test reports List-Unsubscribe: , List-Archive: List-Post: List-Help: List-Subscribe: , Errors-To: test-report-bounces@dpdk.org Test-Label: iol-unit-arm64-testing Test-Status: SUCCESS http://dpdk.org/patch/158835 _Testing PASS_ Submitter: Maayan Kashani Date: Sunday, November 16 2025 11:59:25 DPDK git baseline: Repo:dpdk-next-net-mlx Branch: master CommitID:ae657d56b1f0ea979b3f611edf28d773efc2ddcf 158835 --> testing pass Upstream job id: Generic-Unit-Test-DPDK#393394 Test environment and result as below: +------------------------------+----------------+--------------+------------------------------+---------------------------+ | Environment | dpdk_unit_test | lpm_autotest | cryptodev_sw_snow3g_autotest | cryptodev_sw_zuc_autotest | +==============================+================+==============+==============================+===========================+ | Debian GNU/Linux 12 | PASS | SKIPPED | SKIPPED | SKIPPED | +------------------------------+----------------+--------------+------------------------------+---------------------------+ | Fedora Linux 40 | PASS | SKIPPED | SKIPPED | SKIPPED | +------------------------------+----------------+--------------+------------------------------+---------------------------+ | CentOS Stream 10 | PASS | SKIPPED | SKIPPED | SKIPPED | +------------------------------+----------------+--------------+------------------------------+---------------------------+ | CentOS Stream 9 | PASS | SKIPPED | SKIPPED | SKIPPED | +------------------------------+----------------+--------------+------------------------------+---------------------------+ | Fedora Linux 42 | PASS | SKIPPED | SKIPPED | SKIPPED | +------------------------------+----------------+--------------+------------------------------+---------------------------+ | Ubuntu 24.04 | PASS | SKIPPED | SKIPPED | SKIPPED | +------------------------------+----------------+--------------+------------------------------+---------------------------+ | Ubuntu 20.04 | PASS | PASS | SKIPPED | SKIPPED | +------------------------------+----------------+--------------+------------------------------+---------------------------+ | Red Hat Enterprise Linux 9.5 | PASS | SKIPPED | SKIPPED | SKIPPED | +------------------------------+----------------+--------------+------------------------------+---------------------------+ | Fedora Linux 41 | PASS | SKIPPED | SKIPPED | SKIPPED | +------------------------------+----------------+--------------+------------------------------+---------------------------+ | Ubuntu 22.04 | PASS | SKIPPED | SKIPPED | SKIPPED | +------------------------------+----------------+--------------+------------------------------+---------------------------+ | Debian 12 (arm) | SKIPPED | SKIPPED | PASS | PASS | +------------------------------+----------------+--------------+------------------------------+---------------------------+ Debian GNU/Linux 12 Kernel: 5.4 Compiler: gcc gcc (Debian 12.2.0-14+deb12u1) 12.2.0 Fedora Linux 40 Kernel: 5.4 Compiler: gcc gcc (GCC) 14.2.1 20240912 (Red Hat 14.2.1-3) CentOS Stream 10 Kernel: 5.4 Compiler: gcc gcc (GCC) 14.2.1 20250110 (Red Hat 14.2.1-8) CentOS Stream 9 Kernel: 5.4 Compiler: gcc gcc (GCC) 11.5.0 20240719 (Red Hat 11.5.0-11) Fedora Linux 42 Kernel: 5.4 Compiler: gcc gcc (GCC) 15.2.1 20250808 (Red Hat 15.2.1-1) Ubuntu 24.04 Kernel: 5.4 Compiler: gcc gcc (Ubuntu 13.3.0-6ubuntu2~24.04) 13.3.0 Ubuntu 20.04 Kernel: 5.4 Compiler: gcc gcc (Ubuntu 9.4.0-1ubuntu1~20.04.2) 9.4.0 Red Hat Enterprise Linux 9.5 Kernel: 5.4 Compiler: gcc gcc (GCC) 11.5.0 20240719 (Red Hat 11.5.0-2) Fedora Linux 41 Kernel: 5.4 Compiler: clang gcc (GCC) 14.3.1 20250523 (Red Hat 14.3.1-1) Ubuntu 22.04 Kernel: 5.4 Compiler: gcc gcc (Ubuntu 11.4.0-1ubuntu1~22.04) 11.4.0 Debian 12 (arm) Kernel: Depends on container host Compiler: gcc (Debian 12.2.0-14) 12.2.0 To view detailed results, visit: https://lab.dpdk.org/results/dashboard/patchsets/34611/ UNH-IOL DPDK Community Lab To manage your email subscriptions, visit: https://lab.dpdk.org/results/dashboard/preferences/subscriptions/