From mboxrd@z Thu Jan 1 00:00:00 1970 Return-Path: Received: from mails.dpdk.org (mails.dpdk.org [217.70.189.124]) by inbox.dpdk.org (Postfix) with ESMTP id 6D73548B2A for ; Sun, 16 Nov 2025 22:44:44 +0100 (CET) Received: from mails.dpdk.org (localhost [127.0.0.1]) by mails.dpdk.org (Postfix) with ESMTP id 4951A402D3; Sun, 16 Nov 2025 22:44:44 +0100 (CET) Received: from mail-pj1-f98.google.com (mail-pj1-f98.google.com [209.85.216.98]) by mails.dpdk.org (Postfix) with ESMTP id 5EE58402D3 for ; Sun, 16 Nov 2025 22:44:43 +0100 (CET) Received: by mail-pj1-f98.google.com with SMTP id 98e67ed59e1d1-3436a97f092so4686566a91.3 for ; Sun, 16 Nov 2025 13:44:43 -0800 (PST) DKIM-Signature: v=1; a=rsa-sha256; c=relaxed/relaxed; d=iol.unh.edu; s=unh-iol; t=1763329482; x=1763934282; darn=dpdk.org; h=references:in-reply-to:cc:to:from:subject:message-id:date:from:to :cc:subject:date:message-id:reply-to; bh=SyinpfHQs+HxzFXawg96ZqyuhhJR5oYdRXX1Onk4oyU=; b=eQiRKz+85aRqzKDDg+tYMGK6PmYkLD6oEKQGrVNUh1TKUlH3d62TEF/FGJZo5ikrKY BYjIcj1SUurfQpgKAFGIbazAgRKZ4EIrXm7OwterOJs2jCJmNPyOhGR5z4kFPw6mWl1/ aZweGL98sF1axyfuKXLtYR2FeksBVwkDz7ilA= X-Google-DKIM-Signature: v=1; a=rsa-sha256; c=relaxed/relaxed; d=1e100.net; s=20230601; t=1763329482; x=1763934282; h=references:in-reply-to:cc:to:from:subject:message-id:date:x-gm-gg :x-gm-message-state:from:to:cc:subject:date:message-id:reply-to; bh=SyinpfHQs+HxzFXawg96ZqyuhhJR5oYdRXX1Onk4oyU=; b=coNoaNfNAwE4o5GCuOjnaNBJUN5xgx+Pjpdwuq5+RrJlrccjr4q9E5vRgIL5tyCbO3 kc3qPeaIfkMFWUDMi8KQ8KWsU5mkwYAM2XZdD5plp9fOtByMMK20T0McK0ultDj8DeRP jlrro28azbDe1I+xGouA4F7RqNLjKDB1aMsKwuSgCGPl+cVBWUn1dwhzFurjomIHokv7 vNghRA6j1RB5UT78//HOjBUCjSD+vDu75nnu477dI64O48z1EulxnbqsSVeDKnUM1IEh jQhxEfSuM1eriILFBOtukZkDy8oRQ+yEyV1eq7TQ5antBhV6Vcr75JrJAPO23yOwVzPi AzHg== X-Gm-Message-State: AOJu0Yzx9losKypyVEg0ZGuWHnUUbKN5bse3IeULCKrWgAbkjk7TATb8 pMjeYIS1e8i1Pv2xejm2YG0rdzX+zQsjR42gfMBJeoSZTvN6Q6UfOmyhxTs/2QSp+YnSLUtT5kW 60S/a9kpuqJYvvH84qPccfQK/FqsZYmvZUQU/ytT/CXFMF0OQmCXF12c+HfLS X-Gm-Gg: ASbGncuXnCAaAXz5q/sFL/O4XMWJzWTa6I4ErV/3qFhl1QdkJRr9FWsY4RAgjBCMDMQ +oJ4aDk3+TfAG4R2mWQiWgxlR9usHDkdCEgGXuZ/9OMUVH0vEj+6A0h6sKOAgXLk/rjZExyWanE S0AyLcxtERVGAsl0ovrwcTRoO6CUQHbCoCnGoJ9x2GbCtX4HywY4oiayc4cqr0F741eLzzqpZEZ 1EwHRjC4YBXtwL8JZ2LBWAF18RPVy1PZCZ8GW6i4ppYQa6/yHd1EFYSZujhHuJOq/FxjS3djTax UNQwFasvP9myfvU5m6z6javWYy/nvagZWfJ0GOjIx7KzFdObL01A6CMYLApwOaT+sYC8RPpbn3M 3sXliDkWi X-Google-Smtp-Source: AGHT+IEg5DDGdQoXibdfCLmE1oWJF4HS0naMInDtlVji7ogRtSuy0g8IcRtN3HBsBNqOdaMO6R93zmmimWBU X-Received: by 2002:a17:90b:350d:b0:341:d326:7354 with SMTP id 98e67ed59e1d1-343fa755661mr13413226a91.37.1763329482367; Sun, 16 Nov 2025 13:44:42 -0800 (PST) Received: from postal.iol.unh.edu (postal.iol.unh.edu. [2606:4100:3880:1234::84]) by smtp-relay.gmail.com with ESMTPS id 98e67ed59e1d1-343ed55580esm1548614a91.4.2025.11.16.13.44.42 (version=TLS1_2 cipher=ECDHE-ECDSA-AES128-GCM-SHA256 bits=128/128); Sun, 16 Nov 2025 13:44:42 -0800 (PST) X-Relaying-Domain: iol.unh.edu Date: Sun, 16 Nov 2025 13:44:42 -0800 (PST) Message-ID: <691a45ca.170a0220.38aa50.e408SMTPIN_ADDED_MISSING@mx.google.com> Received: from [172.21.0.3] (unknown [172.18.0.240]) by postal.iol.unh.edu (Postfix) with ESMTP id 4810760003E8; Sun, 16 Nov 2025 16:44:41 -0500 (EST) Subject: |SUCCESS| pw158837 [PATCH] [v2] app/testpmd: fix flex item link pars From: dpdklab@iol.unh.edu To: Test Report Cc: dpdk-test-reports@iol.unh.edu, Stephen Hemminger In-Reply-To: <20251116121437.159702-1-mkashani@nvidia.com> References: <20251116121437.159702-1-mkashani@nvidia.com> Content-Type: text/plain X-BeenThere: test-report@dpdk.org X-Mailman-Version: 2.1.29 Precedence: list List-Id: automatic DPDK test reports List-Unsubscribe: , List-Archive: List-Post: List-Help: List-Subscribe: , Errors-To: test-report-bounces@dpdk.org Test-Label: iol-unit-arm64-testing Test-Status: SUCCESS http://dpdk.org/patch/158837 _Testing PASS_ Submitter: Maayan Kashani Date: Sunday, November 16 2025 12:14:37 DPDK git baseline: Repo:dpdk-next-net Branch: master CommitID:18d8a8909b8ed6b0a4bd8f99971da74ebba792e2 158837 --> testing pass Upstream job id: Generic-Unit-Test-DPDK#393434 Test environment and result as below: +------------------------------+--------------+------------------------------+---------------------------+----------------+ | Environment | lpm_autotest | cryptodev_sw_snow3g_autotest | cryptodev_sw_zuc_autotest | dpdk_unit_test | +==============================+==============+==============================+===========================+================+ | Ubuntu 20.04 | PASS | SKIPPED | SKIPPED | PASS | +------------------------------+--------------+------------------------------+---------------------------+----------------+ | Debian 12 (arm) | SKIPPED | PASS | PASS | SKIPPED | +------------------------------+--------------+------------------------------+---------------------------+----------------+ | CentOS Stream 10 | SKIPPED | SKIPPED | SKIPPED | PASS | +------------------------------+--------------+------------------------------+---------------------------+----------------+ | Fedora Linux 40 | SKIPPED | SKIPPED | SKIPPED | PASS | +------------------------------+--------------+------------------------------+---------------------------+----------------+ | Fedora Linux 41 | SKIPPED | SKIPPED | SKIPPED | PASS | +------------------------------+--------------+------------------------------+---------------------------+----------------+ | Fedora Linux 42 | SKIPPED | SKIPPED | SKIPPED | PASS | +------------------------------+--------------+------------------------------+---------------------------+----------------+ | Debian GNU/Linux 12 | SKIPPED | SKIPPED | SKIPPED | PASS | +------------------------------+--------------+------------------------------+---------------------------+----------------+ | CentOS Stream 9 | SKIPPED | SKIPPED | SKIPPED | PASS | +------------------------------+--------------+------------------------------+---------------------------+----------------+ | Red Hat Enterprise Linux 9.5 | SKIPPED | SKIPPED | SKIPPED | PASS | +------------------------------+--------------+------------------------------+---------------------------+----------------+ | Ubuntu 22.04 | SKIPPED | SKIPPED | SKIPPED | PASS | +------------------------------+--------------+------------------------------+---------------------------+----------------+ | Ubuntu 24.04 | SKIPPED | SKIPPED | SKIPPED | PASS | +------------------------------+--------------+------------------------------+---------------------------+----------------+ Ubuntu 20.04 Kernel: 5.4 Compiler: gcc gcc (Ubuntu 9.4.0-1ubuntu1~20.04.2) 9.4.0 Debian 12 (arm) Kernel: Depends on container host Compiler: gcc (Debian 12.2.0-14) 12.2.0 CentOS Stream 10 Kernel: 5.4 Compiler: gcc gcc (GCC) 14.2.1 20250110 (Red Hat 14.2.1-8) Fedora Linux 40 Kernel: 5.4 Compiler: clang gcc (GCC) 14.2.1 20240912 (Red Hat 14.2.1-3) Fedora Linux 41 Kernel: 5.4 Compiler: clang gcc (GCC) 14.3.1 20250523 (Red Hat 14.3.1-1) Fedora Linux 42 Kernel: 5.4 Compiler: gcc gcc (GCC) 15.2.1 20250808 (Red Hat 15.2.1-1) Debian GNU/Linux 12 Kernel: 5.4 Compiler: gcc gcc (Debian 12.2.0-14+deb12u1) 12.2.0 CentOS Stream 9 Kernel: 5.4 Compiler: gcc gcc (GCC) 11.5.0 20240719 (Red Hat 11.5.0-11) Red Hat Enterprise Linux 9.5 Kernel: 5.4 Compiler: gcc gcc (GCC) 11.5.0 20240719 (Red Hat 11.5.0-2) Ubuntu 22.04 Kernel: 5.4 Compiler: gcc gcc (Ubuntu 11.4.0-1ubuntu1~22.04) 11.4.0 Ubuntu 24.04 Kernel: 5.4 Compiler: gcc gcc (Ubuntu 13.3.0-6ubuntu2~24.04) 13.3.0 To view detailed results, visit: https://lab.dpdk.org/results/dashboard/patchsets/34612/ UNH-IOL DPDK Community Lab To manage your email subscriptions, visit: https://lab.dpdk.org/results/dashboard/preferences/subscriptions/