From mboxrd@z Thu Jan 1 00:00:00 1970 Return-Path: Received: from mails.dpdk.org (mails.dpdk.org [217.70.189.124]) by inbox.dpdk.org (Postfix) with ESMTP id 1A8E648B2A for ; Sun, 16 Nov 2025 23:40:38 +0100 (CET) Received: from mails.dpdk.org (localhost [127.0.0.1]) by mails.dpdk.org (Postfix) with ESMTP id E9E8A402B9; Sun, 16 Nov 2025 23:40:37 +0100 (CET) Received: from mail-pl1-f226.google.com (mail-pl1-f226.google.com [209.85.214.226]) by mails.dpdk.org (Postfix) with ESMTP id 01647402B9 for ; Sun, 16 Nov 2025 23:40:35 +0100 (CET) Received: by mail-pl1-f226.google.com with SMTP id d9443c01a7336-2984dfae0acso48888105ad.0 for ; Sun, 16 Nov 2025 14:40:35 -0800 (PST) DKIM-Signature: v=1; a=rsa-sha256; c=relaxed/relaxed; d=iol.unh.edu; s=unh-iol; t=1763332835; x=1763937635; darn=dpdk.org; h=references:in-reply-to:cc:to:from:subject:message-id:date:from:to :cc:subject:date:message-id:reply-to; bh=Win9P/43OAnDsbyLsUcvhW8xYZ44nDsf46o31xmrlRg=; b=SUZhcTeOh00nuiEMUy4XgG7aKmc0YU92vIjOFT4rmZ99GqBoR42E+matowaPq/04wx h+htmVgzW2NoW6J7UkLr+kqy7QJOJP5up/tDIkTeh5jzMpgGwynhdNHfmgDIEf8rTM6Q QrxxuBRlbQxAGuvkc8ASwptDtIg2TLLb7GfLA= X-Google-DKIM-Signature: v=1; a=rsa-sha256; c=relaxed/relaxed; d=1e100.net; s=20230601; t=1763332835; x=1763937635; h=references:in-reply-to:cc:to:from:subject:message-id:date:x-gm-gg :x-gm-message-state:from:to:cc:subject:date:message-id:reply-to; bh=Win9P/43OAnDsbyLsUcvhW8xYZ44nDsf46o31xmrlRg=; b=gDlNoe6KZ4OEzyU1B/IA7as8aemDdBQ6U7Ale9lK3cTM2aq6hbt/rYYP7nC2k8NA7P femXnE+mcV+9GUcaPg3S/0xJzL+i40irTS3Sq38Vz4/1p5M6yXKRmBBDqCNK2O0iWPYP FcQKDri7JaCTkTxYdH4Yfx9k79uBXimyufwDOF9fBEdbTWxeu1178sf/XB9KpMPyVT6y 3Ogxyz4Cxg0TJsc1VMfX63Nf0hRMEs+k9jxpKpOhpMMrASb/gukHOsOBtYkjvJNxfhjR XeqYBhO9L4/dd0fawkn4rU+axYyVpJ+6KQO/4hi/7dCOKjexIBbo7AcWoZ8P1rKlGF8H ZlzA== X-Gm-Message-State: AOJu0YznRVGXmcJ2/6uC+BOR68pI1n5i9ogxhhcQ1h27Tkjdf6JstcUP qVe2ld0T2SSX2RN4TV+8yzyQXnpTexa+/V6sfdfU9qs1xZyZMrsSFYJ77CTsK6cOG8RMVPdLNys tUFnBJelq+xJ4sFML4oKWxPK/Z6vgOqyOuOde3BgQ+y1/MEej8D2SjuAiY8Tv X-Gm-Gg: ASbGncsq3UMG4vw8RFcIl0Wq9yDoGvVy1KLYM6p02lC8eNuHBjTZZc/BVPqK4FIUuzC 3/SnimHPKlpYNb6zhGuG8Y+sEa3Njisk11B5gcSVJIQK+nMIaOJUz8agxfxpiibwJrvpQfR9Kay gVIwQ90j0hb2w7LiP9UVaniz26C32DhXub1erBtTD38VUXMsUrWB8BHABJhs1ppDyczTiQSdjOE rXokwgIUFfbHev2NKuWJT2CN7rwdO86TYYCP1mAT10aD7TmdOsDEfay2rvztX990gkGKPsvTPh+ WnqHIwHZABXO0MdOYhA+GePl6jTRFPpPaG4Ai2CIFM4z9gaKBDimnkjj3E0LmODk6vFdYuJR1Zg vu1FACod5 X-Google-Smtp-Source: AGHT+IF85MXeLU5MgWNdgTKz0QiQyX/fSUyvvq/mnObisEUzYDZrgmuDfhhTFb+JI//pRAvtaEc9z6gTAoPt X-Received: by 2002:a17:902:ebd2:b0:295:7f1d:b034 with SMTP id d9443c01a7336-2986a6b851dmr111005585ad.4.1763332835093; Sun, 16 Nov 2025 14:40:35 -0800 (PST) Received: from postal.iol.unh.edu (postal.iol.unh.edu. [2606:4100:3880:1234::84]) by smtp-relay.gmail.com with ESMTPS id d9443c01a7336-2985c244ea3sm13476595ad.18.2025.11.16.14.40.34 (version=TLS1_2 cipher=ECDHE-ECDSA-AES128-GCM-SHA256 bits=128/128); Sun, 16 Nov 2025 14:40:35 -0800 (PST) X-Relaying-Domain: iol.unh.edu Date: Sun, 16 Nov 2025 14:40:35 -0800 (PST) Message-ID: <691a52e3.170a0220.1fc12b.4c17SMTPIN_ADDED_MISSING@mx.google.com> Received: from [172.21.0.2] (unknown [172.18.0.240]) by postal.iol.unh.edu (Postfix) with ESMTP id F2758604D420; Sun, 16 Nov 2025 17:40:33 -0500 (EST) Subject: |SUCCESS| pw158838 [PATCH] node: lookup with RISC-V vector extension From: dpdklab@iol.unh.edu To: Test Report Cc: dpdk-test-reports@iol.unh.edu In-Reply-To: <20251116155001.2809998-1-sunyuechi@iscas.ac.cn> References: <20251116155001.2809998-1-sunyuechi@iscas.ac.cn> Content-Type: text/plain X-BeenThere: test-report@dpdk.org X-Mailman-Version: 2.1.29 Precedence: list List-Id: automatic DPDK test reports List-Unsubscribe: , List-Archive: List-Post: List-Help: List-Subscribe: , Errors-To: test-report-bounces@dpdk.org Test-Label: iol-unit-arm64-testing Test-Status: SUCCESS http://dpdk.org/patch/158838 _Testing PASS_ Submitter: Sun Yuechi Date: Sunday, November 16 2025 15:50:01 DPDK git baseline: Repo:dpdk Branch: master CommitID:be0112878b4fc3a1b918370ed2fe615c52039d77 158838 --> testing pass Upstream job id: Generic-Unit-Test-DPDK#393455 Test environment and result as below: +------------------------------+------------------------------+---------------------------+--------------+----------------+ | Environment | cryptodev_sw_snow3g_autotest | cryptodev_sw_zuc_autotest | lpm_autotest | dpdk_unit_test | +==============================+==============================+===========================+==============+================+ | Debian 12 (arm) | PASS | PASS | SKIPPED | SKIPPED | +------------------------------+------------------------------+---------------------------+--------------+----------------+ | Ubuntu 20.04 | SKIPPED | SKIPPED | PASS | PASS | +------------------------------+------------------------------+---------------------------+--------------+----------------+ | Ubuntu 22.04 | SKIPPED | SKIPPED | SKIPPED | PASS | +------------------------------+------------------------------+---------------------------+--------------+----------------+ | CentOS Stream 10 | SKIPPED | SKIPPED | SKIPPED | PASS | +------------------------------+------------------------------+---------------------------+--------------+----------------+ | CentOS Stream 9 | SKIPPED | SKIPPED | SKIPPED | PASS | +------------------------------+------------------------------+---------------------------+--------------+----------------+ | Fedora Linux 42 | SKIPPED | SKIPPED | SKIPPED | PASS | +------------------------------+------------------------------+---------------------------+--------------+----------------+ | Fedora Linux 40 | SKIPPED | SKIPPED | SKIPPED | PASS | +------------------------------+------------------------------+---------------------------+--------------+----------------+ | Fedora Linux 41 | SKIPPED | SKIPPED | SKIPPED | PASS | +------------------------------+------------------------------+---------------------------+--------------+----------------+ | Debian GNU/Linux 12 | SKIPPED | SKIPPED | SKIPPED | PASS | +------------------------------+------------------------------+---------------------------+--------------+----------------+ | Red Hat Enterprise Linux 9.5 | SKIPPED | SKIPPED | SKIPPED | PASS | +------------------------------+------------------------------+---------------------------+--------------+----------------+ | Ubuntu 24.04 | SKIPPED | SKIPPED | SKIPPED | PASS | +------------------------------+------------------------------+---------------------------+--------------+----------------+ Debian 12 (arm) Kernel: Depends on container host Compiler: gcc (Debian 12.2.0-14) 12.2.0 Ubuntu 20.04 Kernel: 5.4 Compiler: gcc gcc (Ubuntu 9.4.0-1ubuntu1~20.04.2) 9.4.0 Ubuntu 22.04 Kernel: 5.15 Compiler: gcc gcc (Ubuntu 11.4.0-1ubuntu1~22.04.2) 11.4.0 CentOS Stream 10 Kernel: 5.4 Compiler: gcc gcc (GCC) 14.2.1 20250110 (Red Hat 14.2.1-8) CentOS Stream 9 Kernel: 5.4 Compiler: gcc gcc (GCC) 11.5.0 20240719 (Red Hat 11.5.0-11) Fedora Linux 42 Kernel: 5.4 Compiler: clang gcc (GCC) 15.2.1 20250808 (Red Hat 15.2.1-1) Fedora Linux 40 Kernel: 5.4 Compiler: gcc gcc (GCC) 14.2.1 20240912 (Red Hat 14.2.1-3) Fedora Linux 41 Kernel: 5.4 Compiler: clang gcc (GCC) 14.3.1 20250523 (Red Hat 14.3.1-1) Debian GNU/Linux 12 Kernel: 5.4 Compiler: gcc gcc (Debian 12.2.0-14+deb12u1) 12.2.0 Red Hat Enterprise Linux 9.5 Kernel: 5.4 Compiler: gcc gcc (GCC) 11.5.0 20240719 (Red Hat 11.5.0-2) Ubuntu 24.04 Kernel: 5.4 Compiler: gcc gcc (Ubuntu 13.3.0-6ubuntu2~24.04) 13.3.0 To view detailed results, visit: https://lab.dpdk.org/results/dashboard/patchsets/34613/ UNH-IOL DPDK Community Lab To manage your email subscriptions, visit: https://lab.dpdk.org/results/dashboard/preferences/subscriptions/