From mboxrd@z Thu Jan 1 00:00:00 1970 Return-Path: Received: from mails.dpdk.org (mails.dpdk.org [217.70.189.124]) by inbox.dpdk.org (Postfix) with ESMTP id 0062C48B2A for ; Sun, 16 Nov 2025 23:50:41 +0100 (CET) Received: from mails.dpdk.org (localhost [127.0.0.1]) by mails.dpdk.org (Postfix) with ESMTP id D5920402B9; Sun, 16 Nov 2025 23:50:41 +0100 (CET) Received: from mail-il1-f226.google.com (mail-il1-f226.google.com [209.85.166.226]) by mails.dpdk.org (Postfix) with ESMTP id 3ECE3402B9 for ; Sun, 16 Nov 2025 23:50:40 +0100 (CET) Received: by mail-il1-f226.google.com with SMTP id e9e14a558f8ab-434709e7cc9so16782495ab.1 for ; Sun, 16 Nov 2025 14:50:40 -0800 (PST) DKIM-Signature: v=1; a=rsa-sha256; c=relaxed/relaxed; d=iol.unh.edu; s=unh-iol; t=1763333439; x=1763938239; darn=dpdk.org; h=references:in-reply-to:cc:to:from:subject:message-id:date:from:to :cc:subject:date:message-id:reply-to; bh=nf6MpV3T3u+/BRDMyroDB23QWtd4uMmjR7o4aWhk3es=; b=XWaFBdXbCORZ3Tf3VTzf1fWQICy0ZLJL6hxRyoKkCbWTaBxX3y3VikFDMNrtIID5RA iKKAN9PE+Ft+005H52teo5hwaYfgRZqyfJsaNzD9yXqorC0uoB6KadVqahpcVHlvuGA4 L/HaYPMWphhA9bIY+nVm1iKrC0eMjrnqV5eTo= X-Google-DKIM-Signature: v=1; a=rsa-sha256; c=relaxed/relaxed; d=1e100.net; s=20230601; t=1763333439; x=1763938239; h=references:in-reply-to:cc:to:from:subject:message-id:date:x-gm-gg :x-gm-message-state:from:to:cc:subject:date:message-id:reply-to; bh=nf6MpV3T3u+/BRDMyroDB23QWtd4uMmjR7o4aWhk3es=; b=kObLP6dVr86eb24qz6k2Wt3yLi6KwTkc1d0N/xw3QwJdMv2Iw74JlQ/yYnMs2Uz4Kn guN8VeVhsfTpo0MfnewNl80p+fECxuFHadY8ci4vWtM6XLE/+cIqbs+DRw4i8tUDtk2Z Gd4Mrw0UpjroxgOFEe/455QDb5Lm1aqO+ItSSSTtdnJm/dDw9mq3/MpVeY3QTwVY26JZ ay6v2IKTA7LHJNQTdcFBzONsMcKn1LCS3kxt+750NMC66XtU+0gH0oPTzxzsakWSUm1q 6oLBqQSJBNZrYaNEJmEsnQ9fp+e0OhuTlILafFhNIksox5ZjNuTWQyDTadNEu+SmAj/3 GWVA== X-Gm-Message-State: AOJu0YyZjsyAV+VU6SW6ZAqQn0SOAmOW0OFs3PDQscMvp0G5yu9SSGQT 1UO+HeJXxpK/9Rq9iDYgdUz7MG+VqWhLN1Tff10ToFP8BIoSn49Q6VbAWfWUJ15MA4E3kG4hDwc hlIIyB6O63dFF/ZM4dhHmB6OVfy7YHqSiklM0tXfTP48Y8w88mNYYpmEOpiGA X-Gm-Gg: ASbGncvQ2DKDbfe1J9k7de3c4fO7bCp5vSNmojjvxTm1ZlU7198Cm/f+ea4X5S14a3u nLBb35BRcKngITsK6iW09QIF6lFGvwEUcloEHRiJ0xIzVzrWv6464OOuiyPOAIHZcsEGOUUhEAP 48cRFB0Qyj/TqGMIK3ZSB+qCcAid/PKIHa/zX5N+I19o58eFZpq36a5MJ9vhOC1TDpFiqQkzDXL B2+cYr9ldYT/d+ota26mTkJVk1kFlOBoKeHmtrLYAtr6HJ1KMU+1xCO7KPScTf4e66CcgrLqTbq jA32g8QneaSx8SOJIWbVvbvvVm/DcNCiemNKiO5S/JvFMDRmFHUQT/hjp84NXZ8xjjtJFqNnBmE MEQpTz84O X-Google-Smtp-Source: AGHT+IFtyMiMxn5xn8kVokiBqMjXCd8svsE3i5RenTTRJxa0GEdfBHftX5bTbI31SRBJYmTnDr84u87JZoWw X-Received: by 2002:a05:6e02:dd2:b0:434:96ea:ff65 with SMTP id e9e14a558f8ab-43496eb01b5mr68146935ab.38.1763333439484; Sun, 16 Nov 2025 14:50:39 -0800 (PST) Received: from postal.iol.unh.edu (postal.iol.unh.edu. [2606:4100:3880:1234::84]) by smtp-relay.gmail.com with ESMTPS id e9e14a558f8ab-434833ebfd3sm10279915ab.10.2025.11.16.14.50.39 (version=TLS1_2 cipher=ECDHE-ECDSA-AES128-GCM-SHA256 bits=128/128); Sun, 16 Nov 2025 14:50:39 -0800 (PST) X-Relaying-Domain: iol.unh.edu Date: Sun, 16 Nov 2025 14:50:39 -0800 (PST) Message-ID: <691a553f.920a0220.a3df1.3905SMTPIN_ADDED_MISSING@mx.google.com> Received: from [172.21.0.3] (unknown [172.18.0.240]) by postal.iol.unh.edu (Postfix) with ESMTP id 0007260003E8; Sun, 16 Nov 2025 17:50:38 -0500 (EST) Subject: |SUCCESS| pw158838 [PATCH] node: lookup with RISC-V vector extension From: dpdklab@iol.unh.edu To: Test Report Cc: dpdk-test-reports@iol.unh.edu In-Reply-To: <20251116155001.2809998-1-sunyuechi@iscas.ac.cn> References: <20251116155001.2809998-1-sunyuechi@iscas.ac.cn> Content-Type: text/plain X-BeenThere: test-report@dpdk.org X-Mailman-Version: 2.1.29 Precedence: list List-Id: automatic DPDK test reports List-Unsubscribe: , List-Archive: List-Post: List-Help: List-Subscribe: , Errors-To: test-report-bounces@dpdk.org Test-Label: iol-compile-arm64-testing Test-Status: SUCCESS http://dpdk.org/patch/158838 _Testing PASS_ Submitter: Sun Yuechi Date: Sunday, November 16 2025 15:50:01 DPDK git baseline: Repo:dpdk Branch: master CommitID:be0112878b4fc3a1b918370ed2fe615c52039d77 158838 --> testing pass Upstream job id: Generic-DPDK-Compile-Meson#445178 Test environment and result as below: +------------------------------+--------------------+ | Environment | dpdk_meson_compile | +==============================+====================+ | Fedora Linux 42 | PASS | +------------------------------+--------------------+ | Red Hat Enterprise Linux 9.5 | PASS | +------------------------------+--------------------+ | Debian GNU/Linux 12 | PASS | +------------------------------+--------------------+ | Ubuntu 20.04 | PASS | +------------------------------+--------------------+ | CentOS Stream 10 | PASS | +------------------------------+--------------------+ | Ubuntu 24.04 | PASS | +------------------------------+--------------------+ | CentOS Stream 9 | PASS | +------------------------------+--------------------+ | Ubuntu 22.04 | PASS | +------------------------------+--------------------+ Fedora Linux 42 Kernel: 5.4 Compiler: gcc gcc (GCC) 15.2.1 20250808 (Red Hat 15.2.1-1) Red Hat Enterprise Linux 9.5 Kernel: 5.4 Compiler: gcc gcc (GCC) 11.5.0 20240719 (Red Hat 11.5.0-2) Debian GNU/Linux 12 Kernel: 5.4 Compiler: gcc gcc (Debian 12.2.0-14+deb12u1) 12.2.0 Ubuntu 20.04 Kernel: 5.4 Compiler: gcc gcc (Ubuntu 9.4.0-1ubuntu1~20.04.2) 9.4.0 CentOS Stream 10 Kernel: 5.4 Compiler: gcc gcc (GCC) 14.2.1 20250110 (Red Hat 14.2.1-8) Ubuntu 24.04 Kernel: 5.4 Compiler: gcc gcc (Ubuntu 13.3.0-6ubuntu2~24.04) 13.3.0 CentOS Stream 9 Kernel: 5.4 Compiler: gcc gcc (GCC) 11.5.0 20240719 (Red Hat 11.5.0-11) Ubuntu 22.04 Kernel: 5.4 Compiler: gcc gcc (Ubuntu 11.4.0-1ubuntu1~22.04) 11.4.0 To view detailed results, visit: https://lab.dpdk.org/results/dashboard/patchsets/34613/ UNH-IOL DPDK Community Lab To manage your email subscriptions, visit: https://lab.dpdk.org/results/dashboard/preferences/subscriptions/