From mboxrd@z Thu Jan 1 00:00:00 1970 Return-Path: Received: from mails.dpdk.org (mails.dpdk.org [217.70.189.124]) by inbox.dpdk.org (Postfix) with ESMTP id CC8CB48B2B for ; Mon, 17 Nov 2025 07:58:31 +0100 (CET) Received: from mails.dpdk.org (localhost [127.0.0.1]) by mails.dpdk.org (Postfix) with ESMTP id A2BC1402A1; Mon, 17 Nov 2025 07:58:31 +0100 (CET) Received: from mail-qv1-f97.google.com (mail-qv1-f97.google.com [209.85.219.97]) by mails.dpdk.org (Postfix) with ESMTP id AE48B402A1 for ; Mon, 17 Nov 2025 07:58:29 +0100 (CET) Received: by mail-qv1-f97.google.com with SMTP id 6a1803df08f44-8804ca2a730so55503106d6.2 for ; Sun, 16 Nov 2025 22:58:29 -0800 (PST) DKIM-Signature: v=1; a=rsa-sha256; c=relaxed/relaxed; d=iol.unh.edu; s=unh-iol; t=1763362709; x=1763967509; darn=dpdk.org; h=cc:to:from:subject:message-id:date:from:to:cc:subject:date :message-id:reply-to; bh=is/biBcGffgq2p4bFU7vn96a1guZCyG0W0FW5bLzp3g=; b=BJl678n59RdHDAVVk7ePJNEab4f41rsO5UTHTO7rGr9MjdontTGURKSJhOkorbiUwI t+FRHwrsXGdIYCOWuMn7tZAIE9LQLEQ7a1me7Io0FvYvSZ3TuSZZ/2HzmT1j6aW/x4+C 2/8sH6lYPfxwEXoFERUIY1h66WuHPeMbZxls0= X-Google-DKIM-Signature: v=1; a=rsa-sha256; c=relaxed/relaxed; d=1e100.net; s=20230601; t=1763362709; x=1763967509; h=cc:to:from:subject:message-id:date:x-gm-gg:x-gm-message-state:from :to:cc:subject:date:message-id:reply-to; bh=is/biBcGffgq2p4bFU7vn96a1guZCyG0W0FW5bLzp3g=; b=v0EQQ1Fj03hzW2GSNxhZKFgbgB8Al22MCyRIoSWtN1q1L43vW5vzhY+PLbGULZq07K O1R2H1XJu2GJOQxUI9cTPNbOUxAE2Oq5YS8BrjSHZJE4k0QMp78TDjLkzPa5lYxib6Qz Cu1DUWsY2NQWFKEvMC4Zvrr623HYPuco8nZXY6dWuzThIU6uOC4dq2AWVJGtHCr7r8Qo 6OQTZdJv3fBCov2nKmRz4o1pxpimhqHD678PORiWwS2EJ73N7WvqKX3BjbbVumjpRulY 2/kIdK1BCrPJm23W9mhIG0rZVSP62WRbkzUMBjABS7cDjrspBD5wYAaJCyQX1jQ0DjpH 0T5A== X-Gm-Message-State: AOJu0YxAzvgNPYZs2JPA0r9SO/a5UgghU8McrMLe1+Nyzp4+J7vJkxc0 DboFlCvtZ3J7N2sryNuSaIrup0kxRvWRtOqSeKvWOVhdBmZ7jXKKT4BHXkNDkV5h/oe8MJO4igq /Tid/BUiaJrmKSaQXn5+7hO9KI+YKd0VlbmguuNSSDI9dUODMzeSc X-Gm-Gg: ASbGncsQoCAGkk8bN6Grobw3ICRhih/ZzUov672WSFY6MB9rYiqWejFTXkWj+79falC IkDguDwB5ya6k5S005tv+D1qb+ik7sCgKYrtiQ/Appodsreh7CWrLxrcspe8EekVi70pAnmtbWA YnMpVHZcQ+qh41MVmYmqSri6KWPRj1PMfsx6YNX4kvhC21GeVZK7ITa+qs6habvVv2+RJ4rnlyI 2WETxQ9ckejMd4Itr8uonolttYtt0NpZtgUDrLUqtWVvtwNcfa5VEpceQmLi+DXzuSL1V6ByGwZ sVFwDc/hlIT16MzCYoV+M/wLywGdIbxlnWhW+ZG5v9Y5q6eApjC09ygmFeB1mxDfBO2W3/2LYXq e068Q1aGQ X-Google-Smtp-Source: AGHT+IH5nfZGhsPTdJZ44fwkX1g5tu0TB07jVCOeE7v6rCXYAnGN8vzTuv9qRZouH82ukcHhPvFX4J0kjNC3 X-Received: by 2002:a05:6214:508b:b0:882:49f4:da1e with SMTP id 6a1803df08f44-882926ab3cemr144732916d6.54.1763362708831; Sun, 16 Nov 2025 22:58:28 -0800 (PST) Received: from postal.iol.unh.edu (postal.iol.unh.edu. [2606:4100:3880:1234::84]) by smtp-relay.gmail.com with ESMTPS id 6a1803df08f44-882862b341asm15376256d6.5.2025.11.16.22.58.28 (version=TLS1_2 cipher=ECDHE-ECDSA-AES128-GCM-SHA256 bits=128/128); Sun, 16 Nov 2025 22:58:28 -0800 (PST) X-Relaying-Domain: iol.unh.edu Date: Sun, 16 Nov 2025 22:58:28 -0800 (PST) Message-ID: <691ac794.050a0220.3756e4.d56dSMTPIN_ADDED_MISSING@mx.google.com> Received: from [172.21.0.3] (unknown [172.18.0.240]) by postal.iol.unh.edu (Postfix) with ESMTP id 8DE966051830; Mon, 17 Nov 2025 01:58:28 -0500 (EST) Subject: |SUCCESS| [GIT MASTER] 9784db2c5af1eecd02fc21132b59b5b266039b87 From: dpdklab@iol.unh.edu To: Test Report Cc: dpdk-test-reports@iol.unh.edu, Xueming Li , Christian Ehrhardt , Kevin Traynor , Luca Boccassi Content-Type: text/plain X-BeenThere: test-report@dpdk.org X-Mailman-Version: 2.1.29 Precedence: list List-Id: automatic DPDK test reports List-Unsubscribe: , List-Archive: List-Post: List-Help: List-Subscribe: , Errors-To: test-report-bounces@dpdk.org _Testing PASS_ Branch: tags/v22.11 9784db2c5af1eecd02fc21132b59b5b266039b87 --> testing pass Upstream job id: Generic-DPDK-Compile-Meson#445249 Test environment and result as below: +-------------------------------+--------------------+-------------------------+----------------------+ | Environment | dpdk_meson_compile | dpdk_llvm_clang_compile | dpdk_mingw64_compile | +===============================+====================+=========================+======================+ | FreeBSD 14.2 | PASS | SKIPPED | SKIPPED | +-------------------------------+--------------------+-------------------------+----------------------+ | Ubuntu 20.04 | PASS | SKIPPED | SKIPPED | +-------------------------------+--------------------+-------------------------+----------------------+ | Debian GNU/Linux 12 | PASS | SKIPPED | SKIPPED | +-------------------------------+--------------------+-------------------------+----------------------+ | CentOS Stream 9 | PASS | SKIPPED | SKIPPED | +-------------------------------+--------------------+-------------------------+----------------------+ | Fedora Linux 42 | PASS | SKIPPED | SKIPPED | +-------------------------------+--------------------+-------------------------+----------------------+ | CentOS Stream 10 | PASS | SKIPPED | SKIPPED | +-------------------------------+--------------------+-------------------------+----------------------+ | Red Hat Enterprise Linux 9.5 | PASS | SKIPPED | SKIPPED | +-------------------------------+--------------------+-------------------------+----------------------+ | Red Hat Enterprise Linux 8.10 | PASS | SKIPPED | SKIPPED | +-------------------------------+--------------------+-------------------------+----------------------+ | Ubuntu 22.04 | PASS | SKIPPED | SKIPPED | +-------------------------------+--------------------+-------------------------+----------------------+ | Ubuntu 24.04 | PASS | SKIPPED | SKIPPED | +-------------------------------+--------------------+-------------------------+----------------------+ | openSUSE Leap 15.6 | PASS | SKIPPED | SKIPPED | +-------------------------------+--------------------+-------------------------+----------------------+ | Windows Server 2022 | SKIPPED | PASS | PASS | +-------------------------------+--------------------+-------------------------+----------------------+ FreeBSD 14.2 Kernel: 14.2-RELEASE Compiler: clang 18.1.6 Ubuntu 20.04 Kernel: 4.19 Compiler: gcc gcc (Ubuntu 9.4.0-1ubuntu1~20.04.2) 9.4.0 Debian GNU/Linux 12 Kernel: 5.15 Compiler: gcc gcc (Debian 12.2.0-14+deb12u1) 12.2.0 CentOS Stream 9 Kernel: 5.15 Compiler: gcc gcc (GCC) 11.5.0 20240719 (Red Hat 11.5.0-11) Fedora Linux 42 Kernel: 5.15 Compiler: clang gcc (GCC) 15.2.1 20250808 (Red Hat 15.2.1-1) CentOS Stream 10 Kernel: 5.15 Compiler: gcc gcc (GCC) 14.2.1 20250110 (Red Hat 14.2.1-8) Red Hat Enterprise Linux 9.5 Kernel: 5.15 Compiler: gcc gcc (GCC) 11.5.0 20240719 (Red Hat 11.5.0-2) Red Hat Enterprise Linux 8.10 Kernel: 5.15 Compiler: gcc gcc (GCC) 8.5.0 20210514 (Red Hat 8.5.0-22) Ubuntu 22.04 Kernel: 5.15 Compiler: gcc gcc (Ubuntu 11.4.0-1ubuntu1~22.04) 11.4.0 Ubuntu 24.04 Kernel: 5.15 Compiler: gcc gcc (Ubuntu 13.3.0-6ubuntu2~24.04) 13.3.0 openSUSE Leap 15.6 Kernel: 5.15 Compiler: gcc gcc (SUSE Linux) 7.5.0 Windows Server 2022 Kernel: 10.0.20348.2031 Compiler: clang 15.0.7, gcc 14.1.0 (MinGW), and MSVC VS 19.39.33521 To view detailed results, visit: https://lab.dpdk.org/results/dashboard/tarballs/35624/ UNH-IOL DPDK Community Lab To manage your email subscriptions, visit: https://lab.dpdk.org/results/dashboard/preferences/subscriptions/