From mboxrd@z Thu Jan 1 00:00:00 1970 Return-Path: Received: from mails.dpdk.org (mails.dpdk.org [217.70.189.124]) by inbox.dpdk.org (Postfix) with ESMTP id 647A948B2D for ; Mon, 17 Nov 2025 08:17:32 +0100 (CET) Received: from mails.dpdk.org (localhost [127.0.0.1]) by mails.dpdk.org (Postfix) with ESMTP id 5A53D402A1; Mon, 17 Nov 2025 08:17:32 +0100 (CET) Received: from mail-il1-f228.google.com (mail-il1-f228.google.com [209.85.166.228]) by mails.dpdk.org (Postfix) with ESMTP id 5BD34402A1 for ; Mon, 17 Nov 2025 08:17:30 +0100 (CET) Received: by mail-il1-f228.google.com with SMTP id e9e14a558f8ab-4330d78f935so30044365ab.2 for ; Sun, 16 Nov 2025 23:17:30 -0800 (PST) DKIM-Signature: v=1; a=rsa-sha256; c=relaxed/relaxed; d=iol.unh.edu; s=unh-iol; t=1763363849; x=1763968649; darn=dpdk.org; h=cc:to:from:subject:message-id:date:from:to:cc:subject:date :message-id:reply-to; bh=oQR5VWVRn4aqrC7VpnGDDgi72NEz4Smew4bvIZaUFkc=; b=UzhNkghmAotan05BeQ4mm0Djx+scIt8DM+am7O0ahD3mWu8JVFbHczu5xFgxkPsZ2O MJ5EHqWHDTBiF4YCsH77ENhxkOYCp0qy17P/xTdAUoIVqZ3tvhAqEP9Q792JWJ3POmre 9W+DPpJTs7wlNeNyg1xtQ/+u2jiCOLUif4C88= X-Google-DKIM-Signature: v=1; a=rsa-sha256; c=relaxed/relaxed; d=1e100.net; s=20230601; t=1763363849; x=1763968649; h=cc:to:from:subject:message-id:date:x-gm-gg:x-gm-message-state:from :to:cc:subject:date:message-id:reply-to; bh=oQR5VWVRn4aqrC7VpnGDDgi72NEz4Smew4bvIZaUFkc=; b=ezhavn+91zne+7069s033SWCM1eUodjCjXEzGUeYtzmxtHe4TMUmpUuK7vgm+4zMOL mn2xLoBlQa5XeVUHiqmlSyOOeMSMvqgk3SIRfC1oPGLz1wL09rn2Pj8/WMioeWuFDrUw sNq17rqC1q+J6RlpP9ihiZsF2C/atsZe467ma2R9OJLV+X20TQcu8u4+sARlJj3N8/Cu AHrmiBcEM5v0IKkrAyjSGuvZKlyLURpVHvL1ZqR3uYCNH6tXfrTDBckpjrxDUmCXRvBO jHPdBqyYvZtk0LxUNVphBOBJBm52X5weYNxeEpXH6Cw3+ooZIIHFbiiusmZsyYAsxSfB 9r3w== X-Gm-Message-State: AOJu0YyeKCGHq1M1Kx2lIU8fwzo6aEOyBv7C5mpw+zTNtKB0p0/FhsXb XWFkccehNL6bZtxf9fhgcoMLYfP8+ZJeVbimYGrTYlEovz/wWNlZBt+mxN2ldLZm0RPKLsed9MK Z/lZOjKNCUN0f9XTBN+Mrkm/uRjU0JHQHr0Fl X-Gm-Gg: ASbGnctnGk8ETHqL2WHcrVVx9rz5++wgoo9I7JukKGSVUQ7WFyvFUFzjoPcQHxG2DWJ I3FKhhad3pRZNqjbMaA8vtXAlltYBcdIikEGQB4ZEGgT+rgoUTzuswT2TIQn9n/pk8hdudIYGnu TgvfsNG3HWZEZt7JQp4mLyzYvqh+FH0BxgfU5mA+5oI7rk+PDMy5OAW30K0gY/zeos2A4tOvQxa CZzMBzH5VkJ7J4/oR2tI48D3tSDZ/Q6Hj2YIU1UkixiDQZ8hwE5ntkytnKxhzoFexs7oGaiObpi EGqzzOoR2jrLxaMwQw5TwddBSXer7JdRqpM4ialSjPijfeEg0zmNr10lFdGTehKbNZ+hLxct/dO gRsOFLKrTW/9goZXXZFr4aio4X1VGfN4= X-Google-Smtp-Source: AGHT+IGeiFdpld3lb4T/Ij8GdMTB4OVn8xAri3fx0Q/vy4z9DibG29DvroB8vfY7ann/nzHcfsdZzw9uIqXD X-Received: by 2002:a92:c682:0:b0:434:96ea:ff7f with SMTP id e9e14a558f8ab-43496eb0310mr85741185ab.39.1763363849617; Sun, 16 Nov 2025 23:17:29 -0800 (PST) Received: from postal.iol.unh.edu (postal.iol.unh.edu. [132.177.123.84]) by smtp-relay.gmail.com with ESMTPS id e9e14a558f8ab-43483992277sm11381245ab.18.2025.11.16.23.17.29 (version=TLS1_2 cipher=ECDHE-ECDSA-AES128-GCM-SHA256 bits=128/128); Sun, 16 Nov 2025 23:17:29 -0800 (PST) X-Relaying-Domain: iol.unh.edu Date: Sun, 16 Nov 2025 23:17:29 -0800 (PST) Message-ID: <691acc09.050a0220.325fff.9e59SMTPIN_ADDED_MISSING@mx.google.com> Received: from [172.21.0.3] (unknown [172.18.0.240]) by postal.iol.unh.edu (Postfix) with ESMTP id 39C056051830; Mon, 17 Nov 2025 02:17:29 -0500 (EST) Subject: |SUCCESS| [GIT MASTER] 0bd935abcb823f581ce53986986aa54eaf6f8140 From: dpdklab@iol.unh.edu To: Test Report Cc: dpdk-test-reports@iol.unh.edu, Xueming Li , Christian Ehrhardt , Kevin Traynor , Luca Boccassi Content-Type: text/plain X-BeenThere: test-report@dpdk.org X-Mailman-Version: 2.1.29 Precedence: list List-Id: automatic DPDK test reports List-Unsubscribe: , List-Archive: List-Post: List-Help: List-Subscribe: , Errors-To: test-report-bounces@dpdk.org _Testing PASS_ Branch: tags/v24.11 0bd935abcb823f581ce53986986aa54eaf6f8140 --> testing pass Upstream job id: Generic-DPDK-Compile-Meson#445285 Test environment and result as below: +-------------------------------+--------------------+------------------+-------------------+-------------------------+----------------------+ | Environment | dpdk_meson_compile | dpdk_compile_ovs | dpdk_msvc_compile | dpdk_llvm_clang_compile | dpdk_mingw64_compile | +===============================+====================+==================+===================+=========================+======================+ | openSUSE Leap 15.6 | PASS | SKIPPED | SKIPPED | SKIPPED | SKIPPED | +-------------------------------+--------------------+------------------+-------------------+-------------------------+----------------------+ | CentOS Stream 9 | PASS | SKIPPED | SKIPPED | SKIPPED | SKIPPED | +-------------------------------+--------------------+------------------+-------------------+-------------------------+----------------------+ | Fedora Linux 42 | PASS | PASS | SKIPPED | SKIPPED | SKIPPED | +-------------------------------+--------------------+------------------+-------------------+-------------------------+----------------------+ | CentOS Stream 10 | PASS | SKIPPED | SKIPPED | SKIPPED | SKIPPED | +-------------------------------+--------------------+------------------+-------------------+-------------------------+----------------------+ | Debian GNU/Linux 12 | PASS | SKIPPED | SKIPPED | SKIPPED | SKIPPED | +-------------------------------+--------------------+------------------+-------------------+-------------------------+----------------------+ | Ubuntu 20.04 | PASS | SKIPPED | SKIPPED | SKIPPED | SKIPPED | +-------------------------------+--------------------+------------------+-------------------+-------------------------+----------------------+ | Red Hat Enterprise Linux 8.10 | PASS | SKIPPED | SKIPPED | SKIPPED | SKIPPED | +-------------------------------+--------------------+------------------+-------------------+-------------------------+----------------------+ | Red Hat Enterprise Linux 9.5 | PASS | SKIPPED | SKIPPED | SKIPPED | SKIPPED | +-------------------------------+--------------------+------------------+-------------------+-------------------------+----------------------+ | Ubuntu 22.04 | PASS | SKIPPED | SKIPPED | SKIPPED | SKIPPED | +-------------------------------+--------------------+------------------+-------------------+-------------------------+----------------------+ | Ubuntu 24.04 | PASS | PASS | SKIPPED | SKIPPED | SKIPPED | +-------------------------------+--------------------+------------------+-------------------+-------------------------+----------------------+ | Alpine Linux 3.22.0 | PASS | SKIPPED | SKIPPED | SKIPPED | SKIPPED | +-------------------------------+--------------------+------------------+-------------------+-------------------------+----------------------+ | FreeBSD 14.2 | PASS | SKIPPED | SKIPPED | SKIPPED | SKIPPED | +-------------------------------+--------------------+------------------+-------------------+-------------------------+----------------------+ | Windows Server 2022 | SKIPPED | SKIPPED | PASS | PASS | PASS | +-------------------------------+--------------------+------------------+-------------------+-------------------------+----------------------+ openSUSE Leap 15.6 Kernel: 5.15 Compiler: gcc gcc (SUSE Linux) 7.5.0 CentOS Stream 9 Kernel: 5.15 Compiler: gcc gcc (GCC) 11.5.0 20240719 (Red Hat 11.5.0-11) Fedora Linux 42 Kernel: 5.15 Compiler: gcc gcc (GCC) 15.2.1 20250808 (Red Hat 15.2.1-1) CentOS Stream 10 Kernel: 5.15 Compiler: gcc gcc (GCC) 14.2.1 20250110 (Red Hat 14.2.1-8) Debian GNU/Linux 12 Kernel: 5.15 Compiler: gcc gcc (Debian 12.2.0-14+deb12u1) 12.2.0 Ubuntu 20.04 Kernel: 5.15 Compiler: gcc gcc (Ubuntu 9.4.0-1ubuntu1~20.04.2) 9.4.0 Red Hat Enterprise Linux 8.10 Kernel: 5.15 Compiler: gcc gcc (GCC) 8.5.0 20210514 (Red Hat 8.5.0-22) Red Hat Enterprise Linux 9.5 Kernel: 5.15 Compiler: gcc gcc (GCC) 11.5.0 20240719 (Red Hat 11.5.0-2) Ubuntu 22.04 Kernel: 5.15 Compiler: gcc gcc (Ubuntu 11.4.0-1ubuntu1~22.04) 11.4.0 Ubuntu 24.04 Kernel: 5.15 Compiler: gcc gcc (Ubuntu 13.3.0-6ubuntu2~24.04) 13.3.0 Alpine Linux 3.22.0 Kernel: 5.15 Compiler: gcc gcc (Alpine 14.2.0) 14.2.0 FreeBSD 14.2 Kernel: 14.2-RELEASE Compiler: clang 18.1.6 Windows Server 2022 Kernel: 10.0.20348.2031 Compiler: clang 15.0.7, gcc 14.1.0 (MinGW), and MSVC VS 19.39.33521 To view detailed results, visit: https://lab.dpdk.org/results/dashboard/tarballs/35626/ UNH-IOL DPDK Community Lab To manage your email subscriptions, visit: https://lab.dpdk.org/results/dashboard/preferences/subscriptions/