From mboxrd@z Thu Jan 1 00:00:00 1970 Return-Path: Received: from mails.dpdk.org (mails.dpdk.org [217.70.189.124]) by inbox.dpdk.org (Postfix) with ESMTP id 13C4C48B2D for ; Mon, 17 Nov 2025 09:59:07 +0100 (CET) Received: from mails.dpdk.org (localhost [127.0.0.1]) by mails.dpdk.org (Postfix) with ESMTP id 0F1BC4026F; Mon, 17 Nov 2025 09:59:07 +0100 (CET) Received: from mail-qv1-f97.google.com (mail-qv1-f97.google.com [209.85.219.97]) by mails.dpdk.org (Postfix) with ESMTP id 772CB4026F for ; Mon, 17 Nov 2025 09:59:06 +0100 (CET) Received: by mail-qv1-f97.google.com with SMTP id 6a1803df08f44-8804650ca32so38439136d6.0 for ; Mon, 17 Nov 2025 00:59:06 -0800 (PST) DKIM-Signature: v=1; a=rsa-sha256; c=relaxed/relaxed; d=iol.unh.edu; s=unh-iol; t=1763369946; x=1763974746; darn=dpdk.org; h=cc:to:from:subject:message-id:date:from:to:cc:subject:date :message-id:reply-to; bh=ABWP9DhTVjUeAi99wMPJGBOYuwBNcz+ZrSW71Zzlei4=; b=JUIPoB9Hu8rMB7LHnPqB0GoaDtgQXD3JpO51IuhQVBDUEvMxJXQG+uoZhJBhxLh2/d 901IP+4ycoNC3OaKKtN50r5PTi8F0oCOnN0M4H5Z3ieUbO11K2VM7oy8Fcttk8toXpub BHKZe8rhWH0sFpeAJPGeSlAAns4UykvZoPgtE= X-Google-DKIM-Signature: v=1; a=rsa-sha256; c=relaxed/relaxed; d=1e100.net; s=20230601; t=1763369946; x=1763974746; h=cc:to:from:subject:message-id:date:x-gm-gg:x-gm-message-state:from :to:cc:subject:date:message-id:reply-to; bh=ABWP9DhTVjUeAi99wMPJGBOYuwBNcz+ZrSW71Zzlei4=; b=J+yiYIuAOWt6fmIhqfaxFLoroRNeumXMaWNoxErd9XGdQdBMhQ2mqRoS5nHO2mKpDB ln8f5bHmZIRh2Vw1lXxEC2DGT6fabgKL7wW6cnoto5o+kR2koBKHaQw/IGmeTqcTQXR9 L82LUNJ9G3visjFWRnKLYx+d+rOrYWl91gn/5HfyXORUqUxKBerlyJGp/hh26uhVrHck KaVzsG4Zc22lBk9+UH71lEKrf5SCw9yRvq51Rv3b+Ci45KyTpBTGxE6EKmvoCYvC0V5X TMiESWXh8t7t6OA7H5RZ9VX6YJF9W28zdHlKn++OeRWXgqCWtk545nLpUr1ltfb/jwVv j7yg== X-Gm-Message-State: AOJu0YyBytnupxPyQ0iu4dtmuZvmSLbsbiVvmw8NDBXeBnyPkHYyGwPA 8YsGAt69KHP+ARwpYN0zK18zEcjx2Cg+YCZ/KcuINYBQXe9GEXaReH2mivfOA/O+f3QSbBlvPFA MqzopNjTvXJF+1629+V3p3ZLVjHLOW3RyOwG3 X-Gm-Gg: ASbGncvf5C6Z1hUD9MyTQI3m1P+MgMcMrHfa58hjvPgSqBYiPJFcNz37W7rj6/xAQrP k4QE9p1+1P3MI3DILgR1Q0ukKlnT9gJnSCUeI6N6S/mNA0IqRFgfcCfcM4uO+QhRLBh8EAHUP7B zcQYl3BiXPMO+sI6XGXqWhdFi/GKZVK45E/DPD2ag500uTCCPirPiwsinoiAsOIJdaANGNCWOVh LlJGbI4NNR0KVpPDOOo5FqstoMoWstnzxmDse2U+knaUOlGPztrjyJnKQ/CvOzq1WpY5VEA4qY5 PTMtGPXZY3whaftZ+LA+uPzjZi4mg7x90Ub7PPBiQJPH2CA9uD19SIbzGbqk82rOqpaD+7aktFu PjrWcs+1AUp9cpw+JtC6KH+hFQtQM4gM= X-Google-Smtp-Source: AGHT+IGFoI1yiIvRBdv+UhPJ5lE4qSZvRD+5X5P+IyIXtlBrSWKfl5uOjNxlFVUXIaX9JNR3Cj2e9WsMfgyc X-Received: by 2002:a05:6214:ccf:b0:882:437d:2836 with SMTP id 6a1803df08f44-882926d98edmr141717406d6.43.1763369945837; Mon, 17 Nov 2025 00:59:05 -0800 (PST) Received: from postal.iol.unh.edu (postal.iol.unh.edu. [132.177.123.84]) by smtp-relay.gmail.com with ESMTPS id 6a1803df08f44-882862b3760sm15286646d6.4.2025.11.17.00.59.05 (version=TLS1_2 cipher=ECDHE-ECDSA-AES128-GCM-SHA256 bits=128/128); Mon, 17 Nov 2025 00:59:05 -0800 (PST) X-Relaying-Domain: iol.unh.edu Date: Mon, 17 Nov 2025 00:59:05 -0800 (PST) Message-ID: <691ae3d9.050a0220.2a9e47.c11cSMTPIN_ADDED_MISSING@mx.google.com> Received: from [172.21.0.10] (unknown [172.18.0.240]) by postal.iol.unh.edu (Postfix) with ESMTP id 9670C6051830; Mon, 17 Nov 2025 03:59:05 -0500 (EST) Subject: |SUCCESS| [GIT MASTER] 0bd935abcb823f581ce53986986aa54eaf6f8140 From: dpdklab@iol.unh.edu To: Test Report Cc: dpdk-test-reports@iol.unh.edu, Xueming Li , Christian Ehrhardt , Kevin Traynor , Luca Boccassi Content-Type: text/plain X-BeenThere: test-report@dpdk.org X-Mailman-Version: 2.1.29 Precedence: list List-Id: automatic DPDK test reports List-Unsubscribe: , List-Archive: List-Post: List-Help: List-Subscribe: , Errors-To: test-report-bounces@dpdk.org _Testing PASS_ Branch: tags/v24.11 0bd935abcb823f581ce53986986aa54eaf6f8140 --> testing pass Upstream job id: Generic-Unit-Test-DPDK#393575 Test environment and result as below: +-------------------------------+----------------+ | Environment | dpdk_unit_test | +===============================+================+ | CentOS Stream 9 | PASS | +-------------------------------+----------------+ | CentOS Stream 10 | PASS | +-------------------------------+----------------+ | Fedora Linux 41 | PASS | +-------------------------------+----------------+ | Fedora Linux 40 | PASS | +-------------------------------+----------------+ | Fedora Linux 42 | PASS | +-------------------------------+----------------+ | Debian GNU/Linux 12 | PASS | +-------------------------------+----------------+ | Ubuntu 22.04 | PASS | +-------------------------------+----------------+ | Red Hat Enterprise Linux 8.10 | PASS | +-------------------------------+----------------+ | Red Hat Enterprise Linux 9.5 | PASS | +-------------------------------+----------------+ | Ubuntu 24.04 | PASS | +-------------------------------+----------------+ | Ubuntu 20.04 | PASS | +-------------------------------+----------------+ | Windows Server 2022 | PASS | +-------------------------------+----------------+ CentOS Stream 9 Kernel: 5.15 Compiler: gcc gcc (GCC) 11.5.0 20240719 (Red Hat 11.5.0-11) CentOS Stream 10 Kernel: 5.15 Compiler: gcc gcc (GCC) 14.2.1 20250110 (Red Hat 14.2.1-8) Fedora Linux 41 Kernel: 5.15 Compiler: clang gcc (GCC) 14.3.1 20250523 (Red Hat 14.3.1-1) Fedora Linux 40 Kernel: 5.15 Compiler: gcc gcc (GCC) 14.2.1 20240912 (Red Hat 14.2.1-3) Fedora Linux 42 Kernel: 5.15 Compiler: clang gcc (GCC) 15.2.1 20250808 (Red Hat 15.2.1-1) Debian GNU/Linux 12 Kernel: 5.15 Compiler: gcc gcc (Debian 12.2.0-14+deb12u1) 12.2.0 Ubuntu 22.04 Kernel: 5.15 Compiler: gcc gcc (Ubuntu 11.4.0-1ubuntu1~22.04) 11.4.0 Red Hat Enterprise Linux 8.10 Kernel: 5.15 Compiler: gcc gcc (GCC) 8.5.0 20210514 (Red Hat 8.5.0-22) Red Hat Enterprise Linux 9.5 Kernel: 5.15 Compiler: gcc gcc (GCC) 11.5.0 20240719 (Red Hat 11.5.0-2) Ubuntu 24.04 Kernel: 5.15 Compiler: gcc gcc (Ubuntu 13.3.0-6ubuntu2~24.04) 13.3.0 Ubuntu 20.04 Kernel: 5.15 Compiler: gcc gcc (Ubuntu 9.4.0-1ubuntu1~20.04.2) 9.4.0 Windows Server 2022 Kernel: 10.0.20348.2031 Compiler: clang 15.0.7, gcc 14.1.0 (MinGW), and MSVC VS 19.39.33521 To view detailed results, visit: https://lab.dpdk.org/results/dashboard/tarballs/35626/ UNH-IOL DPDK Community Lab To manage your email subscriptions, visit: https://lab.dpdk.org/results/dashboard/preferences/subscriptions/