From mboxrd@z Thu Jan 1 00:00:00 1970 Return-Path: Received: from mails.dpdk.org (mails.dpdk.org [217.70.189.124]) by inbox.dpdk.org (Postfix) with ESMTP id AF07548B30 for ; Mon, 17 Nov 2025 10:16:11 +0100 (CET) Received: from mails.dpdk.org (localhost [127.0.0.1]) by mails.dpdk.org (Postfix) with ESMTP id 9D6AF40665; Mon, 17 Nov 2025 10:16:11 +0100 (CET) Received: from mail-pl1-f227.google.com (mail-pl1-f227.google.com [209.85.214.227]) by mails.dpdk.org (Postfix) with ESMTP id 339E440665 for ; Mon, 17 Nov 2025 10:16:10 +0100 (CET) Received: by mail-pl1-f227.google.com with SMTP id d9443c01a7336-29586626fbeso42066335ad.0 for ; Mon, 17 Nov 2025 01:16:10 -0800 (PST) DKIM-Signature: v=1; a=rsa-sha256; c=relaxed/relaxed; d=iol.unh.edu; s=unh-iol; t=1763370969; x=1763975769; darn=dpdk.org; h=references:in-reply-to:cc:to:from:subject:message-id:date:from:to :cc:subject:date:message-id:reply-to; bh=d3QDrSVC2nvvXq9obOFc2ztV/TlJZYf9mqYqzgs6Aic=; b=DacaTfLzaPOYWv72SRffKMbTbS3zd6PR1+GvAeJ+qa6Lvg1FDfdQG1FrFKtZbuHq1H icETX1Iw9Vv00PlWfyocMEOjwDClsDplscY0GlpbTuf7ltKAzqUXSluvtlt7OD/3xSGG Fqcf5H4JVHL5SUghvWKPMThGYKcLvutOnIIFA= X-Google-DKIM-Signature: v=1; a=rsa-sha256; c=relaxed/relaxed; d=1e100.net; s=20230601; t=1763370969; x=1763975769; h=references:in-reply-to:cc:to:from:subject:message-id:date:x-gm-gg :x-gm-message-state:from:to:cc:subject:date:message-id:reply-to; bh=d3QDrSVC2nvvXq9obOFc2ztV/TlJZYf9mqYqzgs6Aic=; b=AzQAVbKTl0naLgJ44QjUqqSW8CYE79j+Yyhb5XIXOqFk+e+j4SPC53tUj+2eXD8+F+ HCiEhedW40COD0holYtXULwa6F+krepTen+njd7Rj0GYeMteJIywLYZA6ifrbcEB33Kr jfzPNW3oJVDWIFfjYq4q+gb9oSWy6/eRcqC9v0iHe2ffWto5FMo1KowaQBnWyPSf1XP6 rNohIOEVMYce++jYOGVVbrr/d7OEB1nQ2ha7Bc5yPPLS43ST8k3Hrp9k/ZLS9aPAnq00 tuOPw6fjoWBfPhjxr/0uqaG1m6GMM1xYDoAW1K9k570Lp2YiKjVPh9D1i31yM/2tW5bG 1HvA== X-Gm-Message-State: AOJu0YweG+jxwRFm5YBP/Sjx6Qe/89kNR28e58lLmJRddHDwJ8O0/Urk QmrWCc+Xg/5o3UDxMnLFHyQyAAX7sgU9UBpMMzBeuC/fjFNggTblswUUqo/15+1gBaUUxistF6H p3gQTu35mcnHxTd47/JBb8Z2+d9I29LjJYXOvxfqSd9kG4roReL2NHDzj3sl0 X-Gm-Gg: ASbGncsFynn8qYkp6RrOUmHNZrN09KDAzS957Fx4wYxKX2BCIkXYvx4BEYr/2xc5jrW U9ACSOV7C9uq0fHZSzYWM09Pa6IWcXcjUE9F8lXo71Zqw1H+7KkIBuz8QOuWpBLMxxVFOHdAua8 A+n+6r2buNnlbub+U7Lr7TtkL1OArczWl1E65iyq/WVrKuTJRs1NHTWEgPY3cR/1Gp2vbgnRMeN Zh5w+Ze0KGnckfx3bFuwIKttEfXlXlrzhhO2Ap7tJthdvfH7Od5F2Di3U20Tdy24/UHjK8URqns KLiDx64+yHWnt1euvCjxf6XdEtwJ6SOeF9VuCpga3aI7zPQw+TM1CGFqi61Twijn+iWu7AeA+84 3H2fkt6vm X-Google-Smtp-Source: AGHT+IEAMR+kvCK1RNHjTbquaaxSMaVxdzMTyZ1I9gMRsFIjMD6IT+CLxp35QsDjC5jg47U6kCrPHklQy3dA X-Received: by 2002:a17:903:1a10:b0:271:479d:3de2 with SMTP id d9443c01a7336-2986a6d347emr124193085ad.13.1763370968843; Mon, 17 Nov 2025 01:16:08 -0800 (PST) Received: from postal.iol.unh.edu (postal.iol.unh.edu. [2606:4100:3880:1234::84]) by smtp-relay.gmail.com with ESMTPS id d9443c01a7336-2985c23458csm14667945ad.4.2025.11.17.01.16.08 (version=TLS1_2 cipher=ECDHE-ECDSA-AES128-GCM-SHA256 bits=128/128); Mon, 17 Nov 2025 01:16:08 -0800 (PST) X-Relaying-Domain: iol.unh.edu Date: Mon, 17 Nov 2025 01:16:08 -0800 (PST) Message-ID: <691ae7d8.170a0220.2d505b.9d16SMTPIN_ADDED_MISSING@mx.google.com> Received: from [172.21.0.6] (unknown [172.18.0.240]) by postal.iol.unh.edu (Postfix) with ESMTP id 20A296051830; Mon, 17 Nov 2025 04:16:08 -0500 (EST) Subject: |SUCCESS| pw158846 [PATCH] net/mlx5: skip Rx control flow tables in From: dpdklab@iol.unh.edu To: Test Report Cc: dpdk-test-reports@iol.unh.edu In-Reply-To: <20251117050557.8481-1-bingz@nvidia.com> References: <20251117050557.8481-1-bingz@nvidia.com> Content-Type: text/plain X-BeenThere: test-report@dpdk.org X-Mailman-Version: 2.1.29 Precedence: list List-Id: automatic DPDK test reports List-Unsubscribe: , List-Archive: List-Post: List-Help: List-Subscribe: , Errors-To: test-report-bounces@dpdk.org Test-Label: iol-compile-amd64-testing Test-Status: SUCCESS http://dpdk.org/patch/158846 _Testing PASS_ Submitter: Bing Zhao Date: Monday, November 17 2025 05:05:57 DPDK git baseline: Repo:dpdk-next-net-mlx Branch: master CommitID:a3f565c41c73db0f965d62c72627980235d4d7e8 158846 --> testing pass Upstream job id: Generic-DPDK-Compile-Meson#445329 Test environment and result as below: +-------------------------------+--------------------+------------------+-------------------------+-------------------+----------------------+ | Environment | dpdk_meson_compile | dpdk_compile_ovs | dpdk_llvm_clang_compile | dpdk_msvc_compile | dpdk_mingw64_compile | +===============================+====================+==================+=========================+===================+======================+ | CentOS Stream 9 | PASS | SKIPPED | SKIPPED | SKIPPED | SKIPPED | +-------------------------------+--------------------+------------------+-------------------------+-------------------+----------------------+ | Debian GNU/Linux 12 | PASS | SKIPPED | SKIPPED | SKIPPED | SKIPPED | +-------------------------------+--------------------+------------------+-------------------------+-------------------+----------------------+ | CentOS Stream 10 | PASS | SKIPPED | SKIPPED | SKIPPED | SKIPPED | +-------------------------------+--------------------+------------------+-------------------------+-------------------+----------------------+ | Fedora Linux 42 | PASS | PASS | SKIPPED | SKIPPED | SKIPPED | +-------------------------------+--------------------+------------------+-------------------------+-------------------+----------------------+ | Ubuntu 20.04 | PASS | SKIPPED | SKIPPED | SKIPPED | SKIPPED | +-------------------------------+--------------------+------------------+-------------------------+-------------------+----------------------+ | FreeBSD 14.2 | PASS | SKIPPED | SKIPPED | SKIPPED | SKIPPED | +-------------------------------+--------------------+------------------+-------------------------+-------------------+----------------------+ | openSUSE Leap 15.6 | PASS | SKIPPED | SKIPPED | SKIPPED | SKIPPED | +-------------------------------+--------------------+------------------+-------------------------+-------------------+----------------------+ | Red Hat Enterprise Linux 8.10 | PASS | SKIPPED | SKIPPED | SKIPPED | SKIPPED | +-------------------------------+--------------------+------------------+-------------------------+-------------------+----------------------+ | Ubuntu 24.04 | PASS | PASS | SKIPPED | SKIPPED | SKIPPED | +-------------------------------+--------------------+------------------+-------------------------+-------------------+----------------------+ | Red Hat Enterprise Linux 9.5 | PASS | SKIPPED | SKIPPED | SKIPPED | SKIPPED | +-------------------------------+--------------------+------------------+-------------------------+-------------------+----------------------+ | Ubuntu 22.04 | PASS | SKIPPED | SKIPPED | SKIPPED | SKIPPED | +-------------------------------+--------------------+------------------+-------------------------+-------------------+----------------------+ | Alpine Linux 3.22.0 | PASS | SKIPPED | SKIPPED | SKIPPED | SKIPPED | +-------------------------------+--------------------+------------------+-------------------------+-------------------+----------------------+ | Windows Server 2022 | SKIPPED | SKIPPED | PASS | PASS | PASS | +-------------------------------+--------------------+------------------+-------------------------+-------------------+----------------------+ CentOS Stream 9 Kernel: 5.15 Compiler: gcc gcc (GCC) 11.5.0 20240719 (Red Hat 11.5.0-11) Debian GNU/Linux 12 Kernel: 5.15 Compiler: gcc gcc (Debian 12.2.0-14+deb12u1) 12.2.0 CentOS Stream 10 Kernel: 5.15 Compiler: gcc gcc (GCC) 14.2.1 20250110 (Red Hat 14.2.1-8) Fedora Linux 42 Kernel: 5.15 Compiler: gcc gcc (GCC) 15.2.1 20250808 (Red Hat 15.2.1-1) Ubuntu 20.04 Kernel: 4.19 Compiler: gcc gcc (Ubuntu 9.4.0-1ubuntu1~20.04.2) 9.4.0 FreeBSD 14.2 Kernel: 14.2-RELEASE Compiler: clang 18.1.6 openSUSE Leap 15.6 Kernel: 5.15 Compiler: gcc gcc (SUSE Linux) 7.5.0 Red Hat Enterprise Linux 8.10 Kernel: 5.15 Compiler: gcc gcc (GCC) 8.5.0 20210514 (Red Hat 8.5.0-22) Ubuntu 24.04 Kernel: 5.15 Compiler: gcc gcc (Ubuntu 13.3.0-6ubuntu2~24.04) 13.3.0 Red Hat Enterprise Linux 9.5 Kernel: 5.15 Compiler: gcc gcc (GCC) 11.5.0 20240719 (Red Hat 11.5.0-2) Ubuntu 22.04 Kernel: 5.15 Compiler: gcc gcc (Ubuntu 11.4.0-1ubuntu1~22.04) 11.4.0 Alpine Linux 3.22.0 Kernel: 5.15 Compiler: gcc gcc (Alpine 14.2.0) 14.2.0 Windows Server 2022 Kernel: 10.0.20348.2031 Compiler: clang 15.0.7, gcc 14.1.0 (MinGW), and MSVC VS 19.39.33521 To view detailed results, visit: https://lab.dpdk.org/results/dashboard/patchsets/34616/ UNH-IOL DPDK Community Lab To manage your email subscriptions, visit: https://lab.dpdk.org/results/dashboard/preferences/subscriptions/