From mboxrd@z Thu Jan 1 00:00:00 1970 Return-Path: Received: from mails.dpdk.org (mails.dpdk.org [217.70.189.124]) by inbox.dpdk.org (Postfix) with ESMTP id C26BC48B30 for ; Mon, 17 Nov 2025 11:10:33 +0100 (CET) Received: from mails.dpdk.org (localhost [127.0.0.1]) by mails.dpdk.org (Postfix) with ESMTP id BA9E04026A; Mon, 17 Nov 2025 11:10:33 +0100 (CET) Received: from mail-il1-f226.google.com (mail-il1-f226.google.com [209.85.166.226]) by mails.dpdk.org (Postfix) with ESMTP id 7B9644026A for ; Mon, 17 Nov 2025 11:10:32 +0100 (CET) Received: by mail-il1-f226.google.com with SMTP id e9e14a558f8ab-4332ae0635fso28264395ab.2 for ; Mon, 17 Nov 2025 02:10:32 -0800 (PST) DKIM-Signature: v=1; a=rsa-sha256; c=relaxed/relaxed; d=iol.unh.edu; s=unh-iol; t=1763374232; x=1763979032; darn=dpdk.org; h=references:in-reply-to:cc:to:from:subject:message-id:date:from:to :cc:subject:date:message-id:reply-to; bh=KkAZTveWSmX2IKlZm+PQT496DYSPy2FOqfV4bC+IDsA=; b=Gqke4eiumdpYbZE1Ftbd18gim9TjdRvMA51YNSXMCw3SwPxGvB1RDxnR5NaCU7gAZs u5f/D8ntfmTJvCSxXuPwQDT5oKlA6ENYdgUoGK5p9FHb5a64UU5qz8PSxFK4tbVtgO1P ZkFdXpKN3Msqu2vcM4lc4/Ay2sR4HcR0GHT0s= X-Google-DKIM-Signature: v=1; a=rsa-sha256; c=relaxed/relaxed; d=1e100.net; s=20230601; t=1763374232; x=1763979032; h=references:in-reply-to:cc:to:from:subject:message-id:date:x-gm-gg :x-gm-message-state:from:to:cc:subject:date:message-id:reply-to; bh=KkAZTveWSmX2IKlZm+PQT496DYSPy2FOqfV4bC+IDsA=; b=BfoNO2bW0F2YR7frWiA5fQCkZOAhC6Dgsk/nkKPCkOLvQRosmXv/4pXdy9zDEh3zmM itpwVoum2R5rPGu1OVv05zAbrq7kwY/Lij3BM4rUizAywIwTYIlEioMrU8POmjbygOii soCCLRo933KiFr55j/DTH26/pqH/AeYtCZ2CG9RMHhFUXBG4C9MfGCM8BiDcSWEEnLxv B6Ssz/wKkY/YkiS6lvT8yP9fURRoMHETL2YDVZZLq0fnpWRs1OEuJX40K3JeRoIyG3uf 1SVYdydezst+UJnwIrq6pX0hRWp28f6qkvPzkqYDzW+HEjzqPHJP49RO7sAQQFC+uk8+ ws/A== X-Gm-Message-State: AOJu0Yw8VaMV75c75Xsj2CTLFjbJX0NkJngreaaHFwz4u+4qXlxOJnG4 WyI8cfKPgc6lAY+vth4bvDKqZuFJLqQxZU4nZbw/cpgZh8kbcBiVsNFSMc3pMKunigX5KFgrRv7 CWdWASqsuAIrfavCUkFuqdsz99nqr14uItP/0eLdvOk5M X-Gm-Gg: ASbGncuW74Xlk2h3dz5S1qp8opJ829faxCg/tZ0WhFbSC8ExYP2sFL7va8REXnWCOg7 WkfNz30JOFqyuHKSbrCPO0eZX2Ce3Dd1jAIZeLW6aAvn/PzRtLEp0xNZCtw9TcKanINJFlTnDcQ lqMK79p1uVj/90yxrmk1n5ct5V5qj34a3HywrhzO+/zQYkZF6mPmvXWs9USbGFOdCc8FdAJTuu4 vT0cjkuB3ogbjGF4ihwGMIz25/Cn9hqZr5Cudw7cFDIh21xZaiOW1ACmhvkQJ3SEcC4/bm0xzEp Mf5bEArtGdl8sovbqjE2mGhQGXlyBfjQRlDmGgH06kaZhBh7WMsWy7qsdZlOKoeIJDVXLJUyI4A 2fXoDa02w7dwIBrpJP/DrqIEN9eG/drQ= X-Google-Smtp-Source: AGHT+IH4n4bjmZwMe4W63kEaTm3OsBiK0J8vdWRExwoT6cd0FeQGipVKg5Ct3OVAEIaFUivpB2iBEwrxuhfy X-Received: by 2002:a05:6e02:b4d:b0:433:3406:1335 with SMTP id e9e14a558f8ab-4348c851d1cmr163695465ab.3.1763374231842; Mon, 17 Nov 2025 02:10:31 -0800 (PST) Received: from postal.iol.unh.edu (postal.iol.unh.edu. [132.177.123.84]) by smtp-relay.gmail.com with ESMTPS id e9e14a558f8ab-434839b238asm11756845ab.24.2025.11.17.02.10.31 (version=TLS1_2 cipher=ECDHE-ECDSA-AES128-GCM-SHA256 bits=128/128); Mon, 17 Nov 2025 02:10:31 -0800 (PST) X-Relaying-Domain: iol.unh.edu Date: Mon, 17 Nov 2025 02:10:31 -0800 (PST) Message-ID: <691af497.050a0220.ea2aa.a575SMTPIN_ADDED_MISSING@mx.google.com> Received: from [172.21.0.5] (unknown [172.18.0.240]) by postal.iol.unh.edu (Postfix) with ESMTP id AE9676051830; Mon, 17 Nov 2025 05:10:30 -0500 (EST) Subject: |SUCCESS| pw158848 [PATCH] net/mlx5: move auxiliary data inline From: dpdklab@iol.unh.edu To: Test Report Cc: dpdk-test-reports@iol.unh.edu In-Reply-To: <20251117072752.9290-1-bingz@nvidia.com> References: <20251117072752.9290-1-bingz@nvidia.com> Content-Type: text/plain X-BeenThere: test-report@dpdk.org X-Mailman-Version: 2.1.29 Precedence: list List-Id: automatic DPDK test reports List-Unsubscribe: , List-Archive: List-Post: List-Help: List-Subscribe: , Errors-To: test-report-bounces@dpdk.org Test-Label: iol-compile-amd64-testing Test-Status: SUCCESS http://dpdk.org/patch/158848 _Testing PASS_ Submitter: Bing Zhao Date: Monday, November 17 2025 07:27:52 DPDK git baseline: Repo:dpdk-next-net-mlx Branch: master CommitID:6c8ab18883d4a51ac512a969d36b47272a63b61b 158848 --> testing pass Upstream job id: Generic-DPDK-Compile-Meson#445358 Test environment and result as below: +-------------------------------+--------------------+-------------------+------------------+-------------------------+----------------------+ | Environment | dpdk_meson_compile | dpdk_msvc_compile | dpdk_compile_ovs | dpdk_llvm_clang_compile | dpdk_mingw64_compile | +===============================+====================+===================+==================+=========================+======================+ | Ubuntu 20.04 | PASS | SKIPPED | SKIPPED | SKIPPED | SKIPPED | +-------------------------------+--------------------+-------------------+------------------+-------------------------+----------------------+ | FreeBSD 14.2 | PASS | SKIPPED | SKIPPED | SKIPPED | SKIPPED | +-------------------------------+--------------------+-------------------+------------------+-------------------------+----------------------+ | CentOS Stream 10 | PASS | SKIPPED | SKIPPED | SKIPPED | SKIPPED | +-------------------------------+--------------------+-------------------+------------------+-------------------------+----------------------+ | CentOS Stream 9 | PASS | SKIPPED | SKIPPED | SKIPPED | SKIPPED | +-------------------------------+--------------------+-------------------+------------------+-------------------------+----------------------+ | Debian GNU/Linux 12 | PASS | SKIPPED | SKIPPED | SKIPPED | SKIPPED | +-------------------------------+--------------------+-------------------+------------------+-------------------------+----------------------+ | Fedora Linux 42 | PASS | SKIPPED | PASS | SKIPPED | SKIPPED | +-------------------------------+--------------------+-------------------+------------------+-------------------------+----------------------+ | openSUSE Leap 15.6 | PASS | SKIPPED | SKIPPED | SKIPPED | SKIPPED | +-------------------------------+--------------------+-------------------+------------------+-------------------------+----------------------+ | Red Hat Enterprise Linux 8.10 | PASS | SKIPPED | SKIPPED | SKIPPED | SKIPPED | +-------------------------------+--------------------+-------------------+------------------+-------------------------+----------------------+ | Red Hat Enterprise Linux 9.5 | PASS | SKIPPED | SKIPPED | SKIPPED | SKIPPED | +-------------------------------+--------------------+-------------------+------------------+-------------------------+----------------------+ | Ubuntu 22.04 | PASS | SKIPPED | SKIPPED | SKIPPED | SKIPPED | +-------------------------------+--------------------+-------------------+------------------+-------------------------+----------------------+ | Ubuntu 24.04 | PASS | SKIPPED | PASS | SKIPPED | SKIPPED | +-------------------------------+--------------------+-------------------+------------------+-------------------------+----------------------+ | Alpine Linux 3.22.0 | PASS | SKIPPED | SKIPPED | SKIPPED | SKIPPED | +-------------------------------+--------------------+-------------------+------------------+-------------------------+----------------------+ | Windows Server 2022 | SKIPPED | PASS | SKIPPED | PASS | PASS | +-------------------------------+--------------------+-------------------+------------------+-------------------------+----------------------+ Ubuntu 20.04 Kernel: 4.19 Compiler: gcc gcc (Ubuntu 9.4.0-1ubuntu1~20.04.2) 9.4.0 FreeBSD 14.2 Kernel: 14.2-RELEASE Compiler: clang 18.1.6 CentOS Stream 10 Kernel: 5.15 Compiler: gcc gcc (GCC) 14.2.1 20250110 (Red Hat 14.2.1-8) CentOS Stream 9 Kernel: 5.15 Compiler: gcc gcc (GCC) 11.5.0 20240719 (Red Hat 11.5.0-11) Debian GNU/Linux 12 Kernel: 5.15 Compiler: gcc gcc (Debian 12.2.0-14+deb12u1) 12.2.0 Fedora Linux 42 Kernel: 5.15 Compiler: clang gcc (GCC) 15.2.1 20250808 (Red Hat 15.2.1-1) openSUSE Leap 15.6 Kernel: 5.15 Compiler: gcc gcc (SUSE Linux) 7.5.0 Red Hat Enterprise Linux 8.10 Kernel: 5.15 Compiler: gcc gcc (GCC) 8.5.0 20210514 (Red Hat 8.5.0-22) Red Hat Enterprise Linux 9.5 Kernel: 5.15 Compiler: gcc gcc (GCC) 11.5.0 20240719 (Red Hat 11.5.0-2) Ubuntu 22.04 Kernel: 5.15 Compiler: gcc gcc (Ubuntu 11.4.0-1ubuntu1~22.04) 11.4.0 Ubuntu 24.04 Kernel: 5.15 Compiler: gcc gcc (Ubuntu 13.3.0-6ubuntu2~24.04) 13.3.0 Alpine Linux 3.22.0 Kernel: 5.15 Compiler: gcc gcc (Alpine 14.2.0) 14.2.0 Windows Server 2022 Kernel: 10.0.20348.2031 Compiler: clang 15.0.7, gcc 14.1.0 (MinGW), and MSVC VS 19.39.33521 To view detailed results, visit: https://lab.dpdk.org/results/dashboard/patchsets/34617/ UNH-IOL DPDK Community Lab To manage your email subscriptions, visit: https://lab.dpdk.org/results/dashboard/preferences/subscriptions/