From mboxrd@z Thu Jan 1 00:00:00 1970 Return-Path: Received: from mails.dpdk.org (mails.dpdk.org [217.70.189.124]) by inbox.dpdk.org (Postfix) with ESMTP id E95E048B30 for ; Mon, 17 Nov 2025 11:11:02 +0100 (CET) Received: from mails.dpdk.org (localhost [127.0.0.1]) by mails.dpdk.org (Postfix) with ESMTP id E42A04026A; Mon, 17 Nov 2025 11:11:02 +0100 (CET) Received: from mail-il1-f225.google.com (mail-il1-f225.google.com [209.85.166.225]) by mails.dpdk.org (Postfix) with ESMTP id E9EDB4026A for ; Mon, 17 Nov 2025 11:10:56 +0100 (CET) Received: by mail-il1-f225.google.com with SMTP id e9e14a558f8ab-4331709968fso14859145ab.2 for ; Mon, 17 Nov 2025 02:10:56 -0800 (PST) DKIM-Signature: v=1; a=rsa-sha256; c=relaxed/relaxed; d=iol.unh.edu; s=unh-iol; t=1763374256; x=1763979056; darn=dpdk.org; h=references:in-reply-to:cc:to:from:subject:message-id:date:from:to :cc:subject:date:message-id:reply-to; bh=F1SvHfcBVyXTYw+hCZhYVek3GCFztKBXL2mcnCMZSbY=; b=ECm73UPcRUyKzdOiprc9PWrbJz6o+zOsqCU1V/7kSMBn72rTnkRwnjfrLaAg5AKbSW Y3xFAnvTFHddof+ifn1fP3srLTF3muty6MStqSbuoCtaNZjB44PxoWW3k4MrpYLh924+ rnCq60ttKGggEiWL6dUvBVrHPV+rA77buR1k8= X-Google-DKIM-Signature: v=1; a=rsa-sha256; c=relaxed/relaxed; d=1e100.net; s=20230601; t=1763374256; x=1763979056; h=references:in-reply-to:cc:to:from:subject:message-id:date:x-gm-gg :x-gm-message-state:from:to:cc:subject:date:message-id:reply-to; bh=F1SvHfcBVyXTYw+hCZhYVek3GCFztKBXL2mcnCMZSbY=; b=ZaSLbbf9XDaH1B1yxHYgb3gjftPGqw6yqMdJz9J0cTWK86grxuPPQkfuFVQde2EzrQ 0LvPXfU15PkzoE2JOXyMxzh1QMyggG0f9Ixlz9gtGjEWfDd+TRocQl/08sIAbQxMyxB/ 6H8siDRhyLBoXMgXNAdLO6J07MjZcbyylzxWeig0Iqm2+Tsg6M5qTdQtLGj8s8UbyR4r 1ygpv0fw9DTZgNw3jPDHBP5/+2/3I7W4zDUrcyknxcSycxOz4+GLOSnUjEOkwWLVBl1P qL9sBQf6CfYKl0yKCbgMwFTgI/5emcxC3sr26hl3Vucl8RZapDQZzgVrvYSHvyfIGQB1 MAsg== X-Gm-Message-State: AOJu0YyONXAyBWPi5NPAN6w+/vCb9DmX5P1ZJGk1PH519uPMXICKUpF0 T+Fc9/xSCoZj6QdxBzqR8Li+qgmHSweJiKT4xJwHv/qbu2pPgu5X+LGqjDlulGdTEkntlOlTWfI 16kdlRFpeX2Wgpkeu6oRBse5oxIsJAEoWWjGdQ/w9ULu6 X-Gm-Gg: ASbGncuYGiHY1g1s249R6HId1hMFxbpnBjEbMN5C+RkaaJVhFKRTmqiCZVJfWCYVCvV xvftGo2AYnC7szvAa18mWu/YVrBAEBIoOCaxsBTMXvWffn54JD+TINYG3EX0yrYx8UmdpWxWIy5 mMt/qbi525v9zN21j51zk1bFwtxkavdGdGvzaFEXzT+UlGk0U8VefV0ziiPUgSIzoYCSVh11eC7 D5J1hf3Vj2EvcUlYcfQecg/tbSeT3EsQ+WS1GmXC84EjhVDkNLhM8t6GrsxvHJfujeuPTx4g//x kxYi8UzlUQGvwYWw7CYWvM+LUj63zUxjzsb202T+DC0yxmkP+xMoaMnJ8kex8laQGGQAxZbZ+m2 qIiCYSpM4NHmQhgjEIO90EAa4+CLgGxk= X-Google-Smtp-Source: AGHT+IEIB+hUm0O8Cj5T9FkGTOE9iITugSzo0npvA3DOZmc0O18QFT5mxj0Ne6kT8apGCILVzyfsdKEcFrhb X-Received: by 2002:a05:6e02:3a03:b0:433:7a7c:e2a2 with SMTP id e9e14a558f8ab-4348c8503a1mr142899355ab.7.1763374256305; Mon, 17 Nov 2025 02:10:56 -0800 (PST) Received: from postal.iol.unh.edu (postal.iol.unh.edu. [132.177.123.84]) by smtp-relay.gmail.com with ESMTPS id e9e14a558f8ab-434833c6101sm11661615ab.3.2025.11.17.02.10.56 (version=TLS1_2 cipher=ECDHE-ECDSA-AES128-GCM-SHA256 bits=128/128); Mon, 17 Nov 2025 02:10:56 -0800 (PST) X-Relaying-Domain: iol.unh.edu Date: Mon, 17 Nov 2025 02:10:56 -0800 (PST) Message-ID: <691af4b0.050a0220.12e066.93f1SMTPIN_ADDED_MISSING@mx.google.com> Received: from [172.21.0.10] (unknown [172.18.0.240]) by postal.iol.unh.edu (Postfix) with ESMTP id 1E58F6051830; Mon, 17 Nov 2025 05:10:55 -0500 (EST) Subject: |SUCCESS| pw158848 [PATCH] net/mlx5: move auxiliary data inline From: dpdklab@iol.unh.edu To: Test Report Cc: dpdk-test-reports@iol.unh.edu In-Reply-To: <20251117072752.9290-1-bingz@nvidia.com> References: <20251117072752.9290-1-bingz@nvidia.com> Content-Type: text/plain X-BeenThere: test-report@dpdk.org X-Mailman-Version: 2.1.29 Precedence: list List-Id: automatic DPDK test reports List-Unsubscribe: , List-Archive: List-Post: List-Help: List-Subscribe: , Errors-To: test-report-bounces@dpdk.org Test-Label: iol-compile-amd64-testing Test-Status: SUCCESS http://dpdk.org/patch/158848 _Testing PASS_ Submitter: Bing Zhao Date: Monday, November 17 2025 07:27:52 DPDK git baseline: Repo:dpdk-next-net-mlx Branch: master CommitID:6c8ab18883d4a51ac512a969d36b47272a63b61b 158848 --> testing pass Upstream job id: Generic-DPDK-Compile-Meson#445364 Test environment and result as below: +-------------------------------+--------------------+-------------------+------------------+-------------------------+----------------------+ | Environment | dpdk_meson_compile | dpdk_msvc_compile | dpdk_compile_ovs | dpdk_llvm_clang_compile | dpdk_mingw64_compile | +===============================+====================+===================+==================+=========================+======================+ | Ubuntu 20.04 | PASS | SKIPPED | SKIPPED | SKIPPED | SKIPPED | +-------------------------------+--------------------+-------------------+------------------+-------------------------+----------------------+ | FreeBSD 14.2 | PASS | SKIPPED | SKIPPED | SKIPPED | SKIPPED | +-------------------------------+--------------------+-------------------+------------------+-------------------------+----------------------+ | CentOS Stream 10 | PASS | SKIPPED | SKIPPED | SKIPPED | SKIPPED | +-------------------------------+--------------------+-------------------+------------------+-------------------------+----------------------+ | CentOS Stream 9 | PASS | SKIPPED | SKIPPED | SKIPPED | SKIPPED | +-------------------------------+--------------------+-------------------+------------------+-------------------------+----------------------+ | Debian GNU/Linux 12 | PASS | SKIPPED | SKIPPED | SKIPPED | SKIPPED | +-------------------------------+--------------------+-------------------+------------------+-------------------------+----------------------+ | Fedora Linux 42 | PASS | SKIPPED | PASS | SKIPPED | SKIPPED | +-------------------------------+--------------------+-------------------+------------------+-------------------------+----------------------+ | openSUSE Leap 15.6 | PASS | SKIPPED | SKIPPED | SKIPPED | SKIPPED | +-------------------------------+--------------------+-------------------+------------------+-------------------------+----------------------+ | Red Hat Enterprise Linux 8.10 | PASS | SKIPPED | SKIPPED | SKIPPED | SKIPPED | +-------------------------------+--------------------+-------------------+------------------+-------------------------+----------------------+ | Red Hat Enterprise Linux 9.5 | PASS | SKIPPED | SKIPPED | SKIPPED | SKIPPED | +-------------------------------+--------------------+-------------------+------------------+-------------------------+----------------------+ | Ubuntu 22.04 | PASS | SKIPPED | SKIPPED | SKIPPED | SKIPPED | +-------------------------------+--------------------+-------------------+------------------+-------------------------+----------------------+ | Ubuntu 24.04 | PASS | SKIPPED | PASS | SKIPPED | SKIPPED | +-------------------------------+--------------------+-------------------+------------------+-------------------------+----------------------+ | Alpine Linux 3.22.0 | PASS | SKIPPED | SKIPPED | SKIPPED | SKIPPED | +-------------------------------+--------------------+-------------------+------------------+-------------------------+----------------------+ | Windows Server 2022 | SKIPPED | PASS | SKIPPED | PASS | PASS | +-------------------------------+--------------------+-------------------+------------------+-------------------------+----------------------+ Ubuntu 20.04 Kernel: 4.19 Compiler: gcc gcc (Ubuntu 9.4.0-1ubuntu1~20.04.2) 9.4.0 FreeBSD 14.2 Kernel: 14.2-RELEASE Compiler: clang 18.1.6 CentOS Stream 10 Kernel: 5.15 Compiler: gcc gcc (GCC) 14.2.1 20250110 (Red Hat 14.2.1-8) CentOS Stream 9 Kernel: 5.15 Compiler: gcc gcc (GCC) 11.5.0 20240719 (Red Hat 11.5.0-11) Debian GNU/Linux 12 Kernel: 5.15 Compiler: gcc gcc (Debian 12.2.0-14+deb12u1) 12.2.0 Fedora Linux 42 Kernel: 5.15 Compiler: clang gcc (GCC) 15.2.1 20250808 (Red Hat 15.2.1-1) openSUSE Leap 15.6 Kernel: 5.15 Compiler: gcc gcc (SUSE Linux) 7.5.0 Red Hat Enterprise Linux 8.10 Kernel: 5.15 Compiler: gcc gcc (GCC) 8.5.0 20210514 (Red Hat 8.5.0-22) Red Hat Enterprise Linux 9.5 Kernel: 5.15 Compiler: gcc gcc (GCC) 11.5.0 20240719 (Red Hat 11.5.0-2) Ubuntu 22.04 Kernel: 5.15 Compiler: gcc gcc (Ubuntu 11.4.0-1ubuntu1~22.04) 11.4.0 Ubuntu 24.04 Kernel: 5.15 Compiler: gcc gcc (Ubuntu 13.3.0-6ubuntu2~24.04) 13.3.0 Alpine Linux 3.22.0 Kernel: 5.15 Compiler: gcc gcc (Alpine 14.2.0) 14.2.0 Windows Server 2022 Kernel: 10.0.20348.2031 Compiler: clang 15.0.7, gcc 14.1.0 (MinGW), and MSVC VS 19.39.33521 To view detailed results, visit: https://lab.dpdk.org/results/dashboard/patchsets/34617/ UNH-IOL DPDK Community Lab To manage your email subscriptions, visit: https://lab.dpdk.org/results/dashboard/preferences/subscriptions/