From mboxrd@z Thu Jan 1 00:00:00 1970 Return-Path: Received: from mails.dpdk.org (mails.dpdk.org [217.70.189.124]) by inbox.dpdk.org (Postfix) with ESMTP id 76B8348B31 for ; Mon, 17 Nov 2025 12:01:53 +0100 (CET) Received: from mails.dpdk.org (localhost [127.0.0.1]) by mails.dpdk.org (Postfix) with ESMTP id 56FD94025A; Mon, 17 Nov 2025 12:01:53 +0100 (CET) Received: from mail-ot1-f97.google.com (mail-ot1-f97.google.com [209.85.210.97]) by mails.dpdk.org (Postfix) with ESMTP id 17F3C4025A for ; Mon, 17 Nov 2025 12:01:52 +0100 (CET) Received: by mail-ot1-f97.google.com with SMTP id 46e09a7af769-7c6dbdaced8so2942904a34.1 for ; Mon, 17 Nov 2025 03:01:52 -0800 (PST) DKIM-Signature: v=1; a=rsa-sha256; c=relaxed/relaxed; d=iol.unh.edu; s=unh-iol; t=1763377311; x=1763982111; darn=dpdk.org; h=references:in-reply-to:cc:to:from:subject:message-id:date:from:to :cc:subject:date:message-id:reply-to; bh=nn3wCu9DwTvDV4e6ta7NtvW2sKpITq4nGZbdKi6E0do=; b=Ni49y2HZ4nBKrHxWPZvQRSneOY/lxJyha8TuNGaQeST7kK/kse8C8S/em2pHbOB5MP wA4PeJdzrPSIkewhgPtsUGTVsYOkTqJkEBQOm8ufmz0nsOkPO+zDSO8RwFpBYm3R4r6r O0+hLgyxKhi9Kw7IBrTC+BUwNvg5xUqQ+dwhw= X-Google-DKIM-Signature: v=1; a=rsa-sha256; c=relaxed/relaxed; d=1e100.net; s=20230601; t=1763377311; x=1763982111; h=references:in-reply-to:cc:to:from:subject:message-id:date:x-gm-gg :x-gm-message-state:from:to:cc:subject:date:message-id:reply-to; bh=nn3wCu9DwTvDV4e6ta7NtvW2sKpITq4nGZbdKi6E0do=; b=Ov2W/c2WNirD32hv/e2qbAj4LIOfZmnTM7DNypAbk6zfouJzWVkaang/iB6uz0HOU0 6ROb7lODAeQmaxa8YxJu25dWNdyWpJUdrTFdJZHXiFeCn/t1O8zjrwyJDtgHDwDmi9WR ds/KCJzipL3X4kXmIm+ifDpv9awfTNLrX6umMEyLAx2j2CtXjRKTCln34xzz3G4j9p3g F/HdJudO6ttXS0U2LufawWoDeznaAsR4ZIO6jCeFC+ANzevu3EBpeln1f5dZr9xF9vED 1Kp+I/X9IotC3noyN758y+LxgFIFKG9Y4Sy+3PkRSZFKjxjCG/PVekctNRoJ/X28F7Wq 4bWw== X-Gm-Message-State: AOJu0YzRWyusFx2SOLGhgR57zVXInqxEVixu9CKncT2RMEHlYB5g9LY5 YetqLYXsjznczFDPdSTRg+CuCHk//MEXwIe4TAcDlEQMnRZ8fPF6HZkjHusptBTXrp7oOAsJev+ tfgJnPegXPQA8fvZVRpkZKCxQK2SC/Qx7csKhWPQguU/T X-Gm-Gg: ASbGncvLP8p+nbWk7L1XYOJatitel5jLEV5dTdqlzJ45Z4wo7Prby7cneB6mf0Rna6m uuoQDZfpeSNJKfw25WRaObwiTiB479jNWU7CnLQs981W+8qsAfJ7HaazwxNU4t49T7wbzhoDx8G 7k8KdaCPLi2BKHPwt+1czpQx6CvHYQVcw644zDYB5j1PGZw7RFiiEoJ3OotxIfIR8lbxSEXzGYG xUxLvUksX7Gv/wUVemD7unuGU3tfpF6S7HYKa69jNmMQrUXCAFb24tjC8yS4ZvxPP6AdhQy4D0w YwLCCeD2HFIve1rl9/gpCbOTzWLtfmVlFONuuzaa/p60WA+m38I6WhP3zEizJS3DTAgtBI3YuwL xUcWzfwk2MRZ3L9mGvNEUgyy1UVwf5B8= X-Google-Smtp-Source: AGHT+IEpA/7RskbmcrlYRvbD2niwmx0v4XpfBPt1yHLAOEHCmCIjiNTVX4xLvv5vBNMxCxFtqkSUAM08A9hl X-Received: by 2002:a05:6830:4409:b0:7c7:e5a:5c68 with SMTP id 46e09a7af769-7c744471e2emr6666623a34.16.1763377311104; Mon, 17 Nov 2025 03:01:51 -0800 (PST) Received: from postal.iol.unh.edu (postal.iol.unh.edu. [132.177.123.84]) by smtp-relay.gmail.com with ESMTPS id 46e09a7af769-7c7672d472fsm220898a34.2.2025.11.17.03.01.51 (version=TLS1_2 cipher=ECDHE-ECDSA-AES128-GCM-SHA256 bits=128/128); Mon, 17 Nov 2025 03:01:51 -0800 (PST) X-Relaying-Domain: iol.unh.edu Date: Mon, 17 Nov 2025 03:01:51 -0800 (PST) Message-ID: <691b009f.050a0220.276d2.ab9dSMTPIN_ADDED_MISSING@mx.google.com> Received: from [172.21.0.4] (unknown [172.18.0.240]) by postal.iol.unh.edu (Postfix) with ESMTP id 9CBB86051830; Mon, 17 Nov 2025 06:01:50 -0500 (EST) Subject: |SUCCESS| pw158848 [PATCH] net/mlx5: move auxiliary data inline From: dpdklab@iol.unh.edu To: Test Report Cc: dpdk-test-reports@iol.unh.edu In-Reply-To: <20251117072752.9290-1-bingz@nvidia.com> References: <20251117072752.9290-1-bingz@nvidia.com> Content-Type: text/plain X-BeenThere: test-report@dpdk.org X-Mailman-Version: 2.1.29 Precedence: list List-Id: automatic DPDK test reports List-Unsubscribe: , List-Archive: List-Post: List-Help: List-Subscribe: , Errors-To: test-report-bounces@dpdk.org Test-Label: iol-unit-amd64-testing Test-Status: SUCCESS http://dpdk.org/patch/158848 _Testing PASS_ Submitter: Bing Zhao Date: Monday, November 17 2025 07:27:52 DPDK git baseline: Repo:dpdk-next-net-mlx Branch: master CommitID:6c8ab18883d4a51ac512a969d36b47272a63b61b 158848 --> testing pass Upstream job id: Generic-Unit-Test-DPDK#393657 Test environment and result as below: +-------------------------------+----------------+ | Environment | dpdk_unit_test | +===============================+================+ | CentOS Stream 9 | PASS | +-------------------------------+----------------+ | CentOS Stream 10 | PASS | +-------------------------------+----------------+ | Fedora Linux 40 | PASS | +-------------------------------+----------------+ | Fedora Linux 42 | PASS | +-------------------------------+----------------+ | Red Hat Enterprise Linux 8.10 | PASS | +-------------------------------+----------------+ | Fedora Linux 41 | PASS | +-------------------------------+----------------+ | Red Hat Enterprise Linux 9.5 | PASS | +-------------------------------+----------------+ | Debian GNU/Linux 12 | PASS | +-------------------------------+----------------+ | Ubuntu 20.04 | PASS | +-------------------------------+----------------+ | Ubuntu 24.04 | PASS | +-------------------------------+----------------+ | Ubuntu 22.04 | PASS | +-------------------------------+----------------+ | Windows Server 2022 | PASS | +-------------------------------+----------------+ CentOS Stream 9 Kernel: 5.15 Compiler: gcc gcc (GCC) 11.5.0 20240719 (Red Hat 11.5.0-11) CentOS Stream 10 Kernel: 5.15 Compiler: gcc gcc (GCC) 14.2.1 20250110 (Red Hat 14.2.1-8) Fedora Linux 40 Kernel: 5.15 Compiler: gcc gcc (GCC) 14.2.1 20240912 (Red Hat 14.2.1-3) Fedora Linux 42 Kernel: 5.15 Compiler: clang gcc (GCC) 15.2.1 20250808 (Red Hat 15.2.1-1) Red Hat Enterprise Linux 8.10 Kernel: 5.15 Compiler: gcc gcc (GCC) 8.5.0 20210514 (Red Hat 8.5.0-22) Fedora Linux 41 Kernel: 5.15 Compiler: gcc gcc (GCC) 14.3.1 20250523 (Red Hat 14.3.1-1) Red Hat Enterprise Linux 9.5 Kernel: 5.15 Compiler: gcc gcc (GCC) 11.5.0 20240719 (Red Hat 11.5.0-2) Debian GNU/Linux 12 Kernel: 5.15 Compiler: gcc gcc (Debian 12.2.0-14+deb12u1) 12.2.0 Ubuntu 20.04 Kernel: 5.15 Compiler: gcc gcc (Ubuntu 9.4.0-1ubuntu1~20.04.2) 9.4.0 Ubuntu 24.04 Kernel: 5.15 Compiler: gcc gcc (Ubuntu 13.3.0-6ubuntu2~24.04) 13.3.0 Ubuntu 22.04 Kernel: 5.15 Compiler: gcc gcc (Ubuntu 11.4.0-1ubuntu1~22.04) 11.4.0 Windows Server 2022 Kernel: 10.0.20348.2031 Compiler: clang 15.0.7, gcc 14.1.0 (MinGW), and MSVC VS 19.39.33521 To view detailed results, visit: https://lab.dpdk.org/results/dashboard/patchsets/34617/ UNH-IOL DPDK Community Lab To manage your email subscriptions, visit: https://lab.dpdk.org/results/dashboard/preferences/subscriptions/