From mboxrd@z Thu Jan 1 00:00:00 1970 Return-Path: Received: from mails.dpdk.org (mails.dpdk.org [217.70.189.124]) by inbox.dpdk.org (Postfix) with ESMTP id 22F8B48B31 for ; Mon, 17 Nov 2025 12:30:26 +0100 (CET) Received: from mails.dpdk.org (localhost [127.0.0.1]) by mails.dpdk.org (Postfix) with ESMTP id 1F79B4025A; Mon, 17 Nov 2025 12:30:26 +0100 (CET) Received: from mail-pl1-f226.google.com (mail-pl1-f226.google.com [209.85.214.226]) by mails.dpdk.org (Postfix) with ESMTP id 1DDC04025A for ; Mon, 17 Nov 2025 12:30:25 +0100 (CET) Received: by mail-pl1-f226.google.com with SMTP id d9443c01a7336-297ef378069so40647915ad.3 for ; Mon, 17 Nov 2025 03:30:25 -0800 (PST) DKIM-Signature: v=1; a=rsa-sha256; c=relaxed/relaxed; d=iol.unh.edu; s=unh-iol; t=1763379024; x=1763983824; darn=dpdk.org; h=references:in-reply-to:cc:to:from:subject:message-id:date:from:to :cc:subject:date:message-id:reply-to; bh=GEwbiWtAqZmzQW26sq929ZZHGrcrcWSim4H2vpIs5v0=; b=h1xPjHSYq6OcgOckL3dqOxN6jmc77s151BCqXBpVwXHsU5FmHMtS6z7mEBJxSM6/CB Kg7ixwnTkEpG/B+bZJKLeoYJTj1G4bejKNO3NJrxqegwgfOYOvouUW+o8NhHmVdIEm0S /zVV4GZnVB8UsIXFyLftcsGClDber7lXIgyRM= X-Google-DKIM-Signature: v=1; a=rsa-sha256; c=relaxed/relaxed; d=1e100.net; s=20230601; t=1763379024; x=1763983824; h=references:in-reply-to:cc:to:from:subject:message-id:date:x-gm-gg :x-gm-message-state:from:to:cc:subject:date:message-id:reply-to; bh=GEwbiWtAqZmzQW26sq929ZZHGrcrcWSim4H2vpIs5v0=; b=vsd2bhD+qwlXpJWnlFvO9fvAu8B6vw+u0dlq0kBGyHVUT/rrvdytwRmxH4/vZrYm/Q akZfcIfYowJrnt72Sr6saZUUHFkfyrqUhkhnQWuFUyXStHliPoMHX/qePW8y48kSh+Xm emWtXS7TStT5Q2614O7OLeZk4//8Lc+CTS1lX1HhEI2d+OpKa7IIlc7X3pjXaigQQ/AS UsTZ2lAm2TQ2ca6Ij5sn04tT5lc2jOD7iMcjUAzQrobaOcRmNlKV/46/O+n9Tw8ksdO1 OkazhzZqYPN8VqIjQuMs3/aGdDzdBChE5/d5YaEZw6zdL73p/Z+9yrRZGKqyE52vsiHt pmyA== X-Gm-Message-State: AOJu0YwBhlQuFULvNIP40aPtEaJb0t2xjpWZoNpeyGTBqxVjwzHFgB2Z u2ZBS7kJ2yqUHAScjygApNnzyPZJicAisvoWV/OFHQURwR2yvmqhaMKI3irAqC0+1Tlj5oQWJff Ap8uR1qDRM/12dL39B8alVAvTLloT7MS7b7Zr2YlZ8v3a X-Gm-Gg: ASbGnctfwdzHa72lwS5LDTNpSgvFITNihZ7/PcnvEsnnfBjxY2gq8TGE+uMdS26M12D DS0ZsgDH767e8VwhBblto62qXAaZt4mO85CQpOWyCmXTq9tslJudJrkJ0ZSJHSuWLEMjyFUPgYg x5QMeKhbn0UPFirUVdeGih2B4pa0PwXVZdzyHMCHP/RUIYyR+IUx1WnLapy8csamtU55lONWDz6 WT2kZOm0pgbvgdrATxoXi50BbxrbyZh0uhPQ7xrYvfIJpIqNmFW1m8A9rbwQee4Glo96/vQRJTb Swc79zPp9awb43499MdyvOXIhlKwUYKfkttB6E9GKQM3gvrx7+V6OMYlu7ArVYTpXt6v6TDN0LU sAmT3B88sL0uunq5OYD3pt7+TP7AQZv8= X-Google-Smtp-Source: AGHT+IFkmQ8Xm2qIM7f2PBZISA5MV2as+1A8rL2pu7k9wuf6JXRvTVWpmIUmFP0PHoFGbs8+atV7pzf97ejE X-Received: by 2002:a17:902:f54b:b0:299:e031:173 with SMTP id d9443c01a7336-299e031062emr44689835ad.35.1763379024224; Mon, 17 Nov 2025 03:30:24 -0800 (PST) Received: from postal.iol.unh.edu (postal.iol.unh.edu. [132.177.123.84]) by smtp-relay.gmail.com with ESMTPS id d9443c01a7336-2985c2a8b69sm13737325ad.38.2025.11.17.03.30.24 (version=TLS1_2 cipher=ECDHE-ECDSA-AES128-GCM-SHA256 bits=128/128); Mon, 17 Nov 2025 03:30:24 -0800 (PST) X-Relaying-Domain: iol.unh.edu Date: Mon, 17 Nov 2025 03:30:24 -0800 (PST) Message-ID: <691b0750.170a0220.bef92.35e0SMTPIN_ADDED_MISSING@mx.google.com> Received: from [172.21.0.3] (unknown [172.18.0.240]) by postal.iol.unh.edu (Postfix) with ESMTP id 760946051830; Mon, 17 Nov 2025 06:30:23 -0500 (EST) Subject: |SUCCESS| pw158850 [PATCH] test-flow-perf: support measuring 2nd rou From: dpdklab@iol.unh.edu To: Test Report Cc: dpdk-test-reports@iol.unh.edu In-Reply-To: <20251117073008.9344-1-bingz@nvidia.com> References: <20251117073008.9344-1-bingz@nvidia.com> Content-Type: text/plain X-BeenThere: test-report@dpdk.org X-Mailman-Version: 2.1.29 Precedence: list List-Id: automatic DPDK test reports List-Unsubscribe: , List-Archive: List-Post: List-Help: List-Subscribe: , Errors-To: test-report-bounces@dpdk.org Test-Label: iol-unit-amd64-testing Test-Status: SUCCESS http://dpdk.org/patch/158850 _Testing PASS_ Submitter: Bing Zhao Date: Monday, November 17 2025 07:30:08 DPDK git baseline: Repo:dpdk Branch: master CommitID:be0112878b4fc3a1b918370ed2fe615c52039d77 158850 --> testing pass Upstream job id: Generic-Unit-Test-DPDK#393685 Test environment and result as below: +-------------------------------+----------------+ | Environment | dpdk_unit_test | +===============================+================+ | CentOS Stream 9 | PASS | +-------------------------------+----------------+ | CentOS Stream 10 | PASS | +-------------------------------+----------------+ | Debian GNU/Linux 12 | PASS | +-------------------------------+----------------+ | Fedora Linux 40 | PASS | +-------------------------------+----------------+ | Fedora Linux 42 | PASS | +-------------------------------+----------------+ | Fedora Linux 41 | PASS | +-------------------------------+----------------+ | Red Hat Enterprise Linux 8.10 | PASS | +-------------------------------+----------------+ | Ubuntu 20.04 | PASS | +-------------------------------+----------------+ | Red Hat Enterprise Linux 9.5 | PASS | +-------------------------------+----------------+ | Ubuntu 22.04 | PASS | +-------------------------------+----------------+ | Ubuntu 24.04 | PASS | +-------------------------------+----------------+ | Windows Server 2022 | PASS | +-------------------------------+----------------+ CentOS Stream 9 Kernel: 5.15 Compiler: gcc gcc (GCC) 11.5.0 20240719 (Red Hat 11.5.0-11) CentOS Stream 10 Kernel: 5.15 Compiler: gcc gcc (GCC) 14.2.1 20250110 (Red Hat 14.2.1-8) Debian GNU/Linux 12 Kernel: 5.15 Compiler: gcc gcc (Debian 12.2.0-14+deb12u1) 12.2.0 Fedora Linux 40 Kernel: 5.15 Compiler: clang gcc (GCC) 14.2.1 20240912 (Red Hat 14.2.1-3) Fedora Linux 42 Kernel: 5.15 Compiler: clang gcc (GCC) 15.2.1 20250808 (Red Hat 15.2.1-1) Fedora Linux 41 Kernel: 5.15 Compiler: gcc gcc (GCC) 14.3.1 20250523 (Red Hat 14.3.1-1) Red Hat Enterprise Linux 8.10 Kernel: 5.15 Compiler: gcc gcc (GCC) 8.5.0 20210514 (Red Hat 8.5.0-22) Ubuntu 20.04 Kernel: 5.15 Compiler: gcc gcc (Ubuntu 9.4.0-1ubuntu1~20.04.2) 9.4.0 Red Hat Enterprise Linux 9.5 Kernel: 5.15 Compiler: gcc gcc (GCC) 11.5.0 20240719 (Red Hat 11.5.0-2) Ubuntu 22.04 Kernel: 5.15 Compiler: gcc gcc (Ubuntu 11.4.0-1ubuntu1~22.04) 11.4.0 Ubuntu 24.04 Kernel: 5.15 Compiler: gcc gcc (Ubuntu 13.3.0-6ubuntu2~24.04) 13.3.0 Windows Server 2022 Kernel: 10.0.20348.2031 Compiler: clang 15.0.7, gcc 14.1.0 (MinGW), and MSVC VS 19.39.33521 To view detailed results, visit: https://lab.dpdk.org/results/dashboard/patchsets/34619/ UNH-IOL DPDK Community Lab To manage your email subscriptions, visit: https://lab.dpdk.org/results/dashboard/preferences/subscriptions/