From mboxrd@z Thu Jan 1 00:00:00 1970 Return-Path: Received: from mails.dpdk.org (mails.dpdk.org [217.70.189.124]) by inbox.dpdk.org (Postfix) with ESMTP id CC77B48B31 for ; Mon, 17 Nov 2025 12:48:14 +0100 (CET) Received: from mails.dpdk.org (localhost [127.0.0.1]) by mails.dpdk.org (Postfix) with ESMTP id C84C14025A; Mon, 17 Nov 2025 12:48:14 +0100 (CET) Received: from mail-il1-f228.google.com (mail-il1-f228.google.com [209.85.166.228]) by mails.dpdk.org (Postfix) with ESMTP id 99F804027D for ; Mon, 17 Nov 2025 12:48:11 +0100 (CET) Received: by mail-il1-f228.google.com with SMTP id e9e14a558f8ab-43479d86958so20121875ab.0 for ; Mon, 17 Nov 2025 03:48:11 -0800 (PST) DKIM-Signature: v=1; a=rsa-sha256; c=relaxed/relaxed; d=iol.unh.edu; s=unh-iol; t=1763380091; x=1763984891; darn=dpdk.org; h=references:in-reply-to:cc:to:from:subject:message-id:date:from:to :cc:subject:date:message-id:reply-to; bh=Cd7CceZq5/+KxAvwiIRbrEfsj2TJi8sY+qc2iPEowIQ=; b=dZeGJPH806lnO9H2DBGg4wAWl/g4XTExkj8rkDOCaQBCZMMjpbj6IromoWwF/kEdLh 63QeV3zT/sQs7yJ0BbngD9rxMgb8JNUg8FBAKMJqwScrEYgxY3ccaPmR0lZscdP4RiCg PqUr10F9Oa6/Y0mpXusJlaJ7mS+uId3a3oCI8= X-Google-DKIM-Signature: v=1; a=rsa-sha256; c=relaxed/relaxed; d=1e100.net; s=20230601; t=1763380091; x=1763984891; h=references:in-reply-to:cc:to:from:subject:message-id:date:x-gm-gg :x-gm-message-state:from:to:cc:subject:date:message-id:reply-to; bh=Cd7CceZq5/+KxAvwiIRbrEfsj2TJi8sY+qc2iPEowIQ=; b=XzIRyP0w4Fqco/lMOU1F9hP0QLjf9/jBZC0bXiSqqJ8sTaxXotJtdrl6s4hpsgNnZ+ 3+fo7t9FjhEI3eFpqBavgSHxk2sQMwk1LjPm9+orNrUc1k89dKTzTaRf3KKjJgTttY0M zvJBN/t2Fzta4icFGwMk8pBMRik42aVgwS5V1DyJ0Tu8mTmXzk/i3CM3ve74B5h0caxs zdgmD7aw9bJUnq1TjnKY4kurujTOq4zU6MjOu7+Ul0ycZnuXzHWytafySmHYv1zGHcTN R2WysyUmyoz3cWvkQIi4wQFjAVxxBJVCPngikDH7Ok8WqMTgvsHS8RdHm4RMRPPBeZsW +Vzg== X-Gm-Message-State: AOJu0YzZACLdgRtTKzY5oXaBX++MSCKKz5Vnon6m1IkvAO1tz7HiQ/Kh Jx9eO3XoitlANK06haY67DHuVoCQNSN52cbW3evsX0kMboLqaySX9VeFW0fXGAzxpdHaCHsTG5b 4PP70dxPUYVElLfoPI1YQMXoRhiO/xRjwfWt3FFP8VCQj X-Gm-Gg: ASbGncvEWvandcrBpcToa47H5m7aommTKg4h1l5QVdZkFIZrakEQSZV1VIoTTswT9qe o2v+vOX5evV2hU4bn5ozKpDyi2pBw0N7WDkwLHMv19Lg9XJrrLqncrFZLJQR6dSyUDnYwWJ2LtR XAnA6i+AlEmPnfUz3xH3HniOM9bFnKUIqebU+/vKAt4N3qG4W2wiK+NpWCkI/UPa5ihDd+XK1/N 1hVYAhauEi91ff62R9DtZcrC6e5NNeIv+U0Fl0JDt+rMdD7kbhjMTrUhCAArb/+swCmsrFspY/X aZOlfbhK8/7IINroOi+vAoKBbIJ1/lxi/ck7LleKU2MW4e7UtioEg+AoTn/pQq1LagdTXZPUtiG OcVjG6nAnLZLQIvYAm2W9YlO8fv80N7E= X-Google-Smtp-Source: AGHT+IE6zw3Wn6D/9zv7e8zfd/YP146fxpHHXQMNWg5GuoBXDmqcHlKLcVu9wybfYnaFG7Rn8bilCtv0LfKb X-Received: by 2002:a05:6e02:8:b0:434:70bd:8b52 with SMTP id e9e14a558f8ab-4348c879222mr155426195ab.7.1763380090844; Mon, 17 Nov 2025 03:48:10 -0800 (PST) Received: from postal.iol.unh.edu (postal.iol.unh.edu. [132.177.123.84]) by smtp-relay.gmail.com with ESMTPS id e9e14a558f8ab-434833c60absm11461685ab.1.2025.11.17.03.48.10 (version=TLS1_2 cipher=ECDHE-ECDSA-AES128-GCM-SHA256 bits=128/128); Mon, 17 Nov 2025 03:48:10 -0800 (PST) X-Relaying-Domain: iol.unh.edu Date: Mon, 17 Nov 2025 03:48:10 -0800 (PST) Message-ID: <691b0b7a.050a0220.213cda.8e26SMTPIN_ADDED_MISSING@mx.google.com> Received: from [172.21.0.10] (unknown [172.18.0.240]) by postal.iol.unh.edu (Postfix) with ESMTP id 54D7C60003E7; Mon, 17 Nov 2025 06:48:10 -0500 (EST) Subject: |SUCCESS| pw158850 [PATCH] test-flow-perf: support measuring 2nd rou From: dpdklab@iol.unh.edu To: Test Report Cc: dpdk-test-reports@iol.unh.edu In-Reply-To: <20251117073008.9344-1-bingz@nvidia.com> References: <20251117073008.9344-1-bingz@nvidia.com> Content-Type: text/plain X-BeenThere: test-report@dpdk.org X-Mailman-Version: 2.1.29 Precedence: list List-Id: automatic DPDK test reports List-Unsubscribe: , List-Archive: List-Post: List-Help: List-Subscribe: , Errors-To: test-report-bounces@dpdk.org Test-Label: iol-compile-amd64-testing Test-Status: SUCCESS http://dpdk.org/patch/158850 _Testing PASS_ Submitter: Bing Zhao Date: Monday, November 17 2025 07:30:08 DPDK git baseline: Repo:dpdk Branch: master CommitID:be0112878b4fc3a1b918370ed2fe615c52039d77 158850 --> testing pass Upstream job id: Generic-DPDK-Compile-Meson#445406 Test environment and result as below: +-------------------------------+--------------------+-------------------+------------------+-------------------------+----------------------+ | Environment | dpdk_meson_compile | dpdk_msvc_compile | dpdk_compile_ovs | dpdk_llvm_clang_compile | dpdk_mingw64_compile | +===============================+====================+===================+==================+=========================+======================+ | Ubuntu 20.04 | PASS | SKIPPED | SKIPPED | SKIPPED | SKIPPED | +-------------------------------+--------------------+-------------------+------------------+-------------------------+----------------------+ | FreeBSD 14.2 | PASS | SKIPPED | SKIPPED | SKIPPED | SKIPPED | +-------------------------------+--------------------+-------------------+------------------+-------------------------+----------------------+ | CentOS Stream 9 | PASS | SKIPPED | SKIPPED | SKIPPED | SKIPPED | +-------------------------------+--------------------+-------------------+------------------+-------------------------+----------------------+ | Debian GNU/Linux 12 | PASS | SKIPPED | SKIPPED | SKIPPED | SKIPPED | +-------------------------------+--------------------+-------------------+------------------+-------------------------+----------------------+ | CentOS Stream 10 | PASS | SKIPPED | SKIPPED | SKIPPED | SKIPPED | +-------------------------------+--------------------+-------------------+------------------+-------------------------+----------------------+ | Fedora Linux 42 | PASS | SKIPPED | PASS | SKIPPED | SKIPPED | +-------------------------------+--------------------+-------------------+------------------+-------------------------+----------------------+ | openSUSE Leap 15.6 | PASS | SKIPPED | SKIPPED | SKIPPED | SKIPPED | +-------------------------------+--------------------+-------------------+------------------+-------------------------+----------------------+ | Red Hat Enterprise Linux 8.10 | PASS | SKIPPED | SKIPPED | SKIPPED | SKIPPED | +-------------------------------+--------------------+-------------------+------------------+-------------------------+----------------------+ | Red Hat Enterprise Linux 9.5 | PASS | SKIPPED | SKIPPED | SKIPPED | SKIPPED | +-------------------------------+--------------------+-------------------+------------------+-------------------------+----------------------+ | Ubuntu 22.04 | PASS | SKIPPED | SKIPPED | SKIPPED | SKIPPED | +-------------------------------+--------------------+-------------------+------------------+-------------------------+----------------------+ | Ubuntu 24.04 | PASS | SKIPPED | PASS | SKIPPED | SKIPPED | +-------------------------------+--------------------+-------------------+------------------+-------------------------+----------------------+ | Alpine Linux 3.22.0 | PASS | SKIPPED | SKIPPED | SKIPPED | SKIPPED | +-------------------------------+--------------------+-------------------+------------------+-------------------------+----------------------+ | Windows Server 2022 | SKIPPED | PASS | SKIPPED | PASS | PASS | +-------------------------------+--------------------+-------------------+------------------+-------------------------+----------------------+ Ubuntu 20.04 Kernel: 4.19 Compiler: gcc gcc (Ubuntu 9.4.0-1ubuntu1~20.04.2) 9.4.0 FreeBSD 14.2 Kernel: 14.2-RELEASE Compiler: clang 18.1.6 CentOS Stream 9 Kernel: 5.15 Compiler: gcc gcc (GCC) 11.5.0 20240719 (Red Hat 11.5.0-11) Debian GNU/Linux 12 Kernel: 5.15 Compiler: gcc gcc (Debian 12.2.0-14+deb12u1) 12.2.0 CentOS Stream 10 Kernel: 5.15 Compiler: gcc gcc (GCC) 14.2.1 20250110 (Red Hat 14.2.1-8) Fedora Linux 42 Kernel: 5.15 Compiler: clang gcc (GCC) 15.2.1 20250808 (Red Hat 15.2.1-1) openSUSE Leap 15.6 Kernel: 5.15 Compiler: gcc gcc (SUSE Linux) 7.5.0 Red Hat Enterprise Linux 8.10 Kernel: 5.15 Compiler: gcc gcc (GCC) 8.5.0 20210514 (Red Hat 8.5.0-22) Red Hat Enterprise Linux 9.5 Kernel: 5.15 Compiler: gcc gcc (GCC) 11.5.0 20240719 (Red Hat 11.5.0-2) Ubuntu 22.04 Kernel: 5.15 Compiler: gcc gcc (Ubuntu 11.4.0-1ubuntu1~22.04) 11.4.0 Ubuntu 24.04 Kernel: 5.15 Compiler: gcc gcc (Ubuntu 13.3.0-6ubuntu2~24.04) 13.3.0 Alpine Linux 3.22.0 Kernel: 5.15 Compiler: gcc gcc (Alpine 14.2.0) 14.2.0 Windows Server 2022 Kernel: 10.0.20348.2031 Compiler: clang 15.0.7, gcc 14.1.0 (MinGW), and MSVC VS 19.39.33521 To view detailed results, visit: https://lab.dpdk.org/results/dashboard/patchsets/34619/ UNH-IOL DPDK Community Lab To manage your email subscriptions, visit: https://lab.dpdk.org/results/dashboard/preferences/subscriptions/