From mboxrd@z Thu Jan 1 00:00:00 1970 Return-Path: Received: from mails.dpdk.org (mails.dpdk.org [217.70.189.124]) by inbox.dpdk.org (Postfix) with ESMTP id E439048B31 for ; Mon, 17 Nov 2025 12:48:44 +0100 (CET) Received: from mails.dpdk.org (localhost [127.0.0.1]) by mails.dpdk.org (Postfix) with ESMTP id DF8B24025A; Mon, 17 Nov 2025 12:48:44 +0100 (CET) Received: from mail-pl1-f228.google.com (mail-pl1-f228.google.com [209.85.214.228]) by mails.dpdk.org (Postfix) with ESMTP id 649094025A for ; Mon, 17 Nov 2025 12:48:43 +0100 (CET) Received: by mail-pl1-f228.google.com with SMTP id d9443c01a7336-298456bb53aso47005205ad.0 for ; Mon, 17 Nov 2025 03:48:43 -0800 (PST) DKIM-Signature: v=1; a=rsa-sha256; c=relaxed/relaxed; d=iol.unh.edu; s=unh-iol; t=1763380122; x=1763984922; darn=dpdk.org; h=references:in-reply-to:cc:to:from:subject:message-id:date:from:to :cc:subject:date:message-id:reply-to; bh=8oRFv5H/wTQc/79mD3poTFf5X0IsryJZGlBCDCmv3RY=; b=GbmHfWBfWZtQZWuAH32fczYHBl2RzYBerv4DGFegaz1xYDG/MyZMuwMELeRDl1kr08 qHNU+iXThH92vJATF2mXBZ1Jr7C0k7kWa275AzVVyxij/zoRk5NCy2lIj5B3eX8ZxSqB 5jPDWyNjXerwVWrYcSCuWSPJFSKiUVLxHnzD8= X-Google-DKIM-Signature: v=1; a=rsa-sha256; c=relaxed/relaxed; d=1e100.net; s=20230601; t=1763380122; x=1763984922; h=references:in-reply-to:cc:to:from:subject:message-id:date:x-gm-gg :x-gm-message-state:from:to:cc:subject:date:message-id:reply-to; bh=8oRFv5H/wTQc/79mD3poTFf5X0IsryJZGlBCDCmv3RY=; b=Y8AuSxjFnNiLO82kZJLZY4c97jkhg4H4FI6kl3J3FuSia4VU3il9WvNCW+RGc0NgLW rEM51ErmHgExq3bXAcXlyJGsNUY8GeooHUA4twV0n5KSa8V2QX6rPu1CDNFVz53e7px1 Ro0aarhRVWXXbvJdAk62uZDyf+VwOU5dAP9/HVRfItuXjYIdGlkwmxmbJ88MhT+u79am h+fSwyd4LFY35PDr1kOy3EPSP9uKc/+SEkXMZisoldUztO/gVOkkPS5xXRfH+xraBh3k dZCC5ioItJYmQTPcdiZZI8cZaJUPonjBirxsXVViEqmn17xhj6DUHgOhAl2XzlS8GIsU Zq/A== X-Gm-Message-State: AOJu0Yxas3tTF7NrMxh+DKzNd9u+9MdRQTCpfOntQuRIvLZXftIYvGKZ /hhdUidimFPfxYR3siRaP14itBaBs8xQdx6NUo/1CAxR8tN4HCM8QGnafzYqht0DMZ6aphaQG/4 yMXEw2INLMj/nLcdGHy5Fsi3AC7Jl2JNGcqkOhHvDr+QJEkxdAeP+eZgLfSd4 X-Gm-Gg: ASbGncudhYBoB/WWvSQAaJSQeR5brI5vZvic6MgEjEl9aoOvvygjIkiLf9Yb1wRrm1F mbaHFGgj3lqJ8C85tZui4uUZuyg+QxRIGmiicNxSvrbtesy7LqUoJnRCe2JK4lyk4cSBtIdQ6d7 O9Do3gTrQPkzQMZtuTuUHXy4vGx8ygaWiUrlgKgXDig0hRcTF1RuHspcM87XcMt9cbhByzXBOP3 bsRf23ejtP5LoVDg5NQ+1r1CH6eFQ3p8J9Kfc6udjjxTh6xUC2MU2X/UfyjDVaBe3f+2iaVBSo2 +5pc+oBfFq60qB7A2fLsPCAnV2EWqkpTQNzv2A8cQ/bkwVudH6PrtIRNPjkZpr5NSplkNs5yt41 rjqc3kg2N X-Google-Smtp-Source: AGHT+IHyg5f4fMzSfyuFXPln4KO8k7Z2BvI7+ELICfJjnwOFrIGlGADksMdscoFRpE1DL8RsCmH/BLtouW+T X-Received: by 2002:a17:903:b0d:b0:295:ac6f:c899 with SMTP id d9443c01a7336-2986a7556bemr130312615ad.47.1763380122581; Mon, 17 Nov 2025 03:48:42 -0800 (PST) Received: from postal.iol.unh.edu (postal.iol.unh.edu. [2606:4100:3880:1234::84]) by smtp-relay.gmail.com with ESMTPS id d9443c01a7336-299dc990b14sm4803305ad.9.2025.11.17.03.48.42 (version=TLS1_2 cipher=ECDHE-ECDSA-AES128-GCM-SHA256 bits=128/128); Mon, 17 Nov 2025 03:48:42 -0800 (PST) X-Relaying-Domain: iol.unh.edu Date: Mon, 17 Nov 2025 03:48:42 -0800 (PST) Message-ID: <691b0b9a.170a0220.79fbc.7898SMTPIN_ADDED_MISSING@mx.google.com> Received: from [172.21.0.6] (unknown [172.18.0.240]) by postal.iol.unh.edu (Postfix) with ESMTP id 9F9606051830; Mon, 17 Nov 2025 06:48:41 -0500 (EST) Subject: |SUCCESS| pw158857 [PATCH] [v2] net/mlx5/windows: fix match criteria From: dpdklab@iol.unh.edu To: Test Report Cc: dpdk-test-reports@iol.unh.edu In-Reply-To: <20251117084500.1276-1-isharoni@nvidia.com> References: <20251117084500.1276-1-isharoni@nvidia.com> Content-Type: text/plain X-BeenThere: test-report@dpdk.org X-Mailman-Version: 2.1.29 Precedence: list List-Id: automatic DPDK test reports List-Unsubscribe: , List-Archive: List-Post: List-Help: List-Subscribe: , Errors-To: test-report-bounces@dpdk.org Test-Label: iol-compile-amd64-testing Test-Status: SUCCESS http://dpdk.org/patch/158857 _Testing PASS_ Submitter: Itai Sharoni Date: Monday, November 17 2025 08:45:00 DPDK git baseline: Repo:dpdk-next-net-mlx Branch: master CommitID:6c8ab18883d4a51ac512a969d36b47272a63b61b 158857 --> testing pass Upstream job id: Generic-DPDK-Compile-Meson#445463 Test environment and result as below: +--------------------+--------------------+ | Environment | dpdk_meson_compile | +====================+====================+ | Ubuntu 20.04 | PASS | +--------------------+--------------------+ | FreeBSD 14.2 | PASS | +--------------------+--------------------+ | openSUSE Leap 15.6 | PASS | +--------------------+--------------------+ Ubuntu 20.04 Kernel: 4.19 Compiler: gcc gcc (Ubuntu 9.4.0-1ubuntu1~20.04.2) 9.4.0 FreeBSD 14.2 Kernel: 14.2-RELEASE Compiler: clang 18.1.6 openSUSE Leap 15.6 Kernel: 5.15 Compiler: gcc gcc (SUSE Linux) 7.5.0 To view detailed results, visit: https://lab.dpdk.org/results/dashboard/patchsets/34626/ UNH-IOL DPDK Community Lab To manage your email subscriptions, visit: https://lab.dpdk.org/results/dashboard/preferences/subscriptions/