From mboxrd@z Thu Jan 1 00:00:00 1970 Return-Path: Received: from mails.dpdk.org (mails.dpdk.org [217.70.189.124]) by inbox.dpdk.org (Postfix) with ESMTP id 0805948B31 for ; Mon, 17 Nov 2025 12:49:15 +0100 (CET) Received: from mails.dpdk.org (localhost [127.0.0.1]) by mails.dpdk.org (Postfix) with ESMTP id 0398E4025A; Mon, 17 Nov 2025 12:49:15 +0100 (CET) Received: from mail-il1-f225.google.com (mail-il1-f225.google.com [209.85.166.225]) by mails.dpdk.org (Postfix) with ESMTP id 25BB54025A for ; Mon, 17 Nov 2025 12:49:13 +0100 (CET) Received: by mail-il1-f225.google.com with SMTP id e9e14a558f8ab-4330e912c51so18367655ab.3 for ; Mon, 17 Nov 2025 03:49:13 -0800 (PST) DKIM-Signature: v=1; a=rsa-sha256; c=relaxed/relaxed; d=iol.unh.edu; s=unh-iol; t=1763380152; x=1763984952; darn=dpdk.org; h=references:in-reply-to:cc:to:from:subject:message-id:date:from:to :cc:subject:date:message-id:reply-to; bh=1RgiV5naKtsB0OaAC2rJaf6KfjuzQFT3GhypwhqKAc0=; b=GZJs0BRHS0fPKFXI5jTEVQL1O700C3qUObSP7fK4NfXr/ya/jExKn5wbB8H4VNUKWq w5vFruMg4Bs2ygCQRfE3AulTy3XbLAa/UuyIIEHdAEduFQBAbCvgs2vkVderp2sG7APd xBU8Z89NardW/xCzG1LccCJqoQSN+XUckp2uk= X-Google-DKIM-Signature: v=1; a=rsa-sha256; c=relaxed/relaxed; d=1e100.net; s=20230601; t=1763380152; x=1763984952; h=references:in-reply-to:cc:to:from:subject:message-id:date:x-gm-gg :x-gm-message-state:from:to:cc:subject:date:message-id:reply-to; bh=1RgiV5naKtsB0OaAC2rJaf6KfjuzQFT3GhypwhqKAc0=; b=o0UwfEIS0vYtWSWafh0ajzHM+/vXNI5teHGTWgF9XWCd8Q3lTNO0zgB7RN2arPe5t6 BYQRlhYCzeKt72xXNmCzCMoiHo9U6EZMNB78VFDHL0BnTC6aqib5ewzffdZidG8lyGJE m6a5XkLRgnfNf56q2wzaEfxvdZsnH/+gb6jcbbqXDws/Iisv+QFkwhToPcU5+oMUh2Kb GjibS4EZOfyJqCYx/lRcf97/Kdd6/+DKxixYOfuZPewMirSLQpUyiB2ul0Z4oBid0lTx AvqC+ntR9tqpY5+yKonQQrh80ToEMsh0lD7MT6JHt/TJ4ejc0xOLOY6y/Lez1H31ryOq G45w== X-Gm-Message-State: AOJu0Yz/xdPD7zHA6eqrJ+c++xUv0THZUZOQUCazdthktAWrpHS3SWG+ JZHqWEUcwIyd3IlrFlo2YxhYTpN7mP7czPPYpLuhUxRTteVG/LatjA+ApFJ/YRuytxgYQNS4djj T64V0XZssLbV5QTy6WOU4xXaU5RW1YJ3Ua0oIUFZghOZGDGU5Jh9C/bMDuMNi X-Gm-Gg: ASbGncufHVwNZnnxBkTGIicHRZLwV2Wf6+0Tw1xqKa5KNWWxdFaIy0+1S65i50QO3UE zXDfw2m9MwZ06YSLMTmJTPnhYf2xivLHiiaXfgT5dYNkzA7NZzr4o08MqeQ8h2BGchmeMb1eZ45 wohKz26LPqBWgLNXPp2ZXHlR87Y5JyE4ltXS/Jx6YvEguaSPdGaATkBToCW2vjsAT1sJcwMY6QA ubeEPWhEfj5vh3E644LRKj1wkTmarx9jTZYkEJ7liqQbSbt9vSQkDufVwIR4kc5rn2P1UP0hr4j ZWkq2dk+ZIfREE0GWwrMpiER5CgxXpnsiVMary47FYs4wyO0GOfTLAdm76F1qemxAqxnncRG+Qg 3SGtTnTdK X-Google-Smtp-Source: AGHT+IFZwv4BOn6aoWLg6xCN9K7BgI1IURNl4x/DDJhmzoshhtN9tHt9lYa/nD5jzzvlFTlwG+fX3T0uten5 X-Received: by 2002:a05:6e02:258b:b0:434:6ef2:a43d with SMTP id e9e14a558f8ab-4348c938f48mr127120735ab.19.1763380152437; Mon, 17 Nov 2025 03:49:12 -0800 (PST) Received: from postal.iol.unh.edu (postal.iol.unh.edu. [2606:4100:3880:1234::84]) by smtp-relay.gmail.com with ESMTPS id 8926c6da1cb9f-5b7bd3356a5sm879837173.31.2025.11.17.03.49.12 (version=TLS1_2 cipher=ECDHE-ECDSA-AES128-GCM-SHA256 bits=128/128); Mon, 17 Nov 2025 03:49:12 -0800 (PST) X-Relaying-Domain: iol.unh.edu Date: Mon, 17 Nov 2025 03:49:12 -0800 (PST) Message-ID: <691b0bb8.050a0220.21cff4.b3b5SMTPIN_ADDED_MISSING@mx.google.com> Received: from [172.21.0.10] (unknown [172.18.0.240]) by postal.iol.unh.edu (Postfix) with ESMTP id AFCB26051830; Mon, 17 Nov 2025 06:49:11 -0500 (EST) Subject: |SUCCESS| pw158850 [PATCH] test-flow-perf: support measuring 2nd rou From: dpdklab@iol.unh.edu To: Test Report Cc: dpdk-test-reports@iol.unh.edu In-Reply-To: <20251117073008.9344-1-bingz@nvidia.com> References: <20251117073008.9344-1-bingz@nvidia.com> Content-Type: text/plain X-BeenThere: test-report@dpdk.org X-Mailman-Version: 2.1.29 Precedence: list List-Id: automatic DPDK test reports List-Unsubscribe: , List-Archive: List-Post: List-Help: List-Subscribe: , Errors-To: test-report-bounces@dpdk.org Test-Label: iol-compile-amd64-testing Test-Status: SUCCESS http://dpdk.org/patch/158850 _Testing PASS_ Submitter: Bing Zhao Date: Monday, November 17 2025 07:30:08 DPDK git baseline: Repo:dpdk Branch: master CommitID:be0112878b4fc3a1b918370ed2fe615c52039d77 158850 --> testing pass Upstream job id: Generic-DPDK-Compile-Meson#445397 Test environment and result as below: +-------------------------------+--------------------+-------------------+------------------+-------------------------+----------------------+ | Environment | dpdk_meson_compile | dpdk_msvc_compile | dpdk_compile_ovs | dpdk_llvm_clang_compile | dpdk_mingw64_compile | +===============================+====================+===================+==================+=========================+======================+ | Ubuntu 20.04 | PASS | SKIPPED | SKIPPED | SKIPPED | SKIPPED | +-------------------------------+--------------------+-------------------+------------------+-------------------------+----------------------+ | FreeBSD 14.2 | PASS | SKIPPED | SKIPPED | SKIPPED | SKIPPED | +-------------------------------+--------------------+-------------------+------------------+-------------------------+----------------------+ | CentOS Stream 9 | PASS | SKIPPED | SKIPPED | SKIPPED | SKIPPED | +-------------------------------+--------------------+-------------------+------------------+-------------------------+----------------------+ | Debian GNU/Linux 12 | PASS | SKIPPED | SKIPPED | SKIPPED | SKIPPED | +-------------------------------+--------------------+-------------------+------------------+-------------------------+----------------------+ | CentOS Stream 10 | PASS | SKIPPED | SKIPPED | SKIPPED | SKIPPED | +-------------------------------+--------------------+-------------------+------------------+-------------------------+----------------------+ | Fedora Linux 42 | PASS | SKIPPED | PASS | SKIPPED | SKIPPED | +-------------------------------+--------------------+-------------------+------------------+-------------------------+----------------------+ | openSUSE Leap 15.6 | PASS | SKIPPED | SKIPPED | SKIPPED | SKIPPED | +-------------------------------+--------------------+-------------------+------------------+-------------------------+----------------------+ | Red Hat Enterprise Linux 8.10 | PASS | SKIPPED | SKIPPED | SKIPPED | SKIPPED | +-------------------------------+--------------------+-------------------+------------------+-------------------------+----------------------+ | Red Hat Enterprise Linux 9.5 | PASS | SKIPPED | SKIPPED | SKIPPED | SKIPPED | +-------------------------------+--------------------+-------------------+------------------+-------------------------+----------------------+ | Ubuntu 22.04 | PASS | SKIPPED | SKIPPED | SKIPPED | SKIPPED | +-------------------------------+--------------------+-------------------+------------------+-------------------------+----------------------+ | Ubuntu 24.04 | PASS | SKIPPED | PASS | SKIPPED | SKIPPED | +-------------------------------+--------------------+-------------------+------------------+-------------------------+----------------------+ | Alpine Linux 3.22.0 | PASS | SKIPPED | SKIPPED | SKIPPED | SKIPPED | +-------------------------------+--------------------+-------------------+------------------+-------------------------+----------------------+ | Windows Server 2022 | SKIPPED | PASS | SKIPPED | PASS | PASS | +-------------------------------+--------------------+-------------------+------------------+-------------------------+----------------------+ Ubuntu 20.04 Kernel: 4.19 Compiler: gcc gcc (Ubuntu 9.4.0-1ubuntu1~20.04.2) 9.4.0 FreeBSD 14.2 Kernel: 14.2-RELEASE Compiler: clang 18.1.6 CentOS Stream 9 Kernel: 5.15 Compiler: gcc gcc (GCC) 11.5.0 20240719 (Red Hat 11.5.0-11) Debian GNU/Linux 12 Kernel: 5.15 Compiler: gcc gcc (Debian 12.2.0-14+deb12u1) 12.2.0 CentOS Stream 10 Kernel: 5.15 Compiler: gcc gcc (GCC) 14.2.1 20250110 (Red Hat 14.2.1-8) Fedora Linux 42 Kernel: 5.15 Compiler: clang gcc (GCC) 15.2.1 20250808 (Red Hat 15.2.1-1) openSUSE Leap 15.6 Kernel: 5.15 Compiler: gcc gcc (SUSE Linux) 7.5.0 Red Hat Enterprise Linux 8.10 Kernel: 5.15 Compiler: gcc gcc (GCC) 8.5.0 20210514 (Red Hat 8.5.0-22) Red Hat Enterprise Linux 9.5 Kernel: 5.15 Compiler: gcc gcc (GCC) 11.5.0 20240719 (Red Hat 11.5.0-2) Ubuntu 22.04 Kernel: 5.15 Compiler: gcc gcc (Ubuntu 11.4.0-1ubuntu1~22.04) 11.4.0 Ubuntu 24.04 Kernel: 5.15 Compiler: gcc gcc (Ubuntu 13.3.0-6ubuntu2~24.04) 13.3.0 Alpine Linux 3.22.0 Kernel: 5.15 Compiler: gcc gcc (Alpine 14.2.0) 14.2.0 Windows Server 2022 Kernel: 10.0.20348.2031 Compiler: clang 15.0.7, gcc 14.1.0 (MinGW), and MSVC VS 19.39.33521 To view detailed results, visit: https://lab.dpdk.org/results/dashboard/patchsets/34619/ UNH-IOL DPDK Community Lab To manage your email subscriptions, visit: https://lab.dpdk.org/results/dashboard/preferences/subscriptions/