From mboxrd@z Thu Jan 1 00:00:00 1970 Return-Path: Received: from mails.dpdk.org (mails.dpdk.org [217.70.189.124]) by inbox.dpdk.org (Postfix) with ESMTP id EB2C048B31 for ; Mon, 17 Nov 2025 13:04:11 +0100 (CET) Received: from mails.dpdk.org (localhost [127.0.0.1]) by mails.dpdk.org (Postfix) with ESMTP id E3BD24025A; Mon, 17 Nov 2025 13:04:11 +0100 (CET) Received: from mail-pf1-f225.google.com (mail-pf1-f225.google.com [209.85.210.225]) by mails.dpdk.org (Postfix) with ESMTP id 363324025A for ; Mon, 17 Nov 2025 13:04:10 +0100 (CET) Received: by mail-pf1-f225.google.com with SMTP id d2e1a72fcca58-7bc0cd6a13aso2285049b3a.0 for ; Mon, 17 Nov 2025 04:04:10 -0800 (PST) DKIM-Signature: v=1; a=rsa-sha256; c=relaxed/relaxed; d=iol.unh.edu; s=unh-iol; t=1763381049; x=1763985849; darn=dpdk.org; h=references:in-reply-to:cc:to:from:subject:message-id:date:from:to :cc:subject:date:message-id:reply-to; bh=dryRRIt1uKhNVSwRYkKxFiX3lheCZlyC0NfWRjEF+MU=; b=Yd/g4z2u4zBLs4lNrXR9cThJKOx03UcSZQYCWYKLUDS0tFpLqbik/Pi1EBEpI8EJlx ON0BLiO9nHIHzDH6ZcHW1KlDDcNKq2m0CGU+axPKh9FhusHcatXXL3AUodAncted4jtI r1fxo+dvgtF68QvJR1waPsfWsvPX2LD6XySb4= X-Google-DKIM-Signature: v=1; a=rsa-sha256; c=relaxed/relaxed; d=1e100.net; s=20230601; t=1763381049; x=1763985849; h=references:in-reply-to:cc:to:from:subject:message-id:date:x-gm-gg :x-gm-message-state:from:to:cc:subject:date:message-id:reply-to; bh=dryRRIt1uKhNVSwRYkKxFiX3lheCZlyC0NfWRjEF+MU=; b=VcfgpCMOXhyEP3dUN7ccYv7IvL3fj4ZZG1G8gIfcj5LPv7cmHe8SHVsWGqir306MTK M6/fcD4HOs5YuvBwU0kZ3wiANIJ+wMjldWwW0+EBwUz4mI4rKR95wCH176We078p9h5E QvPbCYwIjn3EdqlByxQdLSWAt3q6fkERRutZe/uMDPL0VyYwoDJyBDJKl6VdHCOnckB8 jZkCccBP44nACCTx6wo7Xf1tC3U4jCSHTyDtzU5hujiNDzJX8jEnogbTR1qlBaXovb+p qVlAtXiXXY8FO1xn2uT8X5lIuzlyEsnBdXnoko7druuFItMyQ3k6cliazojnvKduSX+F 52rg== X-Gm-Message-State: AOJu0Yx8yqBPQauNJKa5XfRZoUtFY3AE05yF4kgKVdD/btSF4bmxJ1c8 dUb4+LYHZECjOwu+pYkq/JQnqyIFDD7PTokkooBUdfXkyMFAi0NDg2/UqW+2+3oP4PDSCaVgwNY JUPWskNXr3KBqlQR2BoJHTS3MiscjxdUmTbW3curA99ZV X-Gm-Gg: ASbGnctF0AeLaoSCAiLEnPqg7z8MGpj+jVMgVa4+GRAz0lY1dKlJCfzaCJNlsJNVykn GIfVXjTNv7wT/0MUmKvy/Lrum1Q6pBGUcWzst78Cpe+LkJMv/G2fctq7E7jCps09bYA/zz4R5AR uImDjZdaFtOg27ULPhBSAFOoxyLTkTlxapT1SBmjAXm1p6m8EOTJSrGb57ec1R/W94asZpY6nFg I1O5EbIKPwH2BnQUXfIcreGI9yUudZ07/q08Fj8QHUUDzNo47yidClsp5xU/nDOOOC7boSdu8pm aG1xpV9AmkPrkRNolYpcv6Cg4yf1aRimHSlr7ZrdDiqfmgCZRQudPYX/dqSpjp8TRcly9F8xOzQ oIZTN//M97NwauTlWAyTCioi53RGhjBY= X-Google-Smtp-Source: AGHT+IFDxRxlBhec245b9xJHMjFxSuyLtT6Z6X2sTemjKsQZeo7+aqyQO4fXLDP2jrHe10Dkt4fP0rU6bXaR X-Received: by 2002:a05:6a20:3d0e:b0:341:2c7b:ed13 with SMTP id adf61e73a8af0-35b9ff89fe5mr14030507637.5.1763381049280; Mon, 17 Nov 2025 04:04:09 -0800 (PST) Received: from postal.iol.unh.edu (postal.iol.unh.edu. [132.177.123.84]) by smtp-relay.gmail.com with ESMTPS id d2e1a72fcca58-7b927c22fd4sm1059932b3a.7.2025.11.17.04.04.09 (version=TLS1_2 cipher=ECDHE-ECDSA-AES128-GCM-SHA256 bits=128/128); Mon, 17 Nov 2025 04:04:09 -0800 (PST) X-Relaying-Domain: iol.unh.edu Date: Mon, 17 Nov 2025 04:04:09 -0800 (PST) Message-ID: <691b0f39.050a0220.284802.47a1SMTPIN_ADDED_MISSING@mx.google.com> Received: from [172.21.0.3] (unknown [172.18.0.240]) by postal.iol.unh.edu (Postfix) with ESMTP id 76E6D6051830; Mon, 17 Nov 2025 07:04:08 -0500 (EST) Subject: |SUCCESS| pw158853 [PATCH] app/testpmd: fix inner UDP checksum offlo From: dpdklab@iol.unh.edu To: Test Report Cc: dpdk-test-reports@iol.unh.edu, Stephen Hemminger In-Reply-To: <20251117075046.11624-1-fengchengwen@huawei.com> References: <20251117075046.11624-1-fengchengwen@huawei.com> Content-Type: text/plain X-BeenThere: test-report@dpdk.org X-Mailman-Version: 2.1.29 Precedence: list List-Id: automatic DPDK test reports List-Unsubscribe: , List-Archive: List-Post: List-Help: List-Subscribe: , Errors-To: test-report-bounces@dpdk.org Test-Label: iol-compile-amd64-testing Test-Status: SUCCESS http://dpdk.org/patch/158853 _Testing PASS_ Submitter: fengchengwen Date: Monday, November 17 2025 07:50:46 DPDK git baseline: Repo:dpdk-next-net Branch: master CommitID:18d8a8909b8ed6b0a4bd8f99971da74ebba792e2 158853 --> testing pass Upstream job id: Generic-DPDK-Compile-Meson#445437 Test environment and result as below: +-------------------------------+--------------------+------------------+-------------------+ | Environment | dpdk_meson_compile | dpdk_compile_ovs | dpdk_msvc_compile | +===============================+====================+==================+===================+ | Ubuntu 20.04 | PASS | SKIPPED | SKIPPED | +-------------------------------+--------------------+------------------+-------------------+ | FreeBSD 14.2 | PASS | SKIPPED | SKIPPED | +-------------------------------+--------------------+------------------+-------------------+ | CentOS Stream 9 | PASS | SKIPPED | SKIPPED | +-------------------------------+--------------------+------------------+-------------------+ | CentOS Stream 10 | PASS | SKIPPED | SKIPPED | +-------------------------------+--------------------+------------------+-------------------+ | Debian GNU/Linux 12 | PASS | SKIPPED | SKIPPED | +-------------------------------+--------------------+------------------+-------------------+ | Fedora Linux 42 | PASS | PASS | SKIPPED | +-------------------------------+--------------------+------------------+-------------------+ | openSUSE Leap 15.6 | PASS | SKIPPED | SKIPPED | +-------------------------------+--------------------+------------------+-------------------+ | Red Hat Enterprise Linux 8.10 | PASS | SKIPPED | SKIPPED | +-------------------------------+--------------------+------------------+-------------------+ | Red Hat Enterprise Linux 9.5 | PASS | SKIPPED | SKIPPED | +-------------------------------+--------------------+------------------+-------------------+ | Ubuntu 22.04 | PASS | SKIPPED | SKIPPED | +-------------------------------+--------------------+------------------+-------------------+ | Ubuntu 24.04 | PASS | PASS | SKIPPED | +-------------------------------+--------------------+------------------+-------------------+ | Alpine Linux 3.22.0 | PASS | SKIPPED | SKIPPED | +-------------------------------+--------------------+------------------+-------------------+ | Windows Server 2022 | SKIPPED | SKIPPED | PASS | +-------------------------------+--------------------+------------------+-------------------+ Ubuntu 20.04 Kernel: 4.19 Compiler: gcc gcc (Ubuntu 9.4.0-1ubuntu1~20.04.2) 9.4.0 FreeBSD 14.2 Kernel: 14.2-RELEASE Compiler: clang 18.1.6 CentOS Stream 9 Kernel: 5.15 Compiler: gcc gcc (GCC) 11.5.0 20240719 (Red Hat 11.5.0-11) CentOS Stream 10 Kernel: 5.15 Compiler: gcc gcc (GCC) 14.2.1 20250110 (Red Hat 14.2.1-8) Debian GNU/Linux 12 Kernel: 5.15 Compiler: gcc gcc (Debian 12.2.0-14+deb12u1) 12.2.0 Fedora Linux 42 Kernel: 5.15 Compiler: clang gcc (GCC) 15.2.1 20250808 (Red Hat 15.2.1-1) openSUSE Leap 15.6 Kernel: 5.15 Compiler: gcc gcc (SUSE Linux) 7.5.0 Red Hat Enterprise Linux 8.10 Kernel: 5.15 Compiler: gcc gcc (GCC) 8.5.0 20210514 (Red Hat 8.5.0-22) Red Hat Enterprise Linux 9.5 Kernel: 5.15 Compiler: gcc gcc (GCC) 11.5.0 20240719 (Red Hat 11.5.0-2) Ubuntu 22.04 Kernel: 5.15 Compiler: gcc gcc (Ubuntu 11.4.0-1ubuntu1~22.04) 11.4.0 Ubuntu 24.04 Kernel: 5.15 Compiler: gcc gcc (Ubuntu 13.3.0-6ubuntu2~24.04) 13.3.0 Alpine Linux 3.22.0 Kernel: 5.15 Compiler: gcc gcc (Alpine 14.2.0) 14.2.0 Windows Server 2022 Kernel: 10.0.20348.2031 Compiler: clang 15.0.7, gcc 14.1.0 (MinGW), and MSVC VS 19.39.33521 To view detailed results, visit: https://lab.dpdk.org/results/dashboard/patchsets/34622/ UNH-IOL DPDK Community Lab To manage your email subscriptions, visit: https://lab.dpdk.org/results/dashboard/preferences/subscriptions/