From mboxrd@z Thu Jan 1 00:00:00 1970 Return-Path: Received: from mails.dpdk.org (mails.dpdk.org [217.70.189.124]) by inbox.dpdk.org (Postfix) with ESMTP id 4FAB448B31 for ; Mon, 17 Nov 2025 13:16:36 +0100 (CET) Received: from mails.dpdk.org (localhost [127.0.0.1]) by mails.dpdk.org (Postfix) with ESMTP id 4B4234025A; Mon, 17 Nov 2025 13:16:36 +0100 (CET) Received: from mail-il1-f227.google.com (mail-il1-f227.google.com [209.85.166.227]) by mails.dpdk.org (Postfix) with ESMTP id B524D4025A for ; Mon, 17 Nov 2025 13:16:35 +0100 (CET) Received: by mail-il1-f227.google.com with SMTP id e9e14a558f8ab-4331d3eea61so27319735ab.2 for ; Mon, 17 Nov 2025 04:16:35 -0800 (PST) DKIM-Signature: v=1; a=rsa-sha256; c=relaxed/relaxed; d=iol.unh.edu; s=unh-iol; t=1763381795; x=1763986595; darn=dpdk.org; h=references:in-reply-to:cc:to:from:subject:message-id:date:from:to :cc:subject:date:message-id:reply-to; bh=wVSraj2LjK9NBlH0vnicOgdgqRWTHEFGfv1oTi/Kzrw=; b=W08aoqPIN3wAcyPxcLhsXmlBsS18rAWhr08wlpkmhyYL9lxoL9T5TBLpZdG5IHzpxO 5PX55oqu8qooKSBOl4S7mt2Sa2eRAUuAZoCGfHDNoWZfmfAWrYMHLjc2yl4C2llnFN+8 6YuCLBOidtvY+mALW5SAZMRuerxG8+dEhms28= X-Google-DKIM-Signature: v=1; a=rsa-sha256; c=relaxed/relaxed; d=1e100.net; s=20230601; t=1763381795; x=1763986595; h=references:in-reply-to:cc:to:from:subject:message-id:date:x-gm-gg :x-gm-message-state:from:to:cc:subject:date:message-id:reply-to; bh=wVSraj2LjK9NBlH0vnicOgdgqRWTHEFGfv1oTi/Kzrw=; b=M+Cx9coZjKJZMeqLCaMk2Xat3v+L59u5R4XbMCf3eEhyocMPR+XHE0LQz9aAHsr8A4 q3VdXvueyLYW17rS9v2ZN+z5mBDJX7jrrI4BHisj3/esdHAswdcGacCVmcnluPFa0i0L BWmtKUC3wPwOzJPS5v9LFFE6UP7m9eL/LLz3vH2EpTesz9NaRxiayz7oGd2B7HEaSHzW jQYFaLKrDUMKqaCGYi4ZOZ2sy5pU+W/x7nWhLIFNZvEWFzjlZjs0+B1nawzoh46QrsoF dTXSQIn1ICF7UAaxelrmX2LdZp4JsL+3zjG53EtQlPeakkvzEelImAZqBMN3aGKU4ih4 f87A== X-Gm-Message-State: AOJu0YxVR8F5o+lgeBiDagGNbnxuVAEhp7GhL0QxqVWk9ZOUKkrVVBFt trUglv9xK2Rw1HDeaUBb1fURI54JFCAQFJRPD64Cv6P7TmG+QnW1qUzHxoJNtChwbzXQKEiVbY2 fgrXKGqfAD0kiCYwT3XsnptMNafV5OjPfee4bYI5TWuAU X-Gm-Gg: ASbGncvcdwN7fCl1s5z4nFJk97f38EV/EdD0AFgKOmMODHRD53Gal6dys7XT+jphvgo hhvKV3gB4DWyBZh5AvwHWb1B2D1ENCRGL9IqOB97PNBU8zOBoH0SbQnR64Zsa8bRyvDB7AGJKb+ o189ZT1+Kuz6KfrlSxIZ2aM1yNV4UAo04+yleLfK4j0leSyntQS2DKoPEZV/TFLOBMp1pckDyOr u/UpcFSoa6nJ0YvgU0ezes/04szvTSLL+D1jLL1KLOxTmDhwz1ShZHpKfpoeB8koIqhSEoyH3Yz ri12jjLS1leUWODQjXMItduoOvY6QGiY1fk9E5u4YTX+EYadGEAqpHnkBe18k/Wzx3R+s0ivZjG qJE7ZRCBecqz2axUDhsP2Npl92xKDGSs= X-Google-Smtp-Source: AGHT+IFNACZXjTkd9kaCd9q8WuzKHDQuPslnt2QCrghAjTLvo85p3qk1xMckgFkK/roygKsUKRQkjH5vpneT X-Received: by 2002:a05:6e02:3807:b0:433:68e3:7679 with SMTP id e9e14a558f8ab-4348c896055mr147150985ab.8.1763381794963; Mon, 17 Nov 2025 04:16:34 -0800 (PST) Received: from postal.iol.unh.edu (postal.iol.unh.edu. [132.177.123.84]) by smtp-relay.gmail.com with ESMTPS id e9e14a558f8ab-434839d7a52sm11690675ab.28.2025.11.17.04.16.34 (version=TLS1_2 cipher=ECDHE-ECDSA-AES128-GCM-SHA256 bits=128/128); Mon, 17 Nov 2025 04:16:34 -0800 (PST) X-Relaying-Domain: iol.unh.edu Date: Mon, 17 Nov 2025 04:16:34 -0800 (PST) Message-ID: <691b1222.050a0220.9f4b.ad5cSMTPIN_ADDED_MISSING@mx.google.com> Received: from [172.21.0.3] (unknown [172.18.0.240]) by postal.iol.unh.edu (Postfix) with ESMTP id 9A7376051830; Mon, 17 Nov 2025 07:16:34 -0500 (EST) Subject: |SUCCESS| pw158851 [PATCH] net/mlx5: update stored Rx queue MTU when From: dpdklab@iol.unh.edu To: Test Report Cc: dpdk-test-reports@iol.unh.edu In-Reply-To: <20251117073937.1514124-1-shperetz@nvidia.com> References: <20251117073937.1514124-1-shperetz@nvidia.com> Content-Type: text/plain X-BeenThere: test-report@dpdk.org X-Mailman-Version: 2.1.29 Precedence: list List-Id: automatic DPDK test reports List-Unsubscribe: , List-Archive: List-Post: List-Help: List-Subscribe: , Errors-To: test-report-bounces@dpdk.org Test-Label: iol-compile-amd64-testing Test-Status: SUCCESS http://dpdk.org/patch/158851 _Testing PASS_ Submitter: Shani Peretz Date: Monday, November 17 2025 07:39:36 DPDK git baseline: Repo:dpdk-next-net-mlx Branch: master CommitID:6c8ab18883d4a51ac512a969d36b47272a63b61b 158851 --> testing pass Upstream job id: Windows-Compile-DPDK-Native#32473 Test environment and result as below: +-------------------------------+--------------------+-------------------+------------------+-------------------------+----------------------+ | Environment | dpdk_meson_compile | dpdk_msvc_compile | dpdk_compile_ovs | dpdk_llvm_clang_compile | dpdk_mingw64_compile | +===============================+====================+===================+==================+=========================+======================+ | FreeBSD 14.2 | PASS | SKIPPED | SKIPPED | SKIPPED | SKIPPED | +-------------------------------+--------------------+-------------------+------------------+-------------------------+----------------------+ | Ubuntu 20.04 | PASS | SKIPPED | SKIPPED | SKIPPED | SKIPPED | +-------------------------------+--------------------+-------------------+------------------+-------------------------+----------------------+ | CentOS Stream 9 | PASS | SKIPPED | SKIPPED | SKIPPED | SKIPPED | +-------------------------------+--------------------+-------------------+------------------+-------------------------+----------------------+ | CentOS Stream 10 | PASS | SKIPPED | SKIPPED | SKIPPED | SKIPPED | +-------------------------------+--------------------+-------------------+------------------+-------------------------+----------------------+ | Debian GNU/Linux 12 | PASS | SKIPPED | SKIPPED | SKIPPED | SKIPPED | +-------------------------------+--------------------+-------------------+------------------+-------------------------+----------------------+ | Fedora Linux 42 | PASS | SKIPPED | PASS | SKIPPED | SKIPPED | +-------------------------------+--------------------+-------------------+------------------+-------------------------+----------------------+ | openSUSE Leap 15.6 | PASS | SKIPPED | SKIPPED | SKIPPED | SKIPPED | +-------------------------------+--------------------+-------------------+------------------+-------------------------+----------------------+ | Red Hat Enterprise Linux 8.10 | PASS | SKIPPED | SKIPPED | SKIPPED | SKIPPED | +-------------------------------+--------------------+-------------------+------------------+-------------------------+----------------------+ | Red Hat Enterprise Linux 9.5 | PASS | SKIPPED | SKIPPED | SKIPPED | SKIPPED | +-------------------------------+--------------------+-------------------+------------------+-------------------------+----------------------+ | Ubuntu 22.04 | PASS | SKIPPED | SKIPPED | SKIPPED | SKIPPED | +-------------------------------+--------------------+-------------------+------------------+-------------------------+----------------------+ | Ubuntu 24.04 | PASS | SKIPPED | PASS | SKIPPED | SKIPPED | +-------------------------------+--------------------+-------------------+------------------+-------------------------+----------------------+ | Alpine Linux 3.22.0 | PASS | SKIPPED | SKIPPED | SKIPPED | SKIPPED | +-------------------------------+--------------------+-------------------+------------------+-------------------------+----------------------+ | Windows Server 2022 | SKIPPED | PASS | SKIPPED | PASS | PASS | +-------------------------------+--------------------+-------------------+------------------+-------------------------+----------------------+ FreeBSD 14.2 Kernel: 14.2-RELEASE Compiler: clang 18.1.6 Ubuntu 20.04 Kernel: 4.19 Compiler: gcc gcc (Ubuntu 9.4.0-1ubuntu1~20.04.2) 9.4.0 CentOS Stream 9 Kernel: 5.15 Compiler: gcc gcc (GCC) 11.5.0 20240719 (Red Hat 11.5.0-11) CentOS Stream 10 Kernel: 5.15 Compiler: gcc gcc (GCC) 14.2.1 20250110 (Red Hat 14.2.1-8) Debian GNU/Linux 12 Kernel: 5.15 Compiler: gcc gcc (Debian 12.2.0-14+deb12u1) 12.2.0 Fedora Linux 42 Kernel: 5.15 Compiler: clang gcc (GCC) 15.2.1 20250808 (Red Hat 15.2.1-1) openSUSE Leap 15.6 Kernel: 5.15 Compiler: gcc gcc (SUSE Linux) 7.5.0 Red Hat Enterprise Linux 8.10 Kernel: 5.15 Compiler: gcc gcc (GCC) 8.5.0 20210514 (Red Hat 8.5.0-22) Red Hat Enterprise Linux 9.5 Kernel: 5.15 Compiler: gcc gcc (GCC) 11.5.0 20240719 (Red Hat 11.5.0-2) Ubuntu 22.04 Kernel: 5.15 Compiler: gcc gcc (Ubuntu 11.4.0-1ubuntu1~22.04) 11.4.0 Ubuntu 24.04 Kernel: 5.15 Compiler: gcc gcc (Ubuntu 13.3.0-6ubuntu2~24.04) 13.3.0 Alpine Linux 3.22.0 Kernel: 5.15 Compiler: gcc gcc (Alpine 14.2.0) 14.2.0 Windows Server 2022 Kernel: 10.0.20348.2031 Compiler: clang 15.0.7, gcc 14.1.0 (MinGW), and MSVC VS 19.39.33521 To view detailed results, visit: https://lab.dpdk.org/results/dashboard/patchsets/34621/ UNH-IOL DPDK Community Lab To manage your email subscriptions, visit: https://lab.dpdk.org/results/dashboard/preferences/subscriptions/