From mboxrd@z Thu Jan 1 00:00:00 1970 Return-Path: Received: from mails.dpdk.org (mails.dpdk.org [217.70.189.124]) by inbox.dpdk.org (Postfix) with ESMTP id 37CC348B31 for ; Mon, 17 Nov 2025 13:26:05 +0100 (CET) Received: from mails.dpdk.org (localhost [127.0.0.1]) by mails.dpdk.org (Postfix) with ESMTP id 2E6684025A; Mon, 17 Nov 2025 13:26:05 +0100 (CET) Received: from mail-pl1-f228.google.com (mail-pl1-f228.google.com [209.85.214.228]) by mails.dpdk.org (Postfix) with ESMTP id 117DC4025A for ; Mon, 17 Nov 2025 13:26:04 +0100 (CET) Received: by mail-pl1-f228.google.com with SMTP id d9443c01a7336-29806bd47b5so26865675ad.3 for ; Mon, 17 Nov 2025 04:26:03 -0800 (PST) DKIM-Signature: v=1; a=rsa-sha256; c=relaxed/relaxed; d=iol.unh.edu; s=unh-iol; t=1763382363; x=1763987163; darn=dpdk.org; h=references:in-reply-to:cc:to:from:subject:message-id:date:from:to :cc:subject:date:message-id:reply-to; bh=sf+UV6eajsJpCbTsK7qYUSf1j2njB9bQIX3daYeVYqs=; b=B4xsz2+NJb0ELTRTEdgZZo5CdOIiZYYSSirpCv/TIg/e6Z8/Vbt6apuBq3zh50Ymby gKJjmUkeMbTIR2GeW6wG2XLj1RJZQGu/tnTMJtsX4n+1QeaQ7PG6/65t+MBOMeuoJ1KS 2KsBR1ZSkV8dvOVP78GpNxYwbulYCCTjnjqKE= X-Google-DKIM-Signature: v=1; a=rsa-sha256; c=relaxed/relaxed; d=1e100.net; s=20230601; t=1763382363; x=1763987163; h=references:in-reply-to:cc:to:from:subject:message-id:date:x-gm-gg :x-gm-message-state:from:to:cc:subject:date:message-id:reply-to; bh=sf+UV6eajsJpCbTsK7qYUSf1j2njB9bQIX3daYeVYqs=; b=aRYYMdqzqaozFvZf0wEWmFkGca9hjDmSJJvgboRtACKYooB34pi5oi3iNr4K7Pni7p Tr4yzfcv0c47YkyuOTtLQTkEdGyq/ESHR7+f9qzTRS/0DKYtLyaSs229GtJ+ML9RpYYt PGqRylMWSDdMnO9zjz1N+g4Btw82gI3JkIu8weWYSInpjN3woOyWovoV5gtEvF8930db 0AeBAqFn7MGJ6oPrZlHwD90ISoue4CUDZZuBhtVHudgKDmMcUkINTayobfTER9DlT1mb PGUWDWmjsF59clIDKXsmxZuyYtQ5en2kv/L0azygzW9t/yyces6sLz15RGmoTwFMnY7f NO5A== X-Gm-Message-State: AOJu0Yz7ZIeYZN9B6YAYOxxf8p++BSXrzOWGLhIDx3S3sUpzGnhNzo6P VHQhRtyqo1wOdlfTIfSdMaO5lY1gFbKxSZ8EloF8l20mMSKmbLy1dQBucArauP1byxvOxjbZ6AS 3FZTqWMhheE1hPOabJcpCOln4NGlXMkUiNUDmm6waJYVs X-Gm-Gg: ASbGncsyuC1boJmw28n4QXPCD5ZAJ3jxtWSrUyYHQNSiObgWkPgyjBSl3hEgdd9BnWD 3a9AwFjJtA50A653DbEYsx/yFEsa2WTeppDLgtE4Bpx+vvsqa0oORbTQpMP6SrXtMD5kQJphYNn rsdOwZlBP08v+8Ou7CXlIPXN257sgh41Tv7llvyLRhd1US9DxdNpPIonoRgtwCApNQXvz/R7Z9t mVF/KLIJCsS/Nr/i6J0hEA3/nABa/e7xJUCBxIh3Nsf7o4m6TcW6Aw031YwTsspFSyX0+nj5+4I zpyYQZcvbtb3GhKjVM5X00F37cSKOvQl96qvsrye4OyCrpfP0G2sCtTUJvhGPDRfJ+dq7eSi/nh o9IKTmuddQFUdUIGDXJLwXfWQ5O38IAE= X-Google-Smtp-Source: AGHT+IEk6W8n9L27l7+9H3h2s0t2Ga4QzByZseUv9eLj4oriFrc/LRFx0lMHBHG4Aydio8+nEkp67Qm1hzpb X-Received: by 2002:a17:902:f690:b0:295:24d7:3798 with SMTP id d9443c01a7336-2986a6d0c03mr127914715ad.14.1763382363140; Mon, 17 Nov 2025 04:26:03 -0800 (PST) Received: from postal.iol.unh.edu (postal.iol.unh.edu. [132.177.123.84]) by smtp-relay.gmail.com with ESMTPS id d9443c01a7336-2985c241d51sm15046395ad.22.2025.11.17.04.26.03 (version=TLS1_2 cipher=ECDHE-ECDSA-AES128-GCM-SHA256 bits=128/128); Mon, 17 Nov 2025 04:26:03 -0800 (PST) X-Relaying-Domain: iol.unh.edu Date: Mon, 17 Nov 2025 04:26:03 -0800 (PST) Message-ID: <691b145b.170a0220.3db8fb.c61eSMTPIN_ADDED_MISSING@mx.google.com> Received: from [172.21.0.3] (unknown [172.18.0.240]) by postal.iol.unh.edu (Postfix) with ESMTP id 6369C6051830; Mon, 17 Nov 2025 07:26:02 -0500 (EST) Subject: |SUCCESS| pw158849 [PATCH] test-flow-perf: fix the incorrect array l From: dpdklab@iol.unh.edu To: Test Report Cc: dpdk-test-reports@iol.unh.edu In-Reply-To: <20251117072858.9318-1-bingz@nvidia.com> References: <20251117072858.9318-1-bingz@nvidia.com> Content-Type: text/plain X-BeenThere: test-report@dpdk.org X-Mailman-Version: 2.1.29 Precedence: list List-Id: automatic DPDK test reports List-Unsubscribe: , List-Archive: List-Post: List-Help: List-Subscribe: , Errors-To: test-report-bounces@dpdk.org Test-Label: iol-compile-amd64-testing Test-Status: SUCCESS http://dpdk.org/patch/158849 _Testing PASS_ Submitter: Bing Zhao Date: Monday, November 17 2025 07:28:58 DPDK git baseline: Repo:dpdk Branch: master CommitID:be0112878b4fc3a1b918370ed2fe615c52039d77 158849 --> testing pass Upstream job id: Generic-DPDK-Compile-Meson#445486 Test environment and result as below: +-------------------------------+--------------------+------------------+-------------------+ | Environment | dpdk_meson_compile | dpdk_compile_ovs | dpdk_msvc_compile | +===============================+====================+==================+===================+ | Ubuntu 20.04 | PASS | SKIPPED | SKIPPED | +-------------------------------+--------------------+------------------+-------------------+ | FreeBSD 14.2 | PASS | SKIPPED | SKIPPED | +-------------------------------+--------------------+------------------+-------------------+ | CentOS Stream 9 | PASS | SKIPPED | SKIPPED | +-------------------------------+--------------------+------------------+-------------------+ | CentOS Stream 10 | PASS | SKIPPED | SKIPPED | +-------------------------------+--------------------+------------------+-------------------+ | Debian GNU/Linux 12 | PASS | SKIPPED | SKIPPED | +-------------------------------+--------------------+------------------+-------------------+ | Fedora Linux 42 | PASS | PASS | SKIPPED | +-------------------------------+--------------------+------------------+-------------------+ | Red Hat Enterprise Linux 8.10 | PASS | SKIPPED | SKIPPED | +-------------------------------+--------------------+------------------+-------------------+ | openSUSE Leap 15.6 | PASS | SKIPPED | SKIPPED | +-------------------------------+--------------------+------------------+-------------------+ | Red Hat Enterprise Linux 9.5 | PASS | SKIPPED | SKIPPED | +-------------------------------+--------------------+------------------+-------------------+ | Ubuntu 22.04 | PASS | SKIPPED | SKIPPED | +-------------------------------+--------------------+------------------+-------------------+ | Ubuntu 24.04 | PASS | PASS | SKIPPED | +-------------------------------+--------------------+------------------+-------------------+ | Alpine Linux 3.22.0 | PASS | SKIPPED | SKIPPED | +-------------------------------+--------------------+------------------+-------------------+ | Windows Server 2022 | SKIPPED | SKIPPED | PASS | +-------------------------------+--------------------+------------------+-------------------+ Ubuntu 20.04 Kernel: 4.19 Compiler: gcc gcc (Ubuntu 9.4.0-1ubuntu1~20.04.2) 9.4.0 FreeBSD 14.2 Kernel: 14.2-RELEASE Compiler: clang 18.1.6 CentOS Stream 9 Kernel: 5.15 Compiler: gcc gcc (GCC) 11.5.0 20240719 (Red Hat 11.5.0-11) CentOS Stream 10 Kernel: 5.15 Compiler: gcc gcc (GCC) 14.2.1 20250110 (Red Hat 14.2.1-8) Debian GNU/Linux 12 Kernel: 5.15 Compiler: gcc gcc (Debian 12.2.0-14+deb12u1) 12.2.0 Fedora Linux 42 Kernel: 5.15 Compiler: clang gcc (GCC) 15.2.1 20250808 (Red Hat 15.2.1-1) Red Hat Enterprise Linux 8.10 Kernel: 5.15 Compiler: gcc gcc (GCC) 8.5.0 20210514 (Red Hat 8.5.0-22) openSUSE Leap 15.6 Kernel: 5.15 Compiler: gcc gcc (SUSE Linux) 7.5.0 Red Hat Enterprise Linux 9.5 Kernel: 5.15 Compiler: gcc gcc (GCC) 11.5.0 20240719 (Red Hat 11.5.0-2) Ubuntu 22.04 Kernel: 5.15 Compiler: gcc gcc (Ubuntu 11.4.0-1ubuntu1~22.04) 11.4.0 Ubuntu 24.04 Kernel: 5.15 Compiler: gcc gcc (Ubuntu 13.3.0-6ubuntu2~24.04) 13.3.0 Alpine Linux 3.22.0 Kernel: 5.15 Compiler: gcc gcc (Alpine 14.2.0) 14.2.0 Windows Server 2022 Kernel: 10.0.20348.2031 Compiler: clang 15.0.7, gcc 14.1.0 (MinGW), and MSVC VS 19.39.33521 To view detailed results, visit: https://lab.dpdk.org/results/dashboard/patchsets/34620/ UNH-IOL DPDK Community Lab To manage your email subscriptions, visit: https://lab.dpdk.org/results/dashboard/preferences/subscriptions/