From mboxrd@z Thu Jan 1 00:00:00 1970 Return-Path: Received: from mails.dpdk.org (mails.dpdk.org [217.70.189.124]) by inbox.dpdk.org (Postfix) with ESMTP id 04B4448B31 for ; Mon, 17 Nov 2025 13:46:35 +0100 (CET) Received: from mails.dpdk.org (localhost [127.0.0.1]) by mails.dpdk.org (Postfix) with ESMTP id F2C384025A; Mon, 17 Nov 2025 13:46:34 +0100 (CET) Received: from mail-pl1-f225.google.com (mail-pl1-f225.google.com [209.85.214.225]) by mails.dpdk.org (Postfix) with ESMTP id 74DED4025A for ; Mon, 17 Nov 2025 13:46:33 +0100 (CET) Received: by mail-pl1-f225.google.com with SMTP id d9443c01a7336-297f35be2ffso60364805ad.2 for ; Mon, 17 Nov 2025 04:46:33 -0800 (PST) DKIM-Signature: v=1; a=rsa-sha256; c=relaxed/relaxed; d=iol.unh.edu; s=unh-iol; t=1763383592; x=1763988392; darn=dpdk.org; h=references:in-reply-to:cc:to:from:subject:message-id:date:from:to :cc:subject:date:message-id:reply-to; bh=uNZs72QX/W/vnziQmHMEjXt1y8uoKR1WOYMfFD+K6Pc=; b=WSrSvHDW+ov/FAq6vubxFrkSVikK2eb18tH6WbBTT+dpIByTt7itzNCcykNjCDvZ90 5VQCQLopiWXZfQN+1EBB0dKmxnLrkVwSaay++NaGOTKOmFKz/xN0pxeX/bbTS9CFWSIv 76gljLPdXap+hBmvM38ohrWr1ldxqQTDOZ/Cg= X-Google-DKIM-Signature: v=1; a=rsa-sha256; c=relaxed/relaxed; d=1e100.net; s=20230601; t=1763383592; x=1763988392; h=references:in-reply-to:cc:to:from:subject:message-id:date:x-gm-gg :x-gm-message-state:from:to:cc:subject:date:message-id:reply-to; bh=uNZs72QX/W/vnziQmHMEjXt1y8uoKR1WOYMfFD+K6Pc=; b=wpQ4owjhbkPM92NbMW5mjti0kuiea9ggsi4ATivKdccyThGcatFLepaEtIGRCuehlp c0pzgYW0bEtL3wwRnqOSGNGj3WZhY3FfcEWxD/vFf72bCMPHzjx+xl1+3Zin1ZGahKwh FKaek92+RYCIAc9CS7uPvjPa6cHI22H8zlTvUDl/MUjo99c3YW5zydvui2XoL8vbJPJN DZzMUihoGKoFrDeRMWuFvg111kGQ/EsAZ+9ECbIynAyGru4h31aQcjCSsGUaDPG1PM60 +l0DjnhKztEsfI7vCEi+FSlKzAysNu2g/I/Dyb/ks9mKlhLhogmkz4Cv7kkHk8t4j671 sbPQ== X-Gm-Message-State: AOJu0YwNy4lCDkC9JXCJGrWwQcnyIrUutSvSri76mJdF5FKeN3sx1blV uVu4lNm+i/ipPkneArKgQ70+Mb+h9r2YGqtTiqeIdPS4hTEQQxA8GY/uubp0gnuhVG3KdUFSgJy ef3niUFcoy4piA0b8OUJv+JxwhRoWRefrTP3Ra1gA8gsmfcN+a2iImbpKBfy8 X-Gm-Gg: ASbGncsoZP/GVEsEAbYPP50viMb0bKPpiaOQhpnWA/ROejgGDuAjqoQJ6CVZxmIUyeR QTdKUQhFYiDZ3uv+t2rSU0d7hwpWqyTCQ6OZ7nNizApIkqBFJrG6eYBNc7jK6h7/C7/vCbnAYQN Pq+Fcrp0mXDtyn9BhkWnb5imP29fy9ZzRjZiNNaUvvotlT+H32yxIgirhKfsr5uv5IzEd4M1PuV DT4Pxu9FzhCSJn1Z3g6fhw8jvH7w8+RrAZd7RIWfF5GTI4W1+ioULVlEzYPuSwbJEDzD86LhbKX Y29Muf+sQ56QbuwjowTqbRynlnR7ANywbDQlKJ1EEFLPqri/uaSCbrSh+eT5I9VL220qJws13v6 Gb60/C8Lo X-Google-Smtp-Source: AGHT+IGPjjdgttx/P1a35s747iMnN1cIEGkKQhmoEiH+aSaBjky4XDny3/sSfztMw13c+8cpANnENCcrn0DV X-Received: by 2002:a05:7022:ff44:b0:11a:4ffb:9849 with SMTP id a92af1059eb24-11b41406f5dmr6445204c88.21.1763383592076; Mon, 17 Nov 2025 04:46:32 -0800 (PST) Received: from postal.iol.unh.edu (postal.iol.unh.edu. [2606:4100:3880:1234::84]) by smtp-relay.gmail.com with ESMTPS id 5a478bee46e88-2a49da02784sm1286933eec.1.2025.11.17.04.46.31 (version=TLS1_2 cipher=ECDHE-ECDSA-AES128-GCM-SHA256 bits=128/128); Mon, 17 Nov 2025 04:46:32 -0800 (PST) X-Relaying-Domain: iol.unh.edu Date: Mon, 17 Nov 2025 04:46:32 -0800 (PST) Message-ID: <691b1928.050a0220.3d5c8.0139SMTPIN_ADDED_MISSING@mx.google.com> Received: from [172.21.0.2] (unknown [172.18.0.240]) by postal.iol.unh.edu (Postfix) with ESMTP id 107436051830; Mon, 17 Nov 2025 07:46:30 -0500 (EST) Subject: |SUCCESS| pw158846 [PATCH] net/mlx5: skip Rx control flow tables in From: dpdklab@iol.unh.edu To: Test Report Cc: dpdk-test-reports@iol.unh.edu In-Reply-To: <20251117050557.8481-1-bingz@nvidia.com> References: <20251117050557.8481-1-bingz@nvidia.com> Content-Type: text/plain X-BeenThere: test-report@dpdk.org X-Mailman-Version: 2.1.29 Precedence: list List-Id: automatic DPDK test reports List-Unsubscribe: , List-Archive: List-Post: List-Help: List-Subscribe: , Errors-To: test-report-bounces@dpdk.org Test-Label: iol-unit-arm64-testing Test-Status: SUCCESS http://dpdk.org/patch/158846 _Testing PASS_ Submitter: Bing Zhao Date: Monday, November 17 2025 05:05:57 DPDK git baseline: Repo:dpdk-next-net-mlx Branch: master CommitID:a3f565c41c73db0f965d62c72627980235d4d7e8 158846 --> testing pass Upstream job id: Generic-Unit-Test-DPDK#393639 Test environment and result as below: +------------------------------+---------------------------+--------------+------------------------------+----------------+ | Environment | cryptodev_sw_zuc_autotest | lpm_autotest | cryptodev_sw_snow3g_autotest | dpdk_unit_test | +==============================+===========================+==============+==============================+================+ | Debian 12 (arm) | PASS | SKIPPED | PASS | SKIPPED | +------------------------------+---------------------------+--------------+------------------------------+----------------+ | Ubuntu 20.04 | SKIPPED | PASS | SKIPPED | PASS | +------------------------------+---------------------------+--------------+------------------------------+----------------+ | CentOS Stream 10 | SKIPPED | SKIPPED | SKIPPED | PASS | +------------------------------+---------------------------+--------------+------------------------------+----------------+ | Debian GNU/Linux 12 | SKIPPED | SKIPPED | SKIPPED | PASS | +------------------------------+---------------------------+--------------+------------------------------+----------------+ | CentOS Stream 9 | SKIPPED | SKIPPED | SKIPPED | PASS | +------------------------------+---------------------------+--------------+------------------------------+----------------+ | Fedora Linux 40 | SKIPPED | SKIPPED | SKIPPED | PASS | +------------------------------+---------------------------+--------------+------------------------------+----------------+ | Fedora Linux 41 | SKIPPED | SKIPPED | SKIPPED | PASS | +------------------------------+---------------------------+--------------+------------------------------+----------------+ | Fedora Linux 42 | SKIPPED | SKIPPED | SKIPPED | PASS | +------------------------------+---------------------------+--------------+------------------------------+----------------+ | Ubuntu 22.04 | SKIPPED | SKIPPED | SKIPPED | PASS | +------------------------------+---------------------------+--------------+------------------------------+----------------+ | Red Hat Enterprise Linux 9.5 | SKIPPED | SKIPPED | SKIPPED | PASS | +------------------------------+---------------------------+--------------+------------------------------+----------------+ | Ubuntu 24.04 | SKIPPED | SKIPPED | SKIPPED | PASS | +------------------------------+---------------------------+--------------+------------------------------+----------------+ Debian 12 (arm) Kernel: Depends on container host Compiler: gcc (Debian 12.2.0-14) 12.2.0 Ubuntu 20.04 Kernel: 5.4 Compiler: gcc gcc (Ubuntu 9.4.0-1ubuntu1~20.04.2) 9.4.0 CentOS Stream 10 Kernel: 5.4 Compiler: gcc gcc (GCC) 14.2.1 20250110 (Red Hat 14.2.1-8) Debian GNU/Linux 12 Kernel: 5.4 Compiler: gcc gcc (Debian 12.2.0-14+deb12u1) 12.2.0 CentOS Stream 9 Kernel: 5.4 Compiler: gcc gcc (GCC) 11.5.0 20240719 (Red Hat 11.5.0-11) Fedora Linux 40 Kernel: 5.4 Compiler: gcc gcc (GCC) 14.2.1 20240912 (Red Hat 14.2.1-3) Fedora Linux 41 Kernel: 5.4 Compiler: gcc gcc (GCC) 14.3.1 20250523 (Red Hat 14.3.1-1) Fedora Linux 42 Kernel: 5.4 Compiler: clang gcc (GCC) 15.2.1 20250808 (Red Hat 15.2.1-1) Ubuntu 22.04 Kernel: 5.4 Compiler: gcc gcc (Ubuntu 11.4.0-1ubuntu1~22.04) 11.4.0 Red Hat Enterprise Linux 9.5 Kernel: 5.4 Compiler: gcc gcc (GCC) 11.5.0 20240719 (Red Hat 11.5.0-2) Ubuntu 24.04 Kernel: 5.4 Compiler: gcc gcc (Ubuntu 13.3.0-6ubuntu2~24.04) 13.3.0 To view detailed results, visit: https://lab.dpdk.org/results/dashboard/patchsets/34616/ UNH-IOL DPDK Community Lab To manage your email subscriptions, visit: https://lab.dpdk.org/results/dashboard/preferences/subscriptions/