From mboxrd@z Thu Jan 1 00:00:00 1970 Return-Path: Received: from mails.dpdk.org (mails.dpdk.org [217.70.189.124]) by inbox.dpdk.org (Postfix) with ESMTP id 46DE848B31 for ; Mon, 17 Nov 2025 13:48:32 +0100 (CET) Received: from mails.dpdk.org (localhost [127.0.0.1]) by mails.dpdk.org (Postfix) with ESMTP id 413074025A; Mon, 17 Nov 2025 13:48:32 +0100 (CET) Received: from mail-qt1-f226.google.com (mail-qt1-f226.google.com [209.85.160.226]) by mails.dpdk.org (Postfix) with ESMTP id 067714025A for ; Mon, 17 Nov 2025 13:48:27 +0100 (CET) Received: by mail-qt1-f226.google.com with SMTP id d75a77b69052e-4b109c6b9fcso35243951cf.3 for ; Mon, 17 Nov 2025 04:48:26 -0800 (PST) DKIM-Signature: v=1; a=rsa-sha256; c=relaxed/relaxed; d=iol.unh.edu; s=unh-iol; t=1763383706; x=1763988506; darn=dpdk.org; h=references:in-reply-to:cc:to:from:subject:message-id:date:from:to :cc:subject:date:message-id:reply-to; bh=BGK6MmsXmBlyBR2LBFYDbrEPGI5sIGU84uZ5r84DSmY=; b=ataImlV7i9Re8Q9VqNgA+oUUsjZEOKTOwILIGeWcX/rVWBAs0c+XzvvTrVHPsXEDLs US9nSmBdjxOETy0zaGW1zr/7RxmtYmUJBxh/TeibnV/khysd+fOl88djKA3E8jPbfAVe XedVdtF9GQSfK0FmKTMs+gYRLtHjUIutBAPMA= X-Google-DKIM-Signature: v=1; a=rsa-sha256; c=relaxed/relaxed; d=1e100.net; s=20230601; t=1763383706; x=1763988506; h=references:in-reply-to:cc:to:from:subject:message-id:date:x-gm-gg :x-gm-message-state:from:to:cc:subject:date:message-id:reply-to; bh=BGK6MmsXmBlyBR2LBFYDbrEPGI5sIGU84uZ5r84DSmY=; b=o4hYD0vs2Io9CTn0kRVP7rcnCh8pOTciS5pYwuBfcDi92gDksstGDaOhS6TRvUE+nH Ht4iqhZrZJ1NTF7sHt0bnmJ5snm4OzKmVs3G85Z2NGSLZly6Wu7wsqMG0SwiJ/a+VU0x xT9OHMAdSxo9rhLyxDL/uo/wIXColNUeeWQea2FJmaDg/bsYot1/erSJJCNCB0afZ8wB JYLT0QztdCVtzIt56VMNooBZtuJB1pYQrrW3Uo3rvF26tRZfV+fFuXaVOxgmVLoAwedA T+KjFQfK6wmtKFmoEBsFJ1xWlBcjfZn/11FTvEc/Lp+yn0dS9vMHzgGz6VlFcc3+qLqH ccUA== X-Gm-Message-State: AOJu0Yxu3/yqy1dO/uRulSYa9sZLZXadtUx/m7nZD9ZUHHRcZruecyyL KRwjH9gN1JE9RG9Vvcfy9F17sntyt1ZUoKPESdp8CoD850ylDybfjkisMeArW2ZWxWHhePg+T+w LCdzJrSPrxHeE2JMSmeIaVBUskNfk7hESTeYTDdVYXUgm X-Gm-Gg: ASbGncsmiLCAh2q/n0M8xOPXsVY7UvaYO3mv9RMrCCdu9sMjqQy89p5/fobmFtTNNXv Qmdq+uDHmXyFrsZVWLWEbSZCoGs8qehAbQop/xT163gmSC/GoqGQHWHJuJXs40k+iidxBoo2OLX Emysd4IZ813hDn7SgKosHlgjivMv1nhxsQnqoc2OH3igORp1p613OfSpj71ulkxKCLM4GpKobH1 dQ8pPeVze5wU3zlpilV69F8TEXdRFvLbutxkx2ZKX0hYVu2+zezgxXayqIxUwy+OrpdN8mx1j6W +6krqxhahwFXG2Cy9ZMqC7HzzJ5aOBvqfv1ry/qug6xaFFY/ftt5sJUojw5y4nhJAP3VIuAsikP vICRvDmkHQ6Asz5ncx4RuAGNp5hu/qe8= X-Google-Smtp-Source: AGHT+IFJaRcHIdwYT5Mcr9sJ+526fcV3NqJ2dgIUrY4SkyS5NZ+oW1Aok21q13A60SZ8bvUFnVQUO52tGQfh X-Received: by 2002:a05:622a:251:b0:4ed:5f45:448a with SMTP id d75a77b69052e-4edf203d5cfmr170867231cf.6.1763383706205; Mon, 17 Nov 2025 04:48:26 -0800 (PST) Received: from postal.iol.unh.edu (postal.iol.unh.edu. [132.177.123.84]) by smtp-relay.gmail.com with ESMTPS id d75a77b69052e-4ede85a1bd5sm7476701cf.0.2025.11.17.04.48.26 (version=TLS1_2 cipher=ECDHE-ECDSA-AES128-GCM-SHA256 bits=128/128); Mon, 17 Nov 2025 04:48:26 -0800 (PST) X-Relaying-Domain: iol.unh.edu Date: Mon, 17 Nov 2025 04:48:26 -0800 (PST) Message-ID: <691b199a.c80a0220.85494.601eSMTPIN_ADDED_MISSING@mx.google.com> Received: from [172.21.0.4] (unknown [172.18.0.240]) by postal.iol.unh.edu (Postfix) with ESMTP id 4835560003E7; Mon, 17 Nov 2025 07:48:25 -0500 (EST) Subject: |SUCCESS| pw158853 [PATCH] app/testpmd: fix inner UDP checksum offlo From: dpdklab@iol.unh.edu To: Test Report Cc: dpdk-test-reports@iol.unh.edu, Stephen Hemminger In-Reply-To: <20251117075046.11624-1-fengchengwen@huawei.com> References: <20251117075046.11624-1-fengchengwen@huawei.com> Content-Type: text/plain X-BeenThere: test-report@dpdk.org X-Mailman-Version: 2.1.29 Precedence: list List-Id: automatic DPDK test reports List-Unsubscribe: , List-Archive: List-Post: List-Help: List-Subscribe: , Errors-To: test-report-bounces@dpdk.org Test-Label: iol-unit-amd64-testing Test-Status: SUCCESS http://dpdk.org/patch/158853 _Testing PASS_ Submitter: fengchengwen Date: Monday, November 17 2025 07:50:46 DPDK git baseline: Repo:dpdk-next-net Branch: master CommitID:18d8a8909b8ed6b0a4bd8f99971da74ebba792e2 158853 --> testing pass Upstream job id: Generic-Unit-Test-DPDK#393756 Test environment and result as below: +-------------------------------+----------------+ | Environment | dpdk_unit_test | +===============================+================+ | CentOS Stream 9 | PASS | +-------------------------------+----------------+ | Debian GNU/Linux 12 | PASS | +-------------------------------+----------------+ | CentOS Stream 10 | PASS | +-------------------------------+----------------+ | Fedora Linux 41 | PASS | +-------------------------------+----------------+ | Fedora Linux 40 | PASS | +-------------------------------+----------------+ | Fedora Linux 42 | PASS | +-------------------------------+----------------+ | Red Hat Enterprise Linux 9.5 | PASS | +-------------------------------+----------------+ | Red Hat Enterprise Linux 8.10 | PASS | +-------------------------------+----------------+ | Ubuntu 20.04 | PASS | +-------------------------------+----------------+ | Ubuntu 22.04 | PASS | +-------------------------------+----------------+ | Ubuntu 24.04 | PASS | +-------------------------------+----------------+ | Windows Server 2022 | PASS | +-------------------------------+----------------+ CentOS Stream 9 Kernel: 5.15 Compiler: gcc gcc (GCC) 11.5.0 20240719 (Red Hat 11.5.0-11) Debian GNU/Linux 12 Kernel: 5.15 Compiler: gcc gcc (Debian 12.2.0-14+deb12u1) 12.2.0 CentOS Stream 10 Kernel: 5.15 Compiler: gcc gcc (GCC) 14.2.1 20250110 (Red Hat 14.2.1-8) Fedora Linux 41 Kernel: 5.15 Compiler: gcc gcc (GCC) 14.3.1 20250523 (Red Hat 14.3.1-1) Fedora Linux 40 Kernel: 5.15 Compiler: gcc gcc (GCC) 14.2.1 20240912 (Red Hat 14.2.1-3) Fedora Linux 42 Kernel: 5.15 Compiler: gcc gcc (GCC) 15.2.1 20250808 (Red Hat 15.2.1-1) Red Hat Enterprise Linux 9.5 Kernel: 5.15 Compiler: gcc gcc (GCC) 11.5.0 20240719 (Red Hat 11.5.0-2) Red Hat Enterprise Linux 8.10 Kernel: 5.15 Compiler: gcc gcc (GCC) 8.5.0 20210514 (Red Hat 8.5.0-22) Ubuntu 20.04 Kernel: 5.15 Compiler: gcc gcc (Ubuntu 9.4.0-1ubuntu1~20.04.2) 9.4.0 Ubuntu 22.04 Kernel: 5.15 Compiler: gcc gcc (Ubuntu 11.4.0-1ubuntu1~22.04) 11.4.0 Ubuntu 24.04 Kernel: 5.15 Compiler: gcc gcc (Ubuntu 13.3.0-6ubuntu2~24.04) 13.3.0 Windows Server 2022 Kernel: 10.0.20348.2031 Compiler: clang 15.0.7, gcc 14.1.0 (MinGW), and MSVC VS 19.39.33521 To view detailed results, visit: https://lab.dpdk.org/results/dashboard/patchsets/34622/ UNH-IOL DPDK Community Lab To manage your email subscriptions, visit: https://lab.dpdk.org/results/dashboard/preferences/subscriptions/