From mboxrd@z Thu Jan 1 00:00:00 1970 Return-Path: Received: from mails.dpdk.org (mails.dpdk.org [217.70.189.124]) by inbox.dpdk.org (Postfix) with ESMTP id B712248B32 for ; Mon, 17 Nov 2025 14:08:28 +0100 (CET) Received: from mails.dpdk.org (localhost [127.0.0.1]) by mails.dpdk.org (Postfix) with ESMTP id B1CAA4025A; Mon, 17 Nov 2025 14:08:28 +0100 (CET) Received: from mail-io1-f99.google.com (mail-io1-f99.google.com [209.85.166.99]) by mails.dpdk.org (Postfix) with ESMTP id 9E6BE4025A for ; Mon, 17 Nov 2025 14:08:27 +0100 (CET) Received: by mail-io1-f99.google.com with SMTP id ca18e2360f4ac-9487e2b9622so299556639f.2 for ; Mon, 17 Nov 2025 05:08:27 -0800 (PST) DKIM-Signature: v=1; a=rsa-sha256; c=relaxed/relaxed; d=iol.unh.edu; s=unh-iol; t=1763384907; x=1763989707; darn=dpdk.org; h=references:in-reply-to:cc:to:from:subject:message-id:date:from:to :cc:subject:date:message-id:reply-to; bh=0GZJsTm+3vA9nyt49OUfUlPBQkfU8xyxzNTKYoAjNi4=; b=ejWvEfhjl50i6N4APouXy1/rBNFnASnfjSG25fh5Ul3jn8lIGKOEoqNnmguRutvnHJ oFhCpTHthnT8KQjSKGP4VzkeboN5q+wqovKxqnmyh8/SFfwNzJFUGPHV6SUHmil8OYx6 +MJzpDXKY9GG2gbK95GEfresyARB+kgflkptw= X-Google-DKIM-Signature: v=1; a=rsa-sha256; c=relaxed/relaxed; d=1e100.net; s=20230601; t=1763384907; x=1763989707; h=references:in-reply-to:cc:to:from:subject:message-id:date:x-gm-gg :x-gm-message-state:from:to:cc:subject:date:message-id:reply-to; bh=0GZJsTm+3vA9nyt49OUfUlPBQkfU8xyxzNTKYoAjNi4=; b=t9ckPTgOulcZ9mwBiVuuTTtpfh9BqCP1gk3NzlPF1HTyGcMZm8/zn/M+IL8N+4z4l2 cXwoPknx2TB8qlN5AgDPkhSonqtoiWopBodx8xNUaGJYMxe2C0Q/KMkySLDfRTn/n4ML AfShvhklcpTSgdfGZVhxCyGnSHT50P4jGparCmgoaY6/NZi8z+SB6ftpO0IpcutNW+Gl gwckyzRIcOLu9mgPMJG6XZvLTros3rPpp24/nuXWmKni3z6jTUNAfDUhrBPeIXvA4Gt3 yac4Jygk1KchoK1l4e2qVF/t5PpY2MxOuXqt49weZy/VQ/eq9ce1Ex0GvX4VNyYOfkpO 1IhQ== X-Gm-Message-State: AOJu0YwESoczrYyDYGizerhFSiz05JM6KnkRj90EYBQv7+nCzcoVbgqm oP1DxqqWXZvjwzPNhjhc225deSOCCYaNflgX9WWIFQsFaWO/7NzUZVwG3HxD9jHiLGfjIrbzmi9 xstFUlEXW7vbdXsN23F15VzvsUHzcKMQDESZrWQe+I6EL X-Gm-Gg: ASbGncsat9ReAaJRSRFBme7wGNT4tw2UviP04toIpNglWKjBR+UgZ8wJSk85AEeFdXS t2yok1arFr8N/nCcfNpAUzxFw7lwPEWBW/fRk8L5jeQ6FDbR3QlqPO5oSuUgAS47L8Cg8L27VJS A+KJFWfO0cBV80VMxDx4HrA4Ep/cX6v1zb0jYptp0SWo68E4+/nNa297gTqcsJpG17zPolOIOyA 2VYgQui2ev6MAmVwgQGsLSRdNg+0c4ndScaDaEKRedR/m5W9VyTX3bFmFl/fr7iXIhFxZnsdjXj 3adzmsFkZI63cKRHVzADghA+RROCf7oPKVBBvy8n9g1OC+mWA+FRY7HW/hQR1BDNKEQtLOm8gY5 GPaw4qnMvlmAITRwR7PXqV/yojYLMGtc= X-Google-Smtp-Source: AGHT+IGHoY7SlGJY/Wn1CJdQ2LfnWPDMEGU9Vgt5fek5tFvCjyLXO6D4JAjj+ki7kfkVz8WoKd64NLRGgvgx X-Received: by 2002:a05:6638:6b97:b0:5ad:762a:477a with SMTP id 8926c6da1cb9f-5b7c9c319fcmr8801118173.4.1763384905459; Mon, 17 Nov 2025 05:08:25 -0800 (PST) Received: from postal.iol.unh.edu (postal.iol.unh.edu. [132.177.123.84]) by smtp-relay.gmail.com with ESMTPS id 8926c6da1cb9f-5b7bd31a8b3sm878704173.19.2025.11.17.05.08.25 (version=TLS1_2 cipher=ECDHE-ECDSA-AES128-GCM-SHA256 bits=128/128); Mon, 17 Nov 2025 05:08:25 -0800 (PST) X-Relaying-Domain: iol.unh.edu Date: Mon, 17 Nov 2025 05:08:25 -0800 (PST) Message-ID: <691b1e49.050a0220.13c7e3.a9bfSMTPIN_ADDED_MISSING@mx.google.com> Received: from [172.21.0.6] (unknown [172.18.0.240]) by postal.iol.unh.edu (Postfix) with ESMTP id 0BEA96051830; Mon, 17 Nov 2025 08:08:25 -0500 (EST) Subject: |SUCCESS| pw158846 [PATCH] net/mlx5: skip Rx control flow tables in From: dpdklab@iol.unh.edu To: Test Report Cc: dpdk-test-reports@iol.unh.edu In-Reply-To: <20251117050557.8481-1-bingz@nvidia.com> References: <20251117050557.8481-1-bingz@nvidia.com> Content-Type: text/plain X-BeenThere: test-report@dpdk.org X-Mailman-Version: 2.1.29 Precedence: list List-Id: automatic DPDK test reports List-Unsubscribe: , List-Archive: List-Post: List-Help: List-Subscribe: , Errors-To: test-report-bounces@dpdk.org Test-Label: iol-compile-arm64-testing Test-Status: SUCCESS http://dpdk.org/patch/158846 _Testing PASS_ Submitter: Bing Zhao Date: Monday, November 17 2025 05:05:57 DPDK git baseline: Repo:dpdk-next-net-mlx Branch: master CommitID:a3f565c41c73db0f965d62c72627980235d4d7e8 158846 --> testing pass Upstream job id: Generic-DPDK-Compile-Meson#445344 Test environment and result as below: +------------------------------+--------------------+ | Environment | dpdk_meson_compile | +==============================+====================+ | Ubuntu 20.04 | PASS | +------------------------------+--------------------+ | Red Hat Enterprise Linux 9.5 | PASS | +------------------------------+--------------------+ | Debian GNU/Linux 12 | PASS | +------------------------------+--------------------+ | Ubuntu 24.04 | PASS | +------------------------------+--------------------+ | Fedora Linux 42 | PASS | +------------------------------+--------------------+ | Ubuntu 22.04 | PASS | +------------------------------+--------------------+ | CentOS Stream 9 | PASS | +------------------------------+--------------------+ | CentOS Stream 10 | PASS | +------------------------------+--------------------+ Ubuntu 20.04 Kernel: 5.15 Compiler: aarch64-linux-gnu-gcc gcc (Ubuntu 9.4.0-1ubuntu1~20.04.2) 9.4.0 Red Hat Enterprise Linux 9.5 Kernel: 5.4 Compiler: gcc gcc (GCC) 11.5.0 20240719 (Red Hat 11.5.0-2) Debian GNU/Linux 12 Kernel: 5.4 Compiler: gcc gcc (Debian 12.2.0-14+deb12u1) 12.2.0 Ubuntu 24.04 Kernel: 5.4 Compiler: gcc gcc (Ubuntu 13.3.0-6ubuntu2~24.04) 13.3.0 Fedora Linux 42 Kernel: 5.4 Compiler: gcc gcc (GCC) 15.2.1 20250808 (Red Hat 15.2.1-1) Ubuntu 22.04 Kernel: 5.4 Compiler: gcc gcc (Ubuntu 11.4.0-1ubuntu1~22.04) 11.4.0 CentOS Stream 9 Kernel: 5.4 Compiler: gcc gcc (GCC) 11.5.0 20240719 (Red Hat 11.5.0-11) CentOS Stream 10 Kernel: 5.4 Compiler: gcc gcc (GCC) 14.2.1 20250110 (Red Hat 14.2.1-8) To view detailed results, visit: https://lab.dpdk.org/results/dashboard/patchsets/34616/ UNH-IOL DPDK Community Lab To manage your email subscriptions, visit: https://lab.dpdk.org/results/dashboard/preferences/subscriptions/