From mboxrd@z Thu Jan 1 00:00:00 1970 Return-Path: Received: from mails.dpdk.org (mails.dpdk.org [217.70.189.124]) by inbox.dpdk.org (Postfix) with ESMTP id B9C3648B32 for ; Mon, 17 Nov 2025 14:16:57 +0100 (CET) Received: from mails.dpdk.org (localhost [127.0.0.1]) by mails.dpdk.org (Postfix) with ESMTP id 940C64025A; Mon, 17 Nov 2025 14:16:57 +0100 (CET) Received: from mail-pj1-f100.google.com (mail-pj1-f100.google.com [209.85.216.100]) by mails.dpdk.org (Postfix) with ESMTP id E1DD44025A for ; Mon, 17 Nov 2025 14:16:56 +0100 (CET) Received: by mail-pj1-f100.google.com with SMTP id 98e67ed59e1d1-3436d6aa66dso3999995a91.1 for ; Mon, 17 Nov 2025 05:16:56 -0800 (PST) DKIM-Signature: v=1; a=rsa-sha256; c=relaxed/relaxed; d=iol.unh.edu; s=unh-iol; t=1763385416; x=1763990216; darn=dpdk.org; h=references:in-reply-to:cc:to:from:subject:message-id:date:from:to :cc:subject:date:message-id:reply-to; bh=rAeWlRsDUJpY/VBS2dyw32gPZ4VnXvw4b5rlrMdZe7k=; b=hmSSolxurCUHA9ecAnNZ8b/lDcueSf843/QfEMFWbq6aQ3DA4t+R5V50I2fpvt4/Oh dkDjDagxW2gTtDamomQheSfynrO2v/n3LFon46YWbi+hrE6vZoivnhbInNbxpb9GW+Wt S228GTBi9U7HzWuLijIVYcvqfpyOSXcskT/9E= X-Google-DKIM-Signature: v=1; a=rsa-sha256; c=relaxed/relaxed; d=1e100.net; s=20230601; t=1763385416; x=1763990216; h=references:in-reply-to:cc:to:from:subject:message-id:date:x-gm-gg :x-gm-message-state:from:to:cc:subject:date:message-id:reply-to; bh=rAeWlRsDUJpY/VBS2dyw32gPZ4VnXvw4b5rlrMdZe7k=; b=M82LHY45zym1jfyXa2bRZGhHLoYtjqNHZF1Y6cYYVyxuYICMZkoCNKGVCnxjgiKp4q CTDKp4ANT0XAL6r4y1DmQyLVWsT7iJqcAahpvV7O6spca6gQcKZiDs2ercUuVp/AvSaF zChlD5V+uoHqKzyVpd+hk2png+2SzzLyisDpfR7BGINmx4wNRwTHQRNaBPwm5Pb9eniE Fv5ZyIDiQpi89NbZZ2tx7v91O9FUvQO2dXELikVvIiBihIdNH6dkwVGhrwweOcPzpdky s7Jn0IbveypCwHS5EdT9web7J5SvkUbJVMufSISTRNretWCu4XKNSglQmkR2NfTQEYOe 9lyQ== X-Gm-Message-State: AOJu0YyDtTdff9QHoATVgT/HpN8kNGvHVp81JKM4iUN3++FXvkXq9+hZ JV2mv7v9OeF9lTa6q4cdIbhzYdif0GH5VVEmrDmBw8lBshPCg25Gb/SnqSLoP+h3topx3p22rM8 DS+/hAOrEmAdwHxKhhbG3gVjAPtdeI696OLosLgHb92hV X-Gm-Gg: ASbGncu1MROuro146iwpYrHI/JpLv6OgFazFhZM7nhBjCFvCXzBe0jpimcFuqtL27LP bwQFKMALuUalieuypn+86OteKDqlAl0cqF3LV3XQWPIarmT+wqu++hUEzZ3gugNdEp37XYMogAf U/AEyfhuJo64jHXTMpI71Awt+oEISESDyyTBj1MPqA52dqweZiBVMT34+668GrB/hF2TLlhxl5k BSU1kdG1iBp1i+J15JsOS5keV75UIcmIWasaSqAfd9s+IGAkrXi1Kg1fb3kvjx7S2/xPuETu+th ytwV5POnnQxunrepmNlRvEzoz7qfU8kKFHbfDdPkd1HmaewGwai5THZSWcAj2/lhfNYh2wysfF9 8aSLyjCMqAAqdl7eAd4lGPoJU/f7Bwg4= X-Google-Smtp-Source: AGHT+IFz/rZcgii5sRxg0XDfS7iNKLHvGzNKUrEZGSwWsHbFJIBsWetdhWzEViZfvXcySa7VqRNFi/sv8SMI X-Received: by 2002:a17:90b:2cc8:b0:343:87b3:6fbb with SMTP id 98e67ed59e1d1-343eab27cb4mr18137446a91.8.1763385415846; Mon, 17 Nov 2025 05:16:55 -0800 (PST) Received: from postal.iol.unh.edu (postal.iol.unh.edu. [132.177.123.84]) by smtp-relay.gmail.com with ESMTPS id 98e67ed59e1d1-343ed58c5absm1572810a91.7.2025.11.17.05.16.55 (version=TLS1_2 cipher=ECDHE-ECDSA-AES128-GCM-SHA256 bits=128/128); Mon, 17 Nov 2025 05:16:55 -0800 (PST) X-Relaying-Domain: iol.unh.edu Date: Mon, 17 Nov 2025 05:16:55 -0800 (PST) Message-ID: <691b2047.170a0220.2c42d3.d5a2SMTPIN_ADDED_MISSING@mx.google.com> Received: from [172.21.0.3] (unknown [172.18.0.240]) by postal.iol.unh.edu (Postfix) with ESMTP id F16BC6051830; Mon, 17 Nov 2025 08:16:54 -0500 (EST) Subject: |SUCCESS| pw158849 [PATCH] test-flow-perf: fix the incorrect array l From: dpdklab@iol.unh.edu To: Test Report Cc: dpdk-test-reports@iol.unh.edu In-Reply-To: <20251117072858.9318-1-bingz@nvidia.com> References: <20251117072858.9318-1-bingz@nvidia.com> Content-Type: text/plain X-BeenThere: test-report@dpdk.org X-Mailman-Version: 2.1.29 Precedence: list List-Id: automatic DPDK test reports List-Unsubscribe: , List-Archive: List-Post: List-Help: List-Subscribe: , Errors-To: test-report-bounces@dpdk.org Test-Label: iol-unit-amd64-testing Test-Status: SUCCESS http://dpdk.org/patch/158849 _Testing PASS_ Submitter: Bing Zhao Date: Monday, November 17 2025 07:28:58 DPDK git baseline: Repo:dpdk Branch: master CommitID:be0112878b4fc3a1b918370ed2fe615c52039d77 158849 --> testing pass Upstream job id: Generic-Unit-Test-DPDK#393788 Test environment and result as below: +-------------------------------+----------------+ | Environment | dpdk_unit_test | +===============================+================+ | CentOS Stream 9 | PASS | +-------------------------------+----------------+ | Fedora Linux 40 | PASS | +-------------------------------+----------------+ | CentOS Stream 10 | PASS | +-------------------------------+----------------+ | Fedora Linux 41 | PASS | +-------------------------------+----------------+ | Debian GNU/Linux 12 | PASS | +-------------------------------+----------------+ | Fedora Linux 42 | PASS | +-------------------------------+----------------+ | Red Hat Enterprise Linux 8.10 | PASS | +-------------------------------+----------------+ | Red Hat Enterprise Linux 9.5 | PASS | +-------------------------------+----------------+ | Ubuntu 20.04 | PASS | +-------------------------------+----------------+ | Ubuntu 24.04 | PASS | +-------------------------------+----------------+ | Ubuntu 22.04 | PASS | +-------------------------------+----------------+ | Windows Server 2022 | PASS | +-------------------------------+----------------+ CentOS Stream 9 Kernel: 5.15 Compiler: gcc gcc (GCC) 11.5.0 20240719 (Red Hat 11.5.0-11) Fedora Linux 40 Kernel: 5.15 Compiler: gcc gcc (GCC) 14.2.1 20240912 (Red Hat 14.2.1-3) CentOS Stream 10 Kernel: 5.15 Compiler: gcc gcc (GCC) 14.2.1 20250110 (Red Hat 14.2.1-8) Fedora Linux 41 Kernel: 5.15 Compiler: clang gcc (GCC) 14.3.1 20250523 (Red Hat 14.3.1-1) Debian GNU/Linux 12 Kernel: 5.15 Compiler: gcc gcc (Debian 12.2.0-14+deb12u1) 12.2.0 Fedora Linux 42 Kernel: 5.15 Compiler: clang gcc (GCC) 15.2.1 20250808 (Red Hat 15.2.1-1) Red Hat Enterprise Linux 8.10 Kernel: 5.15 Compiler: gcc gcc (GCC) 8.5.0 20210514 (Red Hat 8.5.0-22) Red Hat Enterprise Linux 9.5 Kernel: 5.15 Compiler: gcc gcc (GCC) 11.5.0 20240719 (Red Hat 11.5.0-2) Ubuntu 20.04 Kernel: 5.15 Compiler: gcc gcc (Ubuntu 9.4.0-1ubuntu1~20.04.2) 9.4.0 Ubuntu 24.04 Kernel: 5.15 Compiler: gcc gcc (Ubuntu 13.3.0-6ubuntu2~24.04) 13.3.0 Ubuntu 22.04 Kernel: 5.15 Compiler: gcc gcc (Ubuntu 11.4.0-1ubuntu1~22.04) 11.4.0 Windows Server 2022 Kernel: 10.0.20348.2031 Compiler: clang 15.0.7, gcc 14.1.0 (MinGW), and MSVC VS 19.39.33521 To view detailed results, visit: https://lab.dpdk.org/results/dashboard/patchsets/34620/ UNH-IOL DPDK Community Lab To manage your email subscriptions, visit: https://lab.dpdk.org/results/dashboard/preferences/subscriptions/