From mboxrd@z Thu Jan 1 00:00:00 1970 Return-Path: Received: from mails.dpdk.org (mails.dpdk.org [217.70.189.124]) by inbox.dpdk.org (Postfix) with ESMTP id DC0F948B32 for ; Mon, 17 Nov 2025 14:28:11 +0100 (CET) Received: from mails.dpdk.org (localhost [127.0.0.1]) by mails.dpdk.org (Postfix) with ESMTP id D4B594025A; Mon, 17 Nov 2025 14:28:11 +0100 (CET) Received: from mail-oa1-f99.google.com (mail-oa1-f99.google.com [209.85.160.99]) by mails.dpdk.org (Postfix) with ESMTP id 220A44025A for ; Mon, 17 Nov 2025 14:28:10 +0100 (CET) Received: by mail-oa1-f99.google.com with SMTP id 586e51a60fabf-3e8819eda8bso606130fac.3 for ; Mon, 17 Nov 2025 05:28:10 -0800 (PST) DKIM-Signature: v=1; a=rsa-sha256; c=relaxed/relaxed; d=iol.unh.edu; s=unh-iol; t=1763386089; x=1763990889; darn=dpdk.org; h=references:in-reply-to:cc:to:from:subject:message-id:date:from:to :cc:subject:date:message-id:reply-to; bh=3DEKbTV450wWd5HoG1qkqnAykACNz2UtB0/FKvbmp7w=; b=XhoqCMRAUx0DoAG9oZ6JqBz7d2a0vdumV1jmP0WO5r1k+qaSOGDtkErjXFyNhGINb8 dcwVNE4D95ujkl/H03cBOPoqv8E+klseQQN02LgrKccEeDoxewtxWgWNpzeFVc6qe+pe Z3jyulGk48Pxuz2hE5NmrEZtuxxNtich4I1LU= X-Google-DKIM-Signature: v=1; a=rsa-sha256; c=relaxed/relaxed; d=1e100.net; s=20230601; t=1763386089; x=1763990889; h=references:in-reply-to:cc:to:from:subject:message-id:date:x-gm-gg :x-gm-message-state:from:to:cc:subject:date:message-id:reply-to; bh=3DEKbTV450wWd5HoG1qkqnAykACNz2UtB0/FKvbmp7w=; b=SuV3zmtYiPBmGUMs2oUuqB7vBAzE7G1x17WaNKTuM0P+okpfl96M+6zU3vlTWAOVqI ULCSHTq5ipPdC99/h9Ff3iW1XASyxrruvNH0moMPzyNV/Wg6PIsxRNTgJXcmc3K1j7/C 9wUX9+b3A/wWvERW8ApY8RZlklsk9rB2JrbwOXPhtu/iXtqtv6E0/p3pRLXzVSN+dnBk alEjAmWZSZClRTkmDQdt5lyEveimn0nhxJdIhhrDkK9Q617OGvh00ASCoxufYLHvdJDa XCG4K0IGABwQ4SoCgANxtQDAXgTFFej5VdLzkE3gXmz/4got9wg7jY4lXGIOVg+nttI9 Mohw== X-Gm-Message-State: AOJu0Ywa0RuFijMymZsv3iPe4OqlOYBow4wekGguiuJDBpIZbJzadNNG we3EcL3tAFxUv9FGbPBcRraXaeH5LjwqLYbNbJluR5imXldwQcLMk5frBEdvV9o0CVWaLAPQ3H9 bwtS8jTSs6E7mVak6g5b819RhkjOTWOpq2guvulwRkFLZKHqV1yyoJfMaeKBw X-Gm-Gg: ASbGnctkzmntildoWB2pNz8EXrlOS920YptrWHiH/thRpvdhBlrjxARTTp0MDDoL0fR PLr4yGqEG4qHfDySp8AbzL6DLGikoFTZw/kQZjcg/qVwIpfuRl+ZLimExfGKyE+tPVYpdVCIek4 BxxSOiPidyu9F1IqD/W0d0A7wSb9yZyEriLIK+icDS/g/Gv180I751T0/4cSLZasoNGQ2bf/4ja 7NiXUFhtwX1ZpJhc/wwgQAcOiH4f7qjToyotffl7Un89SRkHL7k6mR5Yo2zDHXA6tb7RyS2giL3 ak0AuRV+vZE9nRiH8d0+U3ky9ArZoS2z/PLPdIt37qy01/0yp0qzMwKSw+3JSqxJuiU4Uhb+KCs uwLjK5Njz X-Google-Smtp-Source: AGHT+IHs9HoN6EJHmkBB2nrEya4ZZSPN18BIg0A7diFVzouyvJRNIVzKaBQu16GaOf481YeOais3bCHpRktN X-Received: by 2002:a05:6870:a40b:b0:3e8:960a:d64e with SMTP id 586e51a60fabf-3e8960b0d62mr3570882fac.33.1763386089358; Mon, 17 Nov 2025 05:28:09 -0800 (PST) Received: from postal.iol.unh.edu (postal.iol.unh.edu. [2606:4100:3880:1234::84]) by smtp-relay.gmail.com with ESMTPS id 586e51a60fabf-3e851d6410bsm1226129fac.0.2025.11.17.05.28.09 (version=TLS1_2 cipher=ECDHE-ECDSA-AES128-GCM-SHA256 bits=128/128); Mon, 17 Nov 2025 05:28:09 -0800 (PST) X-Relaying-Domain: iol.unh.edu Date: Mon, 17 Nov 2025 05:28:09 -0800 (PST) Message-ID: <691b22e9.050a0220.c94f9.bcd8SMTPIN_ADDED_MISSING@mx.google.com> Received: from [172.21.0.3] (unknown [172.18.0.240]) by postal.iol.unh.edu (Postfix) with ESMTP id 01A936051830; Mon, 17 Nov 2025 08:28:09 -0500 (EST) Subject: |SUCCESS| pw158858 [PATCH] [v2] examples/ipsec-secgw: add support fo From: dpdklab@iol.unh.edu To: Test Report Cc: dpdk-test-reports@iol.unh.edu In-Reply-To: <20251117090851.54748-1-sunyang.wu@jaguarmicro.com> References: <20251117090851.54748-1-sunyang.wu@jaguarmicro.com> Content-Type: text/plain X-BeenThere: test-report@dpdk.org X-Mailman-Version: 2.1.29 Precedence: list List-Id: automatic DPDK test reports List-Unsubscribe: , List-Archive: List-Post: List-Help: List-Subscribe: , Errors-To: test-report-bounces@dpdk.org Test-Label: iol-compile-amd64-testing Test-Status: SUCCESS http://dpdk.org/patch/158858 _Testing PASS_ Submitter: Sunyang Wu Date: Monday, November 17 2025 09:08:51 DPDK git baseline: Repo:dpdk Branch: master CommitID:be0112878b4fc3a1b918370ed2fe615c52039d77 158858 --> testing pass Upstream job id: Generic-DPDK-Compile-Meson#445584 Test environment and result as below: +-----------------+--------------------+ | Environment | dpdk_meson_compile | +=================+====================+ | FreeBSD 14.2 | PASS | +-----------------+--------------------+ | Ubuntu 20.04 | PASS | +-----------------+--------------------+ | CentOS Stream 9 | PASS | +-----------------+--------------------+ FreeBSD 14.2 Kernel: 14.2-RELEASE Compiler: clang 18.1.6 Ubuntu 20.04 Kernel: 4.19 Compiler: gcc gcc (Ubuntu 9.4.0-1ubuntu1~20.04.2) 9.4.0 CentOS Stream 9 Kernel: 5.15 Compiler: gcc gcc (GCC) 11.5.0 20240719 (Red Hat 11.5.0-11) To view detailed results, visit: https://lab.dpdk.org/results/dashboard/patchsets/34625/ UNH-IOL DPDK Community Lab To manage your email subscriptions, visit: https://lab.dpdk.org/results/dashboard/preferences/subscriptions/