From mboxrd@z Thu Jan 1 00:00:00 1970 Return-Path: Received: from mails.dpdk.org (mails.dpdk.org [217.70.189.124]) by inbox.dpdk.org (Postfix) with ESMTP id CDC1948B32 for ; Mon, 17 Nov 2025 14:35:56 +0100 (CET) Received: from mails.dpdk.org (localhost [127.0.0.1]) by mails.dpdk.org (Postfix) with ESMTP id A4BF24025A; Mon, 17 Nov 2025 14:35:56 +0100 (CET) Received: from mail-qv1-f99.google.com (mail-qv1-f99.google.com [209.85.219.99]) by mails.dpdk.org (Postfix) with ESMTP id B40824025A for ; Mon, 17 Nov 2025 14:35:55 +0100 (CET) Received: by mail-qv1-f99.google.com with SMTP id 6a1803df08f44-882475d8851so45368276d6.2 for ; Mon, 17 Nov 2025 05:35:55 -0800 (PST) DKIM-Signature: v=1; a=rsa-sha256; c=relaxed/relaxed; d=iol.unh.edu; s=unh-iol; t=1763386555; x=1763991355; darn=dpdk.org; h=references:in-reply-to:cc:to:from:subject:message-id:date:from:to :cc:subject:date:message-id:reply-to; bh=GGtHmdbbmOgg4WMXE0En6PUFDGLHWFQTD6APe0uw4U8=; b=Lt2ptihRDJNYnBHj6hlmj1I+rqS1s2dAMtEXWih3hOU9S6Kik/Uqro0ZUoLRC6Z1Pc bzwjpie+7rkDk1z24fCCsUhkie3E/Z+d+7AqF51vDBz7ZKCKcIl/RYvKSVVOYsyM2MNr GCQS6UjgmJkgI6tcRjHNHYYpArYulWi7Hj1m4= X-Google-DKIM-Signature: v=1; a=rsa-sha256; c=relaxed/relaxed; d=1e100.net; s=20230601; t=1763386555; x=1763991355; h=references:in-reply-to:cc:to:from:subject:message-id:date:x-gm-gg :x-gm-message-state:from:to:cc:subject:date:message-id:reply-to; bh=GGtHmdbbmOgg4WMXE0En6PUFDGLHWFQTD6APe0uw4U8=; b=xBPgkOn/LmJnsTUo0am/ygd9L5f/n+Jl1Lcq2WU31dKJiJUgtYtJ+bjbULWba8eXWh RaGHXAIVgn9JHMQMZKl0NdcmFu9/xn5O4/ksZwXRN+gNv2eW9e/EEC56TgOFktnX3usJ cmhSvMIUyZ82UA9oDHY2akj/NISZe90fQDJz60y7ZD3PwmLsQRcYtir9iDjJV57iX3Ku 5Qu8VvzMDkQuTTv1ltSx91T2/eImVI8Km7F6WViUdyMBdQsA7SWoscY0BTU2fwTgMeLG Vx9bniomAAtaIFXP/RxTfCfMC2VD7PDJt7qcbeeJTlPzqsL9Ef9tLOo3Y8ncs1+GBob4 ZGEg== X-Gm-Message-State: AOJu0YxvpxR9dVFeRQ8fOzzwhxod4PICayTiA1GUZ4/sgrDWXStw5rQC KuLIudl2wE2edT1+z67sR2UVBrs5cSMsJVA4OFVWuASPnb7df0ZI013ULXTH5RtiJR7l2RqLxwl HxPylGjHEIrL05nUgunSqMOMb9J8iEJYTaBEVlho9j/v8Bp8cRueRcADrEice X-Gm-Gg: ASbGncu78fghlJTCNvzwKjhvMkplhgXNJHk7+tXYH5DXBYGkUTfpdkUiwCs1rYNocE5 GtIoH5/ar6aONJ+vF4MxqCXbgZ2+K7hfB1Tfy/ipI6M3cDlGAm2Yz3+I67MOU1FUCU3/tPt/RQg NyMqXbgLInZSXfv7xvow/vBGv8IJT4Hcl0SFSEKUGdExpdqI4JafDkqhCvTfGjaTmRNQpvD4Cw7 kFTI6fQpIR2kC4HHnTjwSPfGk/V+1w3EavZfNhGFqkeAWa7SXYF7CzIMNJx+JPyMdITBNKhViHG pqeJ2c7DPbCO9JFAJoEa2+HKcLWhiP4g/Aa4enwZI2K2xeEBuW/Ei7I8P0hz4T/MjX4aKL+/9cF 0/Z0ZHGyH X-Google-Smtp-Source: AGHT+IHIA2R+oa8oufPZbf+f7KcVLObhH2By6gjUZdS9gXBSNZG/YfaxirS9IPD+ZcxHLNYk4jj0eUjIb1UE X-Received: by 2002:a05:6214:2a8a:b0:880:4961:3aef with SMTP id 6a1803df08f44-882925ed24emr158914096d6.5.1763386554977; Mon, 17 Nov 2025 05:35:54 -0800 (PST) Received: from postal.iol.unh.edu (postal.iol.unh.edu. [2606:4100:3880:1234::84]) by smtp-relay.gmail.com with ESMTPS id 6a1803df08f44-882862feb39sm16293726d6.12.2025.11.17.05.35.54 (version=TLS1_2 cipher=ECDHE-ECDSA-AES128-GCM-SHA256 bits=128/128); Mon, 17 Nov 2025 05:35:54 -0800 (PST) X-Relaying-Domain: iol.unh.edu Date: Mon, 17 Nov 2025 05:35:54 -0800 (PST) Message-ID: <691b24ba.050a0220.26000d.0734SMTPIN_ADDED_MISSING@mx.google.com> Received: from [172.21.0.7] (unknown [172.18.0.240]) by postal.iol.unh.edu (Postfix) with ESMTP id B2D58604D420; Mon, 17 Nov 2025 08:35:54 -0500 (EST) Subject: |SUCCESS| pw158848 [PATCH] net/mlx5: move auxiliary data inline From: dpdklab@iol.unh.edu To: Test Report Cc: dpdk-test-reports@iol.unh.edu In-Reply-To: <20251117072752.9290-1-bingz@nvidia.com> References: <20251117072752.9290-1-bingz@nvidia.com> Content-Type: text/plain X-BeenThere: test-report@dpdk.org X-Mailman-Version: 2.1.29 Precedence: list List-Id: automatic DPDK test reports List-Unsubscribe: , List-Archive: List-Post: List-Help: List-Subscribe: , Errors-To: test-report-bounces@dpdk.org Test-Label: iol-compile-arm64-testing Test-Status: SUCCESS http://dpdk.org/patch/158848 _Testing PASS_ Submitter: Bing Zhao Date: Monday, November 17 2025 07:27:52 DPDK git baseline: Repo:dpdk-next-net-mlx Branch: master CommitID:6c8ab18883d4a51ac512a969d36b47272a63b61b 158848 --> testing pass Upstream job id: Generic-DPDK-Compile-Meson#445371 Test environment and result as below: +------------------------------+--------------------+ | Environment | dpdk_meson_compile | +==============================+====================+ | Red Hat Enterprise Linux 9.5 | PASS | +------------------------------+--------------------+ | Ubuntu 20.04 | PASS | +------------------------------+--------------------+ | Debian GNU/Linux 12 | PASS | +------------------------------+--------------------+ | Fedora Linux 42 | PASS | +------------------------------+--------------------+ | Ubuntu 22.04 | PASS | +------------------------------+--------------------+ | Ubuntu 24.04 | PASS | +------------------------------+--------------------+ | CentOS Stream 9 | PASS | +------------------------------+--------------------+ | CentOS Stream 10 | PASS | +------------------------------+--------------------+ Red Hat Enterprise Linux 9.5 Kernel: 5.4 Compiler: gcc gcc (GCC) 11.5.0 20240719 (Red Hat 11.5.0-2) Ubuntu 20.04 Kernel: 5.15 Compiler: aarch64-linux-gnu-gcc gcc (Ubuntu 9.4.0-1ubuntu1~20.04.2) 9.4.0 Debian GNU/Linux 12 Kernel: 5.4 Compiler: gcc gcc (Debian 12.2.0-14+deb12u1) 12.2.0 Fedora Linux 42 Kernel: 5.4 Compiler: gcc gcc (GCC) 15.2.1 20250808 (Red Hat 15.2.1-1) Ubuntu 22.04 Kernel: 5.4 Compiler: gcc gcc (Ubuntu 11.4.0-1ubuntu1~22.04) 11.4.0 Ubuntu 24.04 Kernel: 5.4 Compiler: gcc gcc (Ubuntu 13.3.0-6ubuntu2~24.04) 13.3.0 CentOS Stream 9 Kernel: 5.4 Compiler: gcc gcc (GCC) 11.5.0 20240719 (Red Hat 11.5.0-11) CentOS Stream 10 Kernel: 5.4 Compiler: gcc gcc (GCC) 14.2.1 20250110 (Red Hat 14.2.1-8) To view detailed results, visit: https://lab.dpdk.org/results/dashboard/patchsets/34617/ UNH-IOL DPDK Community Lab To manage your email subscriptions, visit: https://lab.dpdk.org/results/dashboard/preferences/subscriptions/