From mboxrd@z Thu Jan 1 00:00:00 1970 Return-Path: Received: from mails.dpdk.org (mails.dpdk.org [217.70.189.124]) by inbox.dpdk.org (Postfix) with ESMTP id EBA6A48B32 for ; Mon, 17 Nov 2025 14:38:32 +0100 (CET) Received: from mails.dpdk.org (localhost [127.0.0.1]) by mails.dpdk.org (Postfix) with ESMTP id E61194025A; Mon, 17 Nov 2025 14:38:32 +0100 (CET) Received: from mail-io1-f100.google.com (mail-io1-f100.google.com [209.85.166.100]) by mails.dpdk.org (Postfix) with ESMTP id E081B4025A for ; Mon, 17 Nov 2025 14:38:31 +0100 (CET) Received: by mail-io1-f100.google.com with SMTP id ca18e2360f4ac-94863b3620cso305849239f.3 for ; Mon, 17 Nov 2025 05:38:31 -0800 (PST) DKIM-Signature: v=1; a=rsa-sha256; c=relaxed/relaxed; d=iol.unh.edu; s=unh-iol; t=1763386711; x=1763991511; darn=dpdk.org; h=references:in-reply-to:cc:to:from:subject:message-id:date:from:to :cc:subject:date:message-id:reply-to; bh=n/pDzdfjbLhtZvU+Zw6B1Ltkqal+qYTSHSP4jo1e3ps=; b=hDfdAXvvbUmslQJZgrTjPcOT5qbaHReIcN5/r42nuY/aHFG+dZgL/EO8f/kw5ERwbd CuLVUsDPc4qWToe31iai1fJHal+4xRQ/bdA+6DknCsW/W0bNvM6QYxjseIIAD88ii8HA GJ74GXp+552m37w59Vp0H4tcBvzkQhdCnIcPs= X-Google-DKIM-Signature: v=1; a=rsa-sha256; c=relaxed/relaxed; d=1e100.net; s=20230601; t=1763386711; x=1763991511; h=references:in-reply-to:cc:to:from:subject:message-id:date:x-gm-gg :x-gm-message-state:from:to:cc:subject:date:message-id:reply-to; bh=n/pDzdfjbLhtZvU+Zw6B1Ltkqal+qYTSHSP4jo1e3ps=; b=SGDtj8b+n8r8pP7hF16MkLmMlJjqO5ild/yAy/dFTv/T3ZorlqBuz+66YzZ2lhsvks ruSBZqDuakKQtNCcvFrnzSyDXjookT4n3Degs00AbP+qgEbhDqzg4T36UTtPg+0vTp9i lXb+1Pnv8gJpKXnQYgoyJhYaksM1kUIE5aed9ufs50xFhjTjF3YQllyPp86TMqK2GsJ4 s4to5UFgPfkdAX24+LDImLjUHlmoAimxLxLBnlIiQ/J3Oztr4qhZsTpKuQBmQB/M4PU1 lHMGEUp2BU/CuVJhbPzmbucusVYGQIW3Dd/TGqIhNw37xJjFZ6OB9oN8XVmh8EStkE0y ZqtA== X-Gm-Message-State: AOJu0YwsLtVx7R1Lc3u4g4cslSDmfxdYPz+QHYGoVrpEejYofkxqZI4+ EMR8TPGtkF8ygoeNmojNMyIk9fZb7PEZAW3QfAQlqmfCx8C65i2LigvnafgSM4vAopoQQ0oknoa W9tDpNMnz9ZdA4GvRd5UOnav71OyuAnra2VX7D8/JRq3Xx3XR4vfAFcEjwjk5 X-Gm-Gg: ASbGncsReWGc5PwLdDnJg2hBt4q8qFO6wp2cqkZSwJarROll+iKIC1D2es05tjGf7O+ XOlFovIHtpdo72kDKhT+r+2iqnykJYmFNLfbI//dCiIW+K8xTZvvTfv8Coo1u0Scugw6od7FBz7 ClrbdkHSCugfxopPWiBUftb12TaF670pDthz1weHVzX/WHo1AG7EmkDobiZKmGNjWNNT8H/I+Se 3LG6NgpgDchQmUdLMMdnEm69ce/L+HrHa4pBxkiGlQJNZiTUfJ7o3PUr9PgLvVkRbfjfeoqX6VJ MvRmmlfmnzmgwRfYmxwSn8/LiIJ3X5N1tGboR2cbw+rjIp2V2pbXL1Oh8Rai3//3iTBvP+Ij5V1 5WufwZF8I X-Google-Smtp-Source: AGHT+IFlCtR09mDe6a71tH7orc2WX0WsiBT68CDCArvuNsEV04ij8h2nQ3SdJVAu10UQwUblRNHwpzijfhFo X-Received: by 2002:a92:d0c6:0:b0:434:a847:68e1 with SMTP id e9e14a558f8ab-434a8476ce5mr37525055ab.9.1763386711235; Mon, 17 Nov 2025 05:38:31 -0800 (PST) Received: from postal.iol.unh.edu (postal.iol.unh.edu. [2606:4100:3880:1234::84]) by smtp-relay.gmail.com with ESMTPS id e9e14a558f8ab-43483992476sm11094365ab.17.2025.11.17.05.38.31 (version=TLS1_2 cipher=ECDHE-ECDSA-AES128-GCM-SHA256 bits=128/128); Mon, 17 Nov 2025 05:38:31 -0800 (PST) X-Relaying-Domain: iol.unh.edu Date: Mon, 17 Nov 2025 05:38:31 -0800 (PST) Message-ID: <691b2557.920a0220.33f9e8.7479SMTPIN_ADDED_MISSING@mx.google.com> Received: from [172.21.0.4] (unknown [172.18.0.240]) by postal.iol.unh.edu (Postfix) with ESMTP id CAC15604D420; Mon, 17 Nov 2025 08:38:30 -0500 (EST) Subject: |SUCCESS| pw158856 [PATCH] [v3] net/mlx5: use private structure for From: dpdklab@iol.unh.edu To: Test Report Cc: dpdk-test-reports@iol.unh.edu In-Reply-To: <20251117084443.10264-1-bingz@nvidia.com> References: <20251117084443.10264-1-bingz@nvidia.com> Content-Type: text/plain X-BeenThere: test-report@dpdk.org X-Mailman-Version: 2.1.29 Precedence: list List-Id: automatic DPDK test reports List-Unsubscribe: , List-Archive: List-Post: List-Help: List-Subscribe: , Errors-To: test-report-bounces@dpdk.org Test-Label: iol-compile-amd64-testing Test-Status: SUCCESS http://dpdk.org/patch/158856 _Testing PASS_ Submitter: Bing Zhao Date: Monday, November 17 2025 08:44:43 DPDK git baseline: Repo:dpdk-next-net-mlx Branch: master CommitID:6c8ab18883d4a51ac512a969d36b47272a63b61b 158856 --> testing pass Upstream job id: Generic-DPDK-Compile-Meson#445521 Test environment and result as below: +-------------------------------+--------------------+------------------+-------------------+ | Environment | dpdk_meson_compile | dpdk_compile_ovs | dpdk_msvc_compile | +===============================+====================+==================+===================+ | FreeBSD 14.2 | PASS | SKIPPED | SKIPPED | +-------------------------------+--------------------+------------------+-------------------+ | Ubuntu 20.04 | PASS | SKIPPED | SKIPPED | +-------------------------------+--------------------+------------------+-------------------+ | CentOS Stream 9 | PASS | SKIPPED | SKIPPED | +-------------------------------+--------------------+------------------+-------------------+ | CentOS Stream 10 | PASS | SKIPPED | SKIPPED | +-------------------------------+--------------------+------------------+-------------------+ | Debian GNU/Linux 12 | PASS | SKIPPED | SKIPPED | +-------------------------------+--------------------+------------------+-------------------+ | Fedora Linux 42 | PASS | PASS | SKIPPED | +-------------------------------+--------------------+------------------+-------------------+ | openSUSE Leap 15.6 | PASS | SKIPPED | SKIPPED | +-------------------------------+--------------------+------------------+-------------------+ | Red Hat Enterprise Linux 8.10 | PASS | SKIPPED | SKIPPED | +-------------------------------+--------------------+------------------+-------------------+ | Red Hat Enterprise Linux 9.5 | PASS | SKIPPED | SKIPPED | +-------------------------------+--------------------+------------------+-------------------+ | Ubuntu 22.04 | PASS | SKIPPED | SKIPPED | +-------------------------------+--------------------+------------------+-------------------+ | Ubuntu 24.04 | PASS | PASS | SKIPPED | +-------------------------------+--------------------+------------------+-------------------+ | Alpine Linux 3.22.0 | PASS | SKIPPED | SKIPPED | +-------------------------------+--------------------+------------------+-------------------+ | Windows Server 2022 | SKIPPED | SKIPPED | PASS | +-------------------------------+--------------------+------------------+-------------------+ FreeBSD 14.2 Kernel: 14.2-RELEASE Compiler: clang 18.1.6 Ubuntu 20.04 Kernel: 4.19 Compiler: gcc gcc (Ubuntu 9.4.0-1ubuntu1~20.04.2) 9.4.0 CentOS Stream 9 Kernel: 5.15 Compiler: gcc gcc (GCC) 11.5.0 20240719 (Red Hat 11.5.0-11) CentOS Stream 10 Kernel: 5.15 Compiler: gcc gcc (GCC) 14.2.1 20250110 (Red Hat 14.2.1-8) Debian GNU/Linux 12 Kernel: 5.15 Compiler: gcc gcc (Debian 12.2.0-14+deb12u1) 12.2.0 Fedora Linux 42 Kernel: 5.15 Compiler: clang gcc (GCC) 15.2.1 20250808 (Red Hat 15.2.1-1) openSUSE Leap 15.6 Kernel: 5.15 Compiler: gcc gcc (SUSE Linux) 7.5.0 Red Hat Enterprise Linux 8.10 Kernel: 5.15 Compiler: gcc gcc (GCC) 8.5.0 20210514 (Red Hat 8.5.0-22) Red Hat Enterprise Linux 9.5 Kernel: 5.15 Compiler: gcc gcc (GCC) 11.5.0 20240719 (Red Hat 11.5.0-2) Ubuntu 22.04 Kernel: 5.15 Compiler: gcc gcc (Ubuntu 11.4.0-1ubuntu1~22.04) 11.4.0 Ubuntu 24.04 Kernel: 5.15 Compiler: gcc gcc (Ubuntu 13.3.0-6ubuntu2~24.04) 13.3.0 Alpine Linux 3.22.0 Kernel: 5.15 Compiler: gcc gcc (Alpine 14.2.0) 14.2.0 Windows Server 2022 Kernel: 10.0.20348.2031 Compiler: clang 15.0.7, gcc 14.1.0 (MinGW), and MSVC VS 19.39.33521 To view detailed results, visit: https://lab.dpdk.org/results/dashboard/patchsets/34623/ UNH-IOL DPDK Community Lab To manage your email subscriptions, visit: https://lab.dpdk.org/results/dashboard/preferences/subscriptions/