From mboxrd@z Thu Jan 1 00:00:00 1970 Return-Path: Received: from mails.dpdk.org (mails.dpdk.org [217.70.189.124]) by inbox.dpdk.org (Postfix) with ESMTP id 2FEB948B32 for ; Mon, 17 Nov 2025 15:14:23 +0100 (CET) Received: from mails.dpdk.org (localhost [127.0.0.1]) by mails.dpdk.org (Postfix) with ESMTP id 2A4974025A; Mon, 17 Nov 2025 15:14:23 +0100 (CET) Received: from mail-yw1-f226.google.com (mail-yw1-f226.google.com [209.85.128.226]) by mails.dpdk.org (Postfix) with ESMTP id 69D4D4025A for ; Mon, 17 Nov 2025 15:14:22 +0100 (CET) Received: by mail-yw1-f226.google.com with SMTP id 00721157ae682-78802ac22abso41372357b3.3 for ; Mon, 17 Nov 2025 06:14:22 -0800 (PST) DKIM-Signature: v=1; a=rsa-sha256; c=relaxed/relaxed; d=iol.unh.edu; s=unh-iol; t=1763388862; x=1763993662; darn=dpdk.org; h=references:in-reply-to:cc:to:from:subject:message-id:date:from:to :cc:subject:date:message-id:reply-to; bh=MRYgScxxLx5lX81WX2HHsFJOv+ubmkbM9IeG2RIcTWA=; b=KzyhUpdUSY0VG3ot4dzRTuQrsMn72QiZ5M6bjkRsSxay1bpPMajP+p69GamLnN6Vhl KyARiETG6JQ/be3vQ7P0EH0DCHKFbQ8AsDfjnSo5sJiBUY+W+D8dcQTCOrJSsyNLOJ9A 0gGK5vMhKiL7cNW6IQftyOEETyw6uMDYcmFsY= X-Google-DKIM-Signature: v=1; a=rsa-sha256; c=relaxed/relaxed; d=1e100.net; s=20230601; t=1763388862; x=1763993662; h=references:in-reply-to:cc:to:from:subject:message-id:date:x-gm-gg :x-gm-message-state:from:to:cc:subject:date:message-id:reply-to; bh=MRYgScxxLx5lX81WX2HHsFJOv+ubmkbM9IeG2RIcTWA=; b=CTDi7bFhQvBs/ylkHhbBtfYB/5F/D2peq71NgsmOHt15t1k20pOlrET2wLsg5QeWiK nVQBVaheEJpyQcI+Wb9npB9kO5lIp1/uF1o+W5Gqbsy0jN2L0zyihXNf2Mq06Oo2IxYC NLDp24j80EANccDQISkXtg2zkaA5/jKr7jgw5DJT3OlWY8b9U6pLbT0ixbDOdQG9lLEu Kbo+9HvrulLcptF7KIbqY9txuYE/uaTTvNR8zY0A3SEJ717Nrr/xf0DFix4rJAT3W/6B BjWmRsQMgUQczOFG0YA2Wa1+3JpwRQDDIt5rqy/vmUs7oaZO6D97okoh6JgXskOauXEH /QIA== X-Gm-Message-State: AOJu0Yz2AcOQZxEAGr2P19M8jA8elYC5jexy3qiZIlplV0qqguFw7/KX /o8AvtVUiUjxMB+lp5K47wjZPLgrWMWYKZMZh4YaxcTt4sabMcB/fdz7+SYSmQPjelpojmA976N 2LYJ3BmzqD49e0ndc+2Rh+LiawbDs0yggCUcy5VpgMRU6NwdxjKHrR8lD5pPA X-Gm-Gg: ASbGncvI80p6f2lSHKHLF4GJ3lLDSFCZDa6n3qdPJkhqlfYdWdJ+PEhzWGtesnW5KnE LJtd6mwJE5bTe7Aq/K2ym5F9BtbPpEi35YCjccRjPqtflyB5O3ZWdzlTTurh93EDqhluq3bcUgX Y2Wt7LcGfs5QxSuENHIJfV6bDlyGQJpjMI8SW2e6BbfJH3xYGptoHnle0E15ro1TSH8F6Eg/Z68 dDxsClsDkiH0OtbyFAWZuhz3J6zwSipsIXWD73n5EVMRPJT0IjWPojzqGy+N1EDKzHwP8J0fgq4 wGPshpmH2TAKRiqIF0y+4ys8W/92caKcGBZc0IBS7U6TN8JXYGuP2ctAu2mCnqvB7DQyDsSgqx/ BHiHnhrmW X-Google-Smtp-Source: AGHT+IFDxzr++tPevw/SY814IBmtm2EYrmklhKe10MQsSk1mtc+KWzkE46135T+yl/XBsTAyHecEtUJIaeSq X-Received: by 2002:a05:690e:251b:20b0:63f:ad90:ad45 with SMTP id 956f58d0204a3-641e74b050bmr8982535d50.1.1763388861768; Mon, 17 Nov 2025 06:14:21 -0800 (PST) Received: from postal.iol.unh.edu (postal.iol.unh.edu. [2606:4100:3880:1234::84]) by smtp-relay.gmail.com with ESMTPS id 956f58d0204a3-6410e9eb4cfsm567085d50.2.2025.11.17.06.14.21 (version=TLS1_2 cipher=ECDHE-ECDSA-AES128-GCM-SHA256 bits=128/128); Mon, 17 Nov 2025 06:14:21 -0800 (PST) X-Relaying-Domain: iol.unh.edu Date: Mon, 17 Nov 2025 06:14:21 -0800 (PST) Message-ID: <691b2dbd.050a0220.7c00a.b9a1SMTPIN_ADDED_MISSING@mx.google.com> Received: from [172.21.0.3] (unknown [172.18.0.240]) by postal.iol.unh.edu (Postfix) with ESMTP id 75CAE604D420; Mon, 17 Nov 2025 09:14:21 -0500 (EST) Subject: |SUCCESS| pw158849 [PATCH] test-flow-perf: fix the incorrect array l From: dpdklab@iol.unh.edu To: Test Report Cc: dpdk-test-reports@iol.unh.edu In-Reply-To: <20251117072858.9318-1-bingz@nvidia.com> References: <20251117072858.9318-1-bingz@nvidia.com> Content-Type: text/plain X-BeenThere: test-report@dpdk.org X-Mailman-Version: 2.1.29 Precedence: list List-Id: automatic DPDK test reports List-Unsubscribe: , List-Archive: List-Post: List-Help: List-Subscribe: , Errors-To: test-report-bounces@dpdk.org Test-Label: iol-compile-amd64-testing Test-Status: SUCCESS http://dpdk.org/patch/158849 _Testing PASS_ Submitter: Bing Zhao Date: Monday, November 17 2025 07:28:58 DPDK git baseline: Repo:dpdk Branch: master CommitID:be0112878b4fc3a1b918370ed2fe615c52039d77 158849 --> testing pass Upstream job id: Windows-Compile-DPDK-Native#32476 Test environment and result as below: +-------------------------------+--------------------+------------------+-------------------+-------------------------+ | Environment | dpdk_meson_compile | dpdk_compile_ovs | dpdk_msvc_compile | dpdk_llvm_clang_compile | +===============================+====================+==================+===================+=========================+ | Ubuntu 20.04 | PASS | SKIPPED | SKIPPED | SKIPPED | +-------------------------------+--------------------+------------------+-------------------+-------------------------+ | FreeBSD 14.2 | PASS | SKIPPED | SKIPPED | SKIPPED | +-------------------------------+--------------------+------------------+-------------------+-------------------------+ | CentOS Stream 9 | PASS | SKIPPED | SKIPPED | SKIPPED | +-------------------------------+--------------------+------------------+-------------------+-------------------------+ | CentOS Stream 10 | PASS | SKIPPED | SKIPPED | SKIPPED | +-------------------------------+--------------------+------------------+-------------------+-------------------------+ | Debian GNU/Linux 12 | PASS | SKIPPED | SKIPPED | SKIPPED | +-------------------------------+--------------------+------------------+-------------------+-------------------------+ | Fedora Linux 42 | PASS | PASS | SKIPPED | SKIPPED | +-------------------------------+--------------------+------------------+-------------------+-------------------------+ | Red Hat Enterprise Linux 8.10 | PASS | SKIPPED | SKIPPED | SKIPPED | +-------------------------------+--------------------+------------------+-------------------+-------------------------+ | openSUSE Leap 15.6 | PASS | SKIPPED | SKIPPED | SKIPPED | +-------------------------------+--------------------+------------------+-------------------+-------------------------+ | Red Hat Enterprise Linux 9.5 | PASS | SKIPPED | SKIPPED | SKIPPED | +-------------------------------+--------------------+------------------+-------------------+-------------------------+ | Ubuntu 22.04 | PASS | SKIPPED | SKIPPED | SKIPPED | +-------------------------------+--------------------+------------------+-------------------+-------------------------+ | Ubuntu 24.04 | PASS | PASS | SKIPPED | SKIPPED | +-------------------------------+--------------------+------------------+-------------------+-------------------------+ | Alpine Linux 3.22.0 | PASS | SKIPPED | SKIPPED | SKIPPED | +-------------------------------+--------------------+------------------+-------------------+-------------------------+ | Windows Server 2022 | SKIPPED | SKIPPED | PASS | PASS | +-------------------------------+--------------------+------------------+-------------------+-------------------------+ Ubuntu 20.04 Kernel: 4.19 Compiler: gcc gcc (Ubuntu 9.4.0-1ubuntu1~20.04.2) 9.4.0 FreeBSD 14.2 Kernel: 14.2-RELEASE Compiler: clang 18.1.6 CentOS Stream 9 Kernel: 5.15 Compiler: gcc gcc (GCC) 11.5.0 20240719 (Red Hat 11.5.0-11) CentOS Stream 10 Kernel: 5.15 Compiler: gcc gcc (GCC) 14.2.1 20250110 (Red Hat 14.2.1-8) Debian GNU/Linux 12 Kernel: 5.15 Compiler: gcc gcc (Debian 12.2.0-14+deb12u1) 12.2.0 Fedora Linux 42 Kernel: 5.15 Compiler: clang gcc (GCC) 15.2.1 20250808 (Red Hat 15.2.1-1) Red Hat Enterprise Linux 8.10 Kernel: 5.15 Compiler: gcc gcc (GCC) 8.5.0 20210514 (Red Hat 8.5.0-22) openSUSE Leap 15.6 Kernel: 5.15 Compiler: gcc gcc (SUSE Linux) 7.5.0 Red Hat Enterprise Linux 9.5 Kernel: 5.15 Compiler: gcc gcc (GCC) 11.5.0 20240719 (Red Hat 11.5.0-2) Ubuntu 22.04 Kernel: 5.15 Compiler: gcc gcc (Ubuntu 11.4.0-1ubuntu1~22.04) 11.4.0 Ubuntu 24.04 Kernel: 5.15 Compiler: gcc gcc (Ubuntu 13.3.0-6ubuntu2~24.04) 13.3.0 Alpine Linux 3.22.0 Kernel: 5.15 Compiler: gcc gcc (Alpine 14.2.0) 14.2.0 Windows Server 2022 Kernel: 10.0.20348.2031 Compiler: clang 15.0.7, gcc 14.1.0 (MinGW), and MSVC VS 19.39.33521 To view detailed results, visit: https://lab.dpdk.org/results/dashboard/patchsets/34620/ UNH-IOL DPDK Community Lab To manage your email subscriptions, visit: https://lab.dpdk.org/results/dashboard/preferences/subscriptions/