From mboxrd@z Thu Jan 1 00:00:00 1970 Return-Path: Received: from mails.dpdk.org (mails.dpdk.org [217.70.189.124]) by inbox.dpdk.org (Postfix) with ESMTP id 7235048B32 for ; Mon, 17 Nov 2025 15:38:50 +0100 (CET) Received: from mails.dpdk.org (localhost [127.0.0.1]) by mails.dpdk.org (Postfix) with ESMTP id 6CF004025A; Mon, 17 Nov 2025 15:38:50 +0100 (CET) Received: from mail-pl1-f227.google.com (mail-pl1-f227.google.com [209.85.214.227]) by mails.dpdk.org (Postfix) with ESMTP id 52B9F4025A for ; Mon, 17 Nov 2025 15:38:49 +0100 (CET) Received: by mail-pl1-f227.google.com with SMTP id d9443c01a7336-2957850c63bso45276335ad.0 for ; Mon, 17 Nov 2025 06:38:49 -0800 (PST) DKIM-Signature: v=1; a=rsa-sha256; c=relaxed/relaxed; d=iol.unh.edu; s=unh-iol; t=1763390328; x=1763995128; darn=dpdk.org; h=references:in-reply-to:cc:to:from:subject:message-id:date:from:to :cc:subject:date:message-id:reply-to; bh=GyAbAbUE+kpAcNhcaQ7oBOf1hO9Qa5zSc+1sH7r0f7s=; b=XA3AGxpVjcSJp1eDwx5R/odcJDse7VP5R5+8V1xA8I84rwJ8lwG7WtHsGboMjcjiEH Wbr+4z0JsA6BNgTmQOlTEfzHIiSCkGZXJ56yjNrLJKfvngtlQs7mg/weT7uRpKe8CTmT yPiRgFfhhmJlQMDn0ZohfxlluTdLQcJqQ+iv8= X-Google-DKIM-Signature: v=1; a=rsa-sha256; c=relaxed/relaxed; d=1e100.net; s=20230601; t=1763390328; x=1763995128; h=references:in-reply-to:cc:to:from:subject:message-id:date:x-gm-gg :x-gm-message-state:from:to:cc:subject:date:message-id:reply-to; bh=GyAbAbUE+kpAcNhcaQ7oBOf1hO9Qa5zSc+1sH7r0f7s=; b=kMMDFhasGBNd+JmQzwj8ZUVA+bZUhA3HvTi2kCdBnA3+/rUj7D8C1e42rIWD1PLy7+ rqvxC2nyXJRydHfDB6XUpuNeu3qoLyP0o/mJNayFJfMSvGSNuVv7MlLyzg2QyY4lFEnq Te+3myvJJqZY5RXCGCawat9UgRcuiMCQAkGjx5pmU9B/wFwbBpOLbZED23IXeLGW+7vj myIDXwdWgs0ZzV33BY2nDBqMvJq9Eo/gI/gB04twrXz9huMnzlxIJzgUTOaENMQGrkEu qDPxG/F9RWQrVno3q8NAXFU79P3kVy7vM/uowo8YEfIMwEjqOutX2TUW3jnPHq4lQIKX dYOw== X-Gm-Message-State: AOJu0Yw4YUKMPbF8qXgXI9NbWgrsPegAznSi+cbEQ5cF6lkprBXbwmnv rfchzCdVMYb01cpdygXFcF2vcDVH5b5fPvyEkzU0Sp3uqP483H92v4ZQTfo3UYftHy0bsPzyQi7 b3uB0qv5otv/4YcpQjaSJyTWuxw9JheNnvqs3Ado0rgcy X-Gm-Gg: ASbGncu8sbnvlCxEZKN4eUqnTMQhacFLV6hy/FtLNcj+tSsJFA08auuOd7qNKlqe7if Lo5L0wxEVOeA217IyIyrvfkmMZWJ3P/0rOGOynbqzjV6YFE1W5sLV8zJ83rB0Zq0sXt9hRY9QMJ WzGp8WhCbr0dd3mQYSdTYMSi0AFFVNJPblIhrE50QC6p3W4J42qqQ1JjXO5Q1FtTHnNeiWqjAIi 8LYUr/dQAIzHwv0uvbMqPfmNshFdgpu+Oom2iEiAxq2NHFG3nANB+c1uhUJrWqTkVGobWr4e6pC X5GktZ3sf2BiyE9HNiAoqJ0FczE9z63xnHd52I6lZRS8DzJbSjlOdpE2wW/FxPTVKlZ9Z/wqBJe Dt9BRk21kyk0o0kjrxNmoi0aVscYDFpI= X-Google-Smtp-Source: AGHT+IEKcTik9+tEsfaEbcmyy756zc660tE09LDoubT1Q78BaQqKy8dWk7PEmjQ8LWJd/BYB5j/RZFwquxxW X-Received: by 2002:a17:903:37d0:b0:295:55fc:67a0 with SMTP id d9443c01a7336-2985a4b04admr187039295ad.2.1763390328470; Mon, 17 Nov 2025 06:38:48 -0800 (PST) Received: from postal.iol.unh.edu (postal.iol.unh.edu. [132.177.123.84]) by smtp-relay.gmail.com with ESMTPS id d9443c01a7336-2985c2c3f52sm15751755ad.60.2025.11.17.06.38.48 (version=TLS1_2 cipher=ECDHE-ECDSA-AES128-GCM-SHA256 bits=128/128); Mon, 17 Nov 2025 06:38:48 -0800 (PST) X-Relaying-Domain: iol.unh.edu Date: Mon, 17 Nov 2025 06:38:48 -0800 (PST) Message-ID: <691b3378.170a0220.9a0f0.0290SMTPIN_ADDED_MISSING@mx.google.com> Received: from [172.21.0.5] (unknown [172.18.0.240]) by postal.iol.unh.edu (Postfix) with ESMTP id B2752604D420; Mon, 17 Nov 2025 09:38:47 -0500 (EST) Subject: |SUCCESS| pw158851 [PATCH] net/mlx5: update stored Rx queue MTU when From: dpdklab@iol.unh.edu To: Test Report Cc: dpdk-test-reports@iol.unh.edu In-Reply-To: <20251117073937.1514124-1-shperetz@nvidia.com> References: <20251117073937.1514124-1-shperetz@nvidia.com> Content-Type: text/plain X-BeenThere: test-report@dpdk.org X-Mailman-Version: 2.1.29 Precedence: list List-Id: automatic DPDK test reports List-Unsubscribe: , List-Archive: List-Post: List-Help: List-Subscribe: , Errors-To: test-report-bounces@dpdk.org Test-Label: iol-compile-arm64-testing Test-Status: SUCCESS http://dpdk.org/patch/158851 _Testing PASS_ Submitter: Shani Peretz Date: Monday, November 17 2025 07:39:36 DPDK git baseline: Repo:dpdk-next-net-mlx Branch: master CommitID:6c8ab18883d4a51ac512a969d36b47272a63b61b 158851 --> testing pass Upstream job id: Generic-DPDK-Compile-Meson#445425 Test environment and result as below: +------------------------------+--------------------+ | Environment | dpdk_meson_compile | +==============================+====================+ | Red Hat Enterprise Linux 9.5 | PASS | +------------------------------+--------------------+ | Ubuntu 20.04 | PASS | +------------------------------+--------------------+ | Debian GNU/Linux 12 | PASS | +------------------------------+--------------------+ | Fedora Linux 42 | PASS | +------------------------------+--------------------+ | Ubuntu 22.04 | PASS | +------------------------------+--------------------+ | Ubuntu 24.04 | PASS | +------------------------------+--------------------+ | CentOS Stream 9 | PASS | +------------------------------+--------------------+ | CentOS Stream 10 | PASS | +------------------------------+--------------------+ Red Hat Enterprise Linux 9.5 Kernel: 5.4 Compiler: gcc gcc (GCC) 11.5.0 20240719 (Red Hat 11.5.0-2) Ubuntu 20.04 Kernel: 5.15 Compiler: aarch64-linux-gnu-gcc gcc (Ubuntu 9.4.0-1ubuntu1~20.04.2) 9.4.0 Debian GNU/Linux 12 Kernel: 5.4 Compiler: gcc gcc (Debian 12.2.0-14+deb12u1) 12.2.0 Fedora Linux 42 Kernel: 5.4 Compiler: clang gcc (GCC) 15.2.1 20250808 (Red Hat 15.2.1-1) Ubuntu 22.04 Kernel: 5.4 Compiler: gcc gcc (Ubuntu 11.4.0-1ubuntu1~22.04) 11.4.0 Ubuntu 24.04 Kernel: 5.4 Compiler: gcc gcc (Ubuntu 13.3.0-6ubuntu2~24.04) 13.3.0 CentOS Stream 9 Kernel: 5.4 Compiler: gcc gcc (GCC) 11.5.0 20240719 (Red Hat 11.5.0-11) CentOS Stream 10 Kernel: 5.4 Compiler: gcc gcc (GCC) 14.2.1 20250110 (Red Hat 14.2.1-8) To view detailed results, visit: https://lab.dpdk.org/results/dashboard/patchsets/34621/ UNH-IOL DPDK Community Lab To manage your email subscriptions, visit: https://lab.dpdk.org/results/dashboard/preferences/subscriptions/