From mboxrd@z Thu Jan 1 00:00:00 1970 Return-Path: Received: from mails.dpdk.org (mails.dpdk.org [217.70.189.124]) by inbox.dpdk.org (Postfix) with ESMTP id 607EB48B32 for ; Mon, 17 Nov 2025 15:54:03 +0100 (CET) Received: from mails.dpdk.org (localhost [127.0.0.1]) by mails.dpdk.org (Postfix) with ESMTP id 3A20F4025A; Mon, 17 Nov 2025 15:54:03 +0100 (CET) Received: from mail-io1-f97.google.com (mail-io1-f97.google.com [209.85.166.97]) by mails.dpdk.org (Postfix) with ESMTP id 978BD4025A for ; Mon, 17 Nov 2025 15:54:02 +0100 (CET) Received: by mail-io1-f97.google.com with SMTP id ca18e2360f4ac-949031532f9so60336839f.0 for ; Mon, 17 Nov 2025 06:54:02 -0800 (PST) DKIM-Signature: v=1; a=rsa-sha256; c=relaxed/relaxed; d=iol.unh.edu; s=unh-iol; t=1763391242; x=1763996042; darn=dpdk.org; h=references:in-reply-to:cc:to:from:subject:message-id:date:from:to :cc:subject:date:message-id:reply-to; bh=AbzVIVgXIucstpL1ITS6SKcue5SW1P9hMNcjaxtccbo=; b=ZSH3q6mhz8HuySYRfiZqkR0A6koVQybV+8mkyVVc7V0czdCHdO5o3BFDz6vf9cZ/aD 4PCUgWqTwUT1VduxnCiLj1IIBcC2kDR9VRQCyDb+dUbnzYAggcmZ68t9mlTvRtsJm+kR gXdwX7CV30BmxFLo8GYha3c3cy7MNFuOifHjA= X-Google-DKIM-Signature: v=1; a=rsa-sha256; c=relaxed/relaxed; d=1e100.net; s=20230601; t=1763391242; x=1763996042; h=references:in-reply-to:cc:to:from:subject:message-id:date:x-gm-gg :x-gm-message-state:from:to:cc:subject:date:message-id:reply-to; bh=AbzVIVgXIucstpL1ITS6SKcue5SW1P9hMNcjaxtccbo=; b=rvuylZSZzh8p4+njoBWp+0LpY1kXtmkwmLy8Jv3FaW2YCKKa0uiob4vnLKFa0SOwzc dgCtsFzKMHVrck4+ruizf1W3hD9mHtxgjHUiJI8XB3l/5I97mjr2EIujbqD4y8X+jleR 5R635izdQqlSVQ+VNaHjVSOOYlxB/55OMpIW1LT4UFw1KpITNPI4vM0lc9QZ0QFS7K5i 76vPiXkcgcVzJhThV/PfRDfZxD/xGVoaumalA7OqrL1WeKIZ4LxLnSokU+OKHoR3SxZ9 LFIsVZlx+5K2lEHUE0d1eqJXl/ifU6tTDo1gQSXazgYfKhIIn4TB7HrQlhQ3HT9t+2Ii LvOw== X-Gm-Message-State: AOJu0Yx/1W+AFDt+MEIJ3O1Naz0eSfNAq+zUQd9k6huJbkLyohTzixYJ geBA1abv/7c/O7i2dC+enNJioTRqLDPn2MTmkmE8gYE0PoKixIHXvUMDezJOZSW/LJEgLQ9ELZk donzGmsPUgF3CdRoGonQKVE4HGzTXrLrpjao8v+FBFJAbfLifbhYnO4bEW3O1 X-Gm-Gg: ASbGnct8TtaGL4fOjZlC8ZZXwGj6/xRvn7trvqIzE8n7wYSqOh4b1Wr6cpYYfJCbab2 OnXdMFS/LnJaLqUajz18rFXWt6MrT65o4bG3E441VWGCKckctSH8IYTjn6ZuIyqCbgFu397KBF0 ogdBWq9rgdP43ZDXraFvyZLIsXSwddORRvtRx/n2P+t/vRYHMWaOaJ266tMIaRIKojAHdKGPvaI z7NbDyP9t3oJpTEOAVCknJBNrH8jGJs1j7xCyQXkTQ8Fma8Kby9pab264jUW45cGWqTPepEraNc g55JRR6AdJ9aHFO7E3P3U9pX+M7zOny05DZI2D0+L/t+oj1D1scsA61f3XtzhQqRJklRyGOV8kn AZd9yadYG X-Google-Smtp-Source: AGHT+IEzYJX9XPJPmjuFsGWUBSTQ5aVOY4uph7eGO4BG+V0p1oT08txpOUsGnOz8/Wo6xwSKXVuiVdjYnflE X-Received: by 2002:a05:6602:c82:b0:949:1025:96cd with SMTP id ca18e2360f4ac-9491034ec9amr207628539f.6.1763391241726; Mon, 17 Nov 2025 06:54:01 -0800 (PST) Received: from postal.iol.unh.edu (postal.iol.unh.edu. [2606:4100:3880:1234::84]) by smtp-relay.gmail.com with ESMTPS id ca18e2360f4ac-94903a9fbcdsm19132339f.3.2025.11.17.06.54.01 (version=TLS1_2 cipher=ECDHE-ECDSA-AES128-GCM-SHA256 bits=128/128); Mon, 17 Nov 2025 06:54:01 -0800 (PST) X-Relaying-Domain: iol.unh.edu Date: Mon, 17 Nov 2025 06:54:01 -0800 (PST) Message-ID: <691b3709.050a0220.2f9d1e.91b7SMTPIN_ADDED_MISSING@mx.google.com> Received: from [172.21.0.4] (unknown [172.18.0.240]) by postal.iol.unh.edu (Postfix) with ESMTP id 42A116051830; Mon, 17 Nov 2025 09:54:01 -0500 (EST) Subject: |SUCCESS| pw158853 [PATCH] app/testpmd: fix inner UDP checksum offlo From: dpdklab@iol.unh.edu To: Test Report Cc: dpdk-test-reports@iol.unh.edu, Stephen Hemminger In-Reply-To: <20251117075046.11624-1-fengchengwen@huawei.com> References: <20251117075046.11624-1-fengchengwen@huawei.com> Content-Type: text/plain X-BeenThere: test-report@dpdk.org X-Mailman-Version: 2.1.29 Precedence: list List-Id: automatic DPDK test reports List-Unsubscribe: , List-Archive: List-Post: List-Help: List-Subscribe: , Errors-To: test-report-bounces@dpdk.org Test-Label: iol-compile-arm64-testing Test-Status: SUCCESS http://dpdk.org/patch/158853 _Testing PASS_ Submitter: fengchengwen Date: Monday, November 17 2025 07:50:46 DPDK git baseline: Repo:dpdk-next-net Branch: master CommitID:18d8a8909b8ed6b0a4bd8f99971da74ebba792e2 158853 --> testing pass Upstream job id: Generic-DPDK-Compile-Meson#445449 Test environment and result as below: +------------------------------+--------------------+ | Environment | dpdk_meson_compile | +==============================+====================+ | Red Hat Enterprise Linux 9.5 | PASS | +------------------------------+--------------------+ | Ubuntu 20.04 | PASS | +------------------------------+--------------------+ | Debian GNU/Linux 12 | PASS | +------------------------------+--------------------+ | Fedora Linux 42 | PASS | +------------------------------+--------------------+ | Ubuntu 22.04 | PASS | +------------------------------+--------------------+ | Ubuntu 24.04 | PASS | +------------------------------+--------------------+ | CentOS Stream 9 | PASS | +------------------------------+--------------------+ | CentOS Stream 10 | PASS | +------------------------------+--------------------+ Red Hat Enterprise Linux 9.5 Kernel: 5.4 Compiler: gcc gcc (GCC) 11.5.0 20240719 (Red Hat 11.5.0-2) Ubuntu 20.04 Kernel: 5.15 Compiler: aarch64-linux-gnu-gcc gcc (Ubuntu 9.4.0-1ubuntu1~20.04.2) 9.4.0 Debian GNU/Linux 12 Kernel: 5.4 Compiler: gcc gcc (Debian 12.2.0-14+deb12u1) 12.2.0 Fedora Linux 42 Kernel: 5.4 Compiler: gcc gcc (GCC) 15.2.1 20250808 (Red Hat 15.2.1-1) Ubuntu 22.04 Kernel: 5.4 Compiler: gcc gcc (Ubuntu 11.4.0-1ubuntu1~22.04) 11.4.0 Ubuntu 24.04 Kernel: 5.4 Compiler: gcc gcc (Ubuntu 13.3.0-6ubuntu2~24.04) 13.3.0 CentOS Stream 9 Kernel: 5.4 Compiler: gcc gcc (GCC) 11.5.0 20240719 (Red Hat 11.5.0-11) CentOS Stream 10 Kernel: 5.4 Compiler: gcc gcc (GCC) 14.2.1 20250110 (Red Hat 14.2.1-8) To view detailed results, visit: https://lab.dpdk.org/results/dashboard/patchsets/34622/ UNH-IOL DPDK Community Lab To manage your email subscriptions, visit: https://lab.dpdk.org/results/dashboard/preferences/subscriptions/