From mboxrd@z Thu Jan 1 00:00:00 1970 Return-Path: Received: from mails.dpdk.org (mails.dpdk.org [217.70.189.124]) by inbox.dpdk.org (Postfix) with ESMTP id B8C2348B33 for ; Mon, 17 Nov 2025 17:09:59 +0100 (CET) Received: from mails.dpdk.org (localhost [127.0.0.1]) by mails.dpdk.org (Postfix) with ESMTP id B30DD4025A; Mon, 17 Nov 2025 17:09:59 +0100 (CET) Received: from mail-il1-f225.google.com (mail-il1-f225.google.com [209.85.166.225]) by mails.dpdk.org (Postfix) with ESMTP id 0D4844025A for ; Mon, 17 Nov 2025 17:09:59 +0100 (CET) Received: by mail-il1-f225.google.com with SMTP id e9e14a558f8ab-4331b4d5c6eso17505565ab.2 for ; Mon, 17 Nov 2025 08:09:59 -0800 (PST) DKIM-Signature: v=1; a=rsa-sha256; c=relaxed/relaxed; d=iol.unh.edu; s=unh-iol; t=1763395798; x=1764000598; darn=dpdk.org; h=references:in-reply-to:cc:to:from:subject:message-id:date:from:to :cc:subject:date:message-id:reply-to; bh=fpSgiIOQGev1WkN4mMVli/TfzAf9S7vFtdwKoNMmPTg=; b=akhT+mKXVJf2uwcgEXeQrycrD+KxuYSIj+clwHUp14Efwv749bQQh0TDBjj7FPgowP BcJKi0Uvz6ivmMkN0ehw6ZJgY+Yg5hIpbXGEGA3Jg02yDIhfQqop4zPEcqsal9kJSymp xRUOes5FNWru6XXPRSn+lH8YrbCDXuJHgKbD8= X-Google-DKIM-Signature: v=1; a=rsa-sha256; c=relaxed/relaxed; d=1e100.net; s=20230601; t=1763395798; x=1764000598; h=references:in-reply-to:cc:to:from:subject:message-id:date:x-gm-gg :x-gm-message-state:from:to:cc:subject:date:message-id:reply-to; bh=fpSgiIOQGev1WkN4mMVli/TfzAf9S7vFtdwKoNMmPTg=; b=eo3jhh5qArFOLuF2XawFIo/BWT3HCEx4cXEvUNfn/5wjFBmNBpgnqLiohfnYiSalK2 oC9vfzp21GK/m+Y0UCKMtDxJ48RmlJpXX5mPlHcpB4DllYYDLBjXl/zTXM4CppTPVmuM D0JMDO/OwoRSoXdN8Aij/puh1s5oz4LCpDTIRjc9JTtXjzuRxsnOAqO4EtxpeAfYf66i +Ez06T+spbewycRDLOPEGSE8xhU5Gjyo0LQceHsaB6LBOSMzGDkCdl4LNoJzyySloEo4 4TaLw8bQE1EJvORYr96wTm56VeIBemXfsTJSTQBiEXshvVNRZlrCe/k/xbdMK8LW9F5A 7hnA== X-Gm-Message-State: AOJu0YxTGB/nxG0CXkXB6KfR75bntHngwKq+0RYjeTVsEnMtykPgS71f tYgk/8fyGHjPwvEYVXGRRsdZkKQdvJP+lETj5AKsgELz0+BMMj/vSd2dih76Mjq3vRqDiSNxoCd dOmNhrR8Ik0iCC98XTfj1ez6F6YvnC04MjhJ06RzRLPL1 X-Gm-Gg: ASbGncvkArWi8fA+b2Q2J1Kbdi28MIKY/yvDU2dtC1m0zRdHXes1cJflPcFfo4mcbbr C1If6lDNgh52rSfCdrJOTmNWM1E5wtogOJcllBZqPlBO5snISoWUCzDRpV3N8EMGUUVn6dwNdZS BGMCI2swS+AoTCQLoAQ2lm9C3TT4DPiWfrwuP47Kh+GWsn894sa69SRLnzjlHsyxhl8W8uHn7Ee UojiXtXXuooVk9FCbxQVjagRDbEgmiBDwArUHDkd900fQIL8dUjxOK8uvoIwdYlwyUh3nMdpGeW r5Bxg3jUuvlO+WE6f28u0/tGBAm81v2Me5Am1w5olhOsiK3MwQx/pRldBc2uZIs1OcL8j0wQnoG htfEGQEgegCZbF9yKG+yhWYXaFCES3xg= X-Google-Smtp-Source: AGHT+IG5YNA8tH6OKlN2/kM+XyKjdbQr0/aiLotvi2KaJVvOaZt1HpAnXCf18xH2IYg3q65O1fgPEDaV4ga4 X-Received: by 2002:a92:da87:0:b0:434:96ea:ff4f with SMTP id e9e14a558f8ab-43496eb0044mr92225315ab.40.1763395798159; Mon, 17 Nov 2025 08:09:58 -0800 (PST) Received: from postal.iol.unh.edu (postal.iol.unh.edu. [132.177.123.84]) by smtp-relay.gmail.com with ESMTPS id e9e14a558f8ab-43482bd5d66sm12374235ab.0.2025.11.17.08.09.58 (version=TLS1_2 cipher=ECDHE-ECDSA-AES128-GCM-SHA256 bits=128/128); Mon, 17 Nov 2025 08:09:58 -0800 (PST) X-Relaying-Domain: iol.unh.edu Date: Mon, 17 Nov 2025 08:09:58 -0800 (PST) Message-ID: <691b48d6.050a0220.147db7.ccadSMTPIN_ADDED_MISSING@mx.google.com> Received: from [172.21.0.2] (unknown [172.18.0.240]) by postal.iol.unh.edu (Postfix) with ESMTP id CB3356050A61; Mon, 17 Nov 2025 11:09:57 -0500 (EST) Subject: |SUCCESS| pw158856 [PATCH] [v3] net/mlx5: use private structure for From: dpdklab@iol.unh.edu To: Test Report Cc: dpdk-test-reports@iol.unh.edu In-Reply-To: <20251117084443.10264-1-bingz@nvidia.com> References: <20251117084443.10264-1-bingz@nvidia.com> Content-Type: text/plain X-BeenThere: test-report@dpdk.org X-Mailman-Version: 2.1.29 Precedence: list List-Id: automatic DPDK test reports List-Unsubscribe: , List-Archive: List-Post: List-Help: List-Subscribe: , Errors-To: test-report-bounces@dpdk.org Test-Label: iol-compile-arm64-testing Test-Status: SUCCESS http://dpdk.org/patch/158856 _Testing PASS_ Submitter: Bing Zhao Date: Monday, November 17 2025 08:44:43 DPDK git baseline: Repo:dpdk-next-net-mlx Branch: master CommitID:6c8ab18883d4a51ac512a969d36b47272a63b61b 158856 --> testing pass Upstream job id: Generic-DPDK-Compile-Meson#445533 Test environment and result as below: +------------------------------+--------------------+ | Environment | dpdk_meson_compile | +==============================+====================+ | Red Hat Enterprise Linux 9.5 | PASS | +------------------------------+--------------------+ | Ubuntu 20.04 | PASS | +------------------------------+--------------------+ | Debian GNU/Linux 12 | PASS | +------------------------------+--------------------+ | Fedora Linux 42 | PASS | +------------------------------+--------------------+ | Ubuntu 22.04 | PASS | +------------------------------+--------------------+ | CentOS Stream 9 | PASS | +------------------------------+--------------------+ | Ubuntu 24.04 | PASS | +------------------------------+--------------------+ | CentOS Stream 10 | PASS | +------------------------------+--------------------+ Red Hat Enterprise Linux 9.5 Kernel: 5.4 Compiler: gcc gcc (GCC) 11.5.0 20240719 (Red Hat 11.5.0-2) Ubuntu 20.04 Kernel: 5.15 Compiler: aarch64-linux-gnu-gcc gcc (Ubuntu 9.4.0-1ubuntu1~20.04.2) 9.4.0 Debian GNU/Linux 12 Kernel: 5.4 Compiler: gcc gcc (Debian 12.2.0-14+deb12u1) 12.2.0 Fedora Linux 42 Kernel: 5.4 Compiler: gcc gcc (GCC) 15.2.1 20250808 (Red Hat 15.2.1-1) Ubuntu 22.04 Kernel: 5.4 Compiler: gcc gcc (Ubuntu 11.4.0-1ubuntu1~22.04) 11.4.0 CentOS Stream 9 Kernel: 5.4 Compiler: gcc gcc (GCC) 11.5.0 20240719 (Red Hat 11.5.0-11) Ubuntu 24.04 Kernel: 5.4 Compiler: gcc gcc (Ubuntu 13.3.0-6ubuntu2~24.04) 13.3.0 CentOS Stream 10 Kernel: 5.4 Compiler: gcc gcc (GCC) 14.2.1 20250110 (Red Hat 14.2.1-8) To view detailed results, visit: https://lab.dpdk.org/results/dashboard/patchsets/34623/ UNH-IOL DPDK Community Lab To manage your email subscriptions, visit: https://lab.dpdk.org/results/dashboard/preferences/subscriptions/