From mboxrd@z Thu Jan 1 00:00:00 1970 Return-Path: Received: from mails.dpdk.org (mails.dpdk.org [217.70.189.124]) by inbox.dpdk.org (Postfix) with ESMTP id DAA9648B33 for ; Mon, 17 Nov 2025 17:10:58 +0100 (CET) Received: from mails.dpdk.org (localhost [127.0.0.1]) by mails.dpdk.org (Postfix) with ESMTP id D389B4025A; Mon, 17 Nov 2025 17:10:58 +0100 (CET) Received: from mail-pf1-f227.google.com (mail-pf1-f227.google.com [209.85.210.227]) by mails.dpdk.org (Postfix) with ESMTP id 2E81B4025A for ; Mon, 17 Nov 2025 17:10:58 +0100 (CET) Received: by mail-pf1-f227.google.com with SMTP id d2e1a72fcca58-7aae5f2633dso5008992b3a.3 for ; Mon, 17 Nov 2025 08:10:58 -0800 (PST) DKIM-Signature: v=1; a=rsa-sha256; c=relaxed/relaxed; d=iol.unh.edu; s=unh-iol; t=1763395857; x=1764000657; darn=dpdk.org; h=references:in-reply-to:cc:to:from:subject:message-id:date:from:to :cc:subject:date:message-id:reply-to; bh=C/WA9FrWewm0HNWVOCQDWxfWTxak/YQeg++Ud+jyVtQ=; b=R81WmAkmrxHByj6x6ToFdMzp7ecpsVGBcRfPwmj6bmwSdOqB0whOV5GxKla6LxcVzH ju7Sf1CJhVYd06BhB0GSCqDwjFV/cVA5cUE2x7IpKOKkfhaEkQnVAwVhe19Y4UxVKrlz nB6U8tjaPXa6/LaFxvknniMNOg9bjQXUWCCEI= X-Google-DKIM-Signature: v=1; a=rsa-sha256; c=relaxed/relaxed; d=1e100.net; s=20230601; t=1763395857; x=1764000657; h=references:in-reply-to:cc:to:from:subject:message-id:date:x-gm-gg :x-gm-message-state:from:to:cc:subject:date:message-id:reply-to; bh=C/WA9FrWewm0HNWVOCQDWxfWTxak/YQeg++Ud+jyVtQ=; b=xMsUFw38svejhI/A4IYVoAPtkqBSI7gKn7mpKgr7GEsKIJnt5WqZ1CcLmNNDW9o6pK APqU7uwq8A9jm474xcidsCqr9S502t0Hp8xz7NKZdNkhei7Re/GSRJrarfeSCE+Gi10M GdVROu0jqTL5C0z0imdJ+bN1x08p68Pve2G3Y4VCrk5AjhU+9id0hWL2RP1wYy67sBoy 3Bsp4oloxsYiUvyYqBh97ejZvYpzTC1cYKJZ2chodxfyhGUPU2h7WXNLCKpDb7GJTZVt wP+hGB+c//c3cD+7dennZE/Kp1Fz/p77e37zVDO1eJ/Uk71zUbm6Edgp0erbE1wJQGY5 TLag== X-Gm-Message-State: AOJu0YwJ96SC7Y08NaPNQlHXhnzCZcuLFs2xzoYdfqu7Ig6AygLlQNf/ nT54zwlVDnBIsYZT94qkwlESOwODjqqE7GtsK3DsLVTij0BK5gTqZux4EaA1ZkeCPp1wsspvEQH iWWR8zaSGKp0lxari6pNliOzVkvkTNqv7vK2ufJre83VE X-Gm-Gg: ASbGncvdbZmjnbvbr27b2mKMS5GucPgG7KVxtbguW6BOoOKJxJAiEMVOIXxQHW/Ji5B i2p+GAhJMQ590sL1HM2rZYzdyEZ8HBnkET1cJQEC8pF25T1bKKmN5N63uEBpdnARxxraT1y/cNV HxRxe4zXrUBl3AtRJdXU27aYlYBn8igAZN15oiCgYjeHWSeAc/P7kkfcde/44ZXb4aImpo2fAWT Qc5R1TXbrUwP/YoxbJJ1KcB5P8iNMrf4z9fnIEV8onalQzMgUXcbIaM9qnM1k8sBVRIN/NFcyuR YUNh7mKwH/B+MbLxwRYOx33doqWz9qypuhvvsQLQE72Aluqk5B4K8xSndTNr+C67IbkqPAQK8yx /w+Qa5jKg0XCMKuj77yU/w/JUklenHnY= X-Google-Smtp-Source: AGHT+IETAVGtFQbHb4bwV6NupLlnoR+wAHWbS+4RRogOsg9vttyh9tbsx/TKwTvmJz8YMRAi1EjTWeQ2FCF8 X-Received: by 2002:a05:6a21:888e:b0:35f:aa1b:bc00 with SMTP id adf61e73a8af0-35faa1bc129mr3419386637.59.1763395857280; Mon, 17 Nov 2025 08:10:57 -0800 (PST) Received: from postal.iol.unh.edu (postal.iol.unh.edu. [132.177.123.84]) by smtp-relay.gmail.com with ESMTPS id 41be03b00d2f7-bc374da19e3sm787877a12.10.2025.11.17.08.10.57 (version=TLS1_2 cipher=ECDHE-ECDSA-AES128-GCM-SHA256 bits=128/128); Mon, 17 Nov 2025 08:10:57 -0800 (PST) X-Relaying-Domain: iol.unh.edu Date: Mon, 17 Nov 2025 08:10:57 -0800 (PST) Message-ID: <691b4911.050a0220.293b26.7478SMTPIN_ADDED_MISSING@mx.google.com> Received: from [172.21.0.2] (unknown [172.18.0.240]) by postal.iol.unh.edu (Postfix) with ESMTP id A501E6050A61; Mon, 17 Nov 2025 11:10:56 -0500 (EST) Subject: |SUCCESS| pw158857 [PATCH] [v2] net/mlx5/windows: fix match criteria From: dpdklab@iol.unh.edu To: Test Report Cc: dpdk-test-reports@iol.unh.edu In-Reply-To: <20251117084500.1276-1-isharoni@nvidia.com> References: <20251117084500.1276-1-isharoni@nvidia.com> Content-Type: text/plain X-BeenThere: test-report@dpdk.org X-Mailman-Version: 2.1.29 Precedence: list List-Id: automatic DPDK test reports List-Unsubscribe: , List-Archive: List-Post: List-Help: List-Subscribe: , Errors-To: test-report-bounces@dpdk.org Test-Label: iol-compile-amd64-testing Test-Status: SUCCESS http://dpdk.org/patch/158857 _Testing PASS_ Submitter: Itai Sharoni Date: Monday, November 17 2025 08:45:00 DPDK git baseline: Repo:dpdk-next-net-mlx Branch: master CommitID:6c8ab18883d4a51ac512a969d36b47272a63b61b 158857 --> testing pass Upstream job id: Windows-Compile-DPDK-Native#32487 Test environment and result as below: +-------------------------------+--------------------+-------------------+------------------+-------------------------+----------------------+ | Environment | dpdk_meson_compile | dpdk_msvc_compile | dpdk_compile_ovs | dpdk_llvm_clang_compile | dpdk_mingw64_compile | +===============================+====================+===================+==================+=========================+======================+ | Ubuntu 20.04 | PASS | SKIPPED | SKIPPED | SKIPPED | SKIPPED | +-------------------------------+--------------------+-------------------+------------------+-------------------------+----------------------+ | FreeBSD 14.2 | PASS | SKIPPED | SKIPPED | SKIPPED | SKIPPED | +-------------------------------+--------------------+-------------------+------------------+-------------------------+----------------------+ | openSUSE Leap 15.6 | PASS | SKIPPED | SKIPPED | SKIPPED | SKIPPED | +-------------------------------+--------------------+-------------------+------------------+-------------------------+----------------------+ | CentOS Stream 9 | PASS | SKIPPED | SKIPPED | SKIPPED | SKIPPED | +-------------------------------+--------------------+-------------------+------------------+-------------------------+----------------------+ | CentOS Stream 10 | PASS | SKIPPED | SKIPPED | SKIPPED | SKIPPED | +-------------------------------+--------------------+-------------------+------------------+-------------------------+----------------------+ | Debian GNU/Linux 12 | PASS | SKIPPED | SKIPPED | SKIPPED | SKIPPED | +-------------------------------+--------------------+-------------------+------------------+-------------------------+----------------------+ | Fedora Linux 42 | PASS | SKIPPED | PASS | SKIPPED | SKIPPED | +-------------------------------+--------------------+-------------------+------------------+-------------------------+----------------------+ | Red Hat Enterprise Linux 8.10 | PASS | SKIPPED | SKIPPED | SKIPPED | SKIPPED | +-------------------------------+--------------------+-------------------+------------------+-------------------------+----------------------+ | Red Hat Enterprise Linux 9.5 | PASS | SKIPPED | SKIPPED | SKIPPED | SKIPPED | +-------------------------------+--------------------+-------------------+------------------+-------------------------+----------------------+ | Ubuntu 22.04 | PASS | SKIPPED | SKIPPED | SKIPPED | SKIPPED | +-------------------------------+--------------------+-------------------+------------------+-------------------------+----------------------+ | Ubuntu 24.04 | PASS | SKIPPED | PASS | SKIPPED | SKIPPED | +-------------------------------+--------------------+-------------------+------------------+-------------------------+----------------------+ | Alpine Linux 3.22.0 | PASS | SKIPPED | SKIPPED | SKIPPED | SKIPPED | +-------------------------------+--------------------+-------------------+------------------+-------------------------+----------------------+ | Windows Server 2022 | SKIPPED | PASS | SKIPPED | PASS | PASS | +-------------------------------+--------------------+-------------------+------------------+-------------------------+----------------------+ Ubuntu 20.04 Kernel: 4.19 Compiler: gcc gcc (Ubuntu 9.4.0-1ubuntu1~20.04.2) 9.4.0 FreeBSD 14.2 Kernel: 14.2-RELEASE Compiler: clang 18.1.6 openSUSE Leap 15.6 Kernel: 5.15 Compiler: gcc gcc (SUSE Linux) 7.5.0 CentOS Stream 9 Kernel: 5.15 Compiler: gcc gcc (GCC) 11.5.0 20240719 (Red Hat 11.5.0-11) CentOS Stream 10 Kernel: 5.15 Compiler: gcc gcc (GCC) 14.2.1 20250110 (Red Hat 14.2.1-8) Debian GNU/Linux 12 Kernel: 5.15 Compiler: gcc gcc (Debian 12.2.0-14+deb12u1) 12.2.0 Fedora Linux 42 Kernel: 5.15 Compiler: clang gcc (GCC) 15.2.1 20250808 (Red Hat 15.2.1-1) Red Hat Enterprise Linux 8.10 Kernel: 5.15 Compiler: gcc gcc (GCC) 8.5.0 20210514 (Red Hat 8.5.0-22) Red Hat Enterprise Linux 9.5 Kernel: 5.15 Compiler: gcc gcc (GCC) 11.5.0 20240719 (Red Hat 11.5.0-2) Ubuntu 22.04 Kernel: 5.15 Compiler: gcc gcc (Ubuntu 11.4.0-1ubuntu1~22.04) 11.4.0 Ubuntu 24.04 Kernel: 5.15 Compiler: gcc gcc (Ubuntu 13.3.0-6ubuntu2~24.04) 13.3.0 Alpine Linux 3.22.0 Kernel: 5.15 Compiler: gcc gcc (Alpine 14.2.0) 14.2.0 Windows Server 2022 Kernel: 10.0.20348.2031 Compiler: clang 15.0.7, gcc 14.1.0 (MinGW), and MSVC VS 19.39.33521 To view detailed results, visit: https://lab.dpdk.org/results/dashboard/patchsets/34626/ UNH-IOL DPDK Community Lab To manage your email subscriptions, visit: https://lab.dpdk.org/results/dashboard/preferences/subscriptions/