From mboxrd@z Thu Jan 1 00:00:00 1970 Return-Path: Received: from mails.dpdk.org (mails.dpdk.org [217.70.189.124]) by inbox.dpdk.org (Postfix) with ESMTP id 2159748B33 for ; Mon, 17 Nov 2025 17:12:48 +0100 (CET) Received: from mails.dpdk.org (localhost [127.0.0.1]) by mails.dpdk.org (Postfix) with ESMTP id 1DC904025A; Mon, 17 Nov 2025 17:12:48 +0100 (CET) Received: from mail-yx1-f100.google.com (mail-yx1-f100.google.com [74.125.224.100]) by mails.dpdk.org (Postfix) with ESMTP id A6B494025A for ; Mon, 17 Nov 2025 17:12:46 +0100 (CET) Received: by mail-yx1-f100.google.com with SMTP id 956f58d0204a3-63fc8c337f2so3994341d50.0 for ; Mon, 17 Nov 2025 08:12:46 -0800 (PST) DKIM-Signature: v=1; a=rsa-sha256; c=relaxed/relaxed; d=iol.unh.edu; s=unh-iol; t=1763395966; x=1764000766; darn=dpdk.org; h=references:in-reply-to:cc:to:from:subject:message-id:date:from:to :cc:subject:date:message-id:reply-to; bh=uGEC8x5LcTFtnUO3IrFlfXde3bCALLLN+/xLp5/vPpc=; b=QAPNWjiZRX5TezgXgJfamJZOcGCTg+XaLLSoPMAj3REbo4XM4XJsqJeqRBzPkT7OG0 7EQxb3ngaFxCA6aIVE2sqhlVrQnc9/hEDdoADB0x01CnRn36ViIuZSlrIjzikcXcwRTw r7vr+TgeyRJxkDNkKGXSKAcLIT4dMemq/vGgw= X-Google-DKIM-Signature: v=1; a=rsa-sha256; c=relaxed/relaxed; d=1e100.net; s=20230601; t=1763395966; x=1764000766; h=references:in-reply-to:cc:to:from:subject:message-id:date:x-gm-gg :x-gm-message-state:from:to:cc:subject:date:message-id:reply-to; bh=uGEC8x5LcTFtnUO3IrFlfXde3bCALLLN+/xLp5/vPpc=; b=kDszoaFPsveNzsLTvij9k/TDc5uyqpSKKnS78I9z80foWmKtRs5UXsuLkYvBQzEDnj JBtn65RBXBdnUQU5nQAIpKbqWuVLSIopZWpfO+KUbzsXWqRVaejXC00oZIavEJd7XArJ xiGiE6bSWy9NLc6FYvtgYXewm9WXqEm4KBbjOFnA5p/GVmfhI+R5RVaRPk23iKeTjYuw RsM62M6PzjFL5qe3rcbxMucbl14jIj6J4Ll2MBoO/DfZEG+4+ezVu0uE62YWDU0aZJ9E SxR5W8sIqUtKkjbIKu0aCkBBwQKeEChcKSZNOyzwvfHDaPfM1nZNn9+FQDyz1jSWj8Yx VeQg== X-Gm-Message-State: AOJu0YzPoJhq7YvY+LUaapZLwM/MJXFKWkrlK2iqINUhTXCxhaTD7S0i iaagCDfjNMAEvtgdXqeHYsV6PLRPNX5U47GJaRDnV4dwYL5Upl13RlMoN3GdsBAcFlzWbdyVoLF 5Hi4QBgvROPMbDgEXbR8kTUTO9gjqrai3HhVc9cEYh1cvVgq1J7Idwoq8/OFN X-Gm-Gg: ASbGncvrZfiW8/is7JR8kb1I32vaak9JmIaoC4Ty3gUkbfk42CtBwzQSR8u1QSGd4yp 2hoc+0lg3denEyhg789EpXvNi/nR5Ugp+MHoNmkuhc+2xyULZP9fsWNxLI9LBNMI35gH1U8K55h DEalnQqgIqlJaSQNH58dBliRrrj4nlKYsVwPSzRREeOTbzgyPbMQ9/Yf15qCcAnwJY5TmbSXgR4 9eN5e0wxppZ6IU/MXOwaBxYvkkG2jOP4bkyZb/lpAZC0l5l8HR8lCV/JCYUvNJqOSHaPJ7mJAL+ iOC0/m3zY30ix/KTTdoUQ/X8vJ3/lC4sn4PYKlwUpPGJnW/tGxKBm0p1Bys/BuCKd+2A0A3XsZZ b6HyXLCqv X-Google-Smtp-Source: AGHT+IEmdn5dFccv7VgyAlmLR8H1dXeJdioZhiHjlC8aH/DlFsSclY82pnp2GrHSqmVoaC90zjkO3WpX/g8d X-Received: by 2002:a05:690c:260c:b0:789:507d:6080 with SMTP id 00721157ae682-789507d858bmr77857167b3.22.1763395965995; Mon, 17 Nov 2025 08:12:45 -0800 (PST) Received: from postal.iol.unh.edu (postal.iol.unh.edu. [2606:4100:3880:1234::84]) by smtp-relay.gmail.com with ESMTPS id 00721157ae682-78821dee4e6sm6843647b3.1.2025.11.17.08.12.45 (version=TLS1_2 cipher=ECDHE-ECDSA-AES128-GCM-SHA256 bits=128/128); Mon, 17 Nov 2025 08:12:45 -0800 (PST) X-Relaying-Domain: iol.unh.edu Date: Mon, 17 Nov 2025 08:12:45 -0800 (PST) Message-ID: <691b497d.050a0220.2c5cb9.2374SMTPIN_ADDED_MISSING@mx.google.com> Received: from [172.21.0.2] (unknown [172.18.0.240]) by postal.iol.unh.edu (Postfix) with ESMTP id AFCFF6050A61; Mon, 17 Nov 2025 11:12:45 -0500 (EST) Subject: |SUCCESS| pw158851 [PATCH] net/mlx5: update stored Rx queue MTU when From: dpdklab@iol.unh.edu To: Test Report Cc: dpdk-test-reports@iol.unh.edu In-Reply-To: <20251117073937.1514124-1-shperetz@nvidia.com> References: <20251117073937.1514124-1-shperetz@nvidia.com> Content-Type: text/plain X-BeenThere: test-report@dpdk.org X-Mailman-Version: 2.1.29 Precedence: list List-Id: automatic DPDK test reports List-Unsubscribe: , List-Archive: List-Post: List-Help: List-Subscribe: , Errors-To: test-report-bounces@dpdk.org Test-Label: iol-unit-arm64-testing Test-Status: SUCCESS http://dpdk.org/patch/158851 _Testing PASS_ Submitter: Shani Peretz Date: Monday, November 17 2025 07:39:36 DPDK git baseline: Repo:dpdk-next-net-mlx Branch: master CommitID:6c8ab18883d4a51ac512a969d36b47272a63b61b 158851 --> testing pass Upstream job id: Generic-Unit-Test-DPDK#393720 Test environment and result as below: +------------------------------+----------------+--------------+------------------------------+---------------------------+ | Environment | dpdk_unit_test | lpm_autotest | cryptodev_sw_snow3g_autotest | cryptodev_sw_zuc_autotest | +==============================+================+==============+==============================+===========================+ | CentOS Stream 9 | PASS | SKIPPED | SKIPPED | SKIPPED | +------------------------------+----------------+--------------+------------------------------+---------------------------+ | CentOS Stream 10 | PASS | SKIPPED | SKIPPED | SKIPPED | +------------------------------+----------------+--------------+------------------------------+---------------------------+ | Debian GNU/Linux 12 | PASS | SKIPPED | SKIPPED | SKIPPED | +------------------------------+----------------+--------------+------------------------------+---------------------------+ | Fedora Linux 40 | PASS | SKIPPED | SKIPPED | SKIPPED | +------------------------------+----------------+--------------+------------------------------+---------------------------+ | Fedora Linux 42 | PASS | SKIPPED | SKIPPED | SKIPPED | +------------------------------+----------------+--------------+------------------------------+---------------------------+ | Fedora Linux 41 | PASS | SKIPPED | SKIPPED | SKIPPED | +------------------------------+----------------+--------------+------------------------------+---------------------------+ | Ubuntu 20.04 | PASS | PASS | SKIPPED | SKIPPED | +------------------------------+----------------+--------------+------------------------------+---------------------------+ | Red Hat Enterprise Linux 9.5 | PASS | SKIPPED | SKIPPED | SKIPPED | +------------------------------+----------------+--------------+------------------------------+---------------------------+ | Ubuntu 24.04 | PASS | SKIPPED | SKIPPED | SKIPPED | +------------------------------+----------------+--------------+------------------------------+---------------------------+ | Ubuntu 22.04 | PASS | SKIPPED | SKIPPED | SKIPPED | +------------------------------+----------------+--------------+------------------------------+---------------------------+ | Debian 12 (arm) | SKIPPED | SKIPPED | PASS | PASS | +------------------------------+----------------+--------------+------------------------------+---------------------------+ CentOS Stream 9 Kernel: 5.4 Compiler: gcc gcc (GCC) 11.5.0 20240719 (Red Hat 11.5.0-11) CentOS Stream 10 Kernel: 5.4 Compiler: gcc gcc (GCC) 14.2.1 20250110 (Red Hat 14.2.1-8) Debian GNU/Linux 12 Kernel: 5.4 Compiler: gcc gcc (Debian 12.2.0-14+deb12u1) 12.2.0 Fedora Linux 40 Kernel: 5.4 Compiler: clang gcc (GCC) 14.2.1 20240912 (Red Hat 14.2.1-3) Fedora Linux 42 Kernel: 5.4 Compiler: gcc gcc (GCC) 15.2.1 20250808 (Red Hat 15.2.1-1) Fedora Linux 41 Kernel: 5.4 Compiler: clang gcc (GCC) 14.3.1 20250523 (Red Hat 14.3.1-1) Ubuntu 20.04 Kernel: 5.4 Compiler: gcc gcc (Ubuntu 9.4.0-1ubuntu1~20.04.2) 9.4.0 Red Hat Enterprise Linux 9.5 Kernel: 5.4 Compiler: gcc gcc (GCC) 11.5.0 20240719 (Red Hat 11.5.0-2) Ubuntu 24.04 Kernel: 5.4 Compiler: gcc gcc (Ubuntu 13.3.0-6ubuntu2~24.04) 13.3.0 Ubuntu 22.04 Kernel: 5.4 Compiler: gcc gcc (Ubuntu 11.4.0-1ubuntu1~22.04) 11.4.0 Debian 12 (arm) Kernel: Depends on container host Compiler: gcc (Debian 12.2.0-14) 12.2.0 To view detailed results, visit: https://lab.dpdk.org/results/dashboard/patchsets/34621/ UNH-IOL DPDK Community Lab To manage your email subscriptions, visit: https://lab.dpdk.org/results/dashboard/preferences/subscriptions/