From mboxrd@z Thu Jan 1 00:00:00 1970 Return-Path: Received: from mails.dpdk.org (mails.dpdk.org [217.70.189.124]) by inbox.dpdk.org (Postfix) with ESMTP id 64DEC48B33 for ; Mon, 17 Nov 2025 17:24:17 +0100 (CET) Received: from mails.dpdk.org (localhost [127.0.0.1]) by mails.dpdk.org (Postfix) with ESMTP id 602FF4025A; Mon, 17 Nov 2025 17:24:17 +0100 (CET) Received: from mail-qv1-f99.google.com (mail-qv1-f99.google.com [209.85.219.99]) by mails.dpdk.org (Postfix) with ESMTP id B833E4025A for ; Mon, 17 Nov 2025 17:24:15 +0100 (CET) Received: by mail-qv1-f99.google.com with SMTP id 6a1803df08f44-8824ce98111so62298216d6.0 for ; Mon, 17 Nov 2025 08:24:15 -0800 (PST) DKIM-Signature: v=1; a=rsa-sha256; c=relaxed/relaxed; d=iol.unh.edu; s=unh-iol; t=1763396655; x=1764001455; darn=dpdk.org; h=references:in-reply-to:cc:to:from:subject:message-id:date:from:to :cc:subject:date:message-id:reply-to; bh=n93AIPmhv2szZtDKEqXyJWV8EtgszshTVrG7mwH6F4U=; b=DoxshyTXv9wlLGO6Ea7alfKlcGNWb2jLGccDAeVIRJ7e8MAwT87NltPsM0ikNZlmDG A2f29e2k3eF6NYc5JKMxLU+onFaFJku5MrG8MEdXL7LHtc3mlps9cs3oetyQoqKhH4Y3 pEnsyuBl/s4z9OBjrTET94tK91zUmGYOOMyXs= X-Google-DKIM-Signature: v=1; a=rsa-sha256; c=relaxed/relaxed; d=1e100.net; s=20230601; t=1763396655; x=1764001455; h=references:in-reply-to:cc:to:from:subject:message-id:date:x-gm-gg :x-gm-message-state:from:to:cc:subject:date:message-id:reply-to; bh=n93AIPmhv2szZtDKEqXyJWV8EtgszshTVrG7mwH6F4U=; b=DeqXEOO990YCikEC9kbbNBTTtuwIfXHaWAQxCxU+TK2veI3Zfl3TdaTK4vqY0QOXmb jAuYvXtTL5gVF+Ol7Btn/XGd3S2LliMMy46wIiWMkB3ySKd02fFWY+7QE/d1uxsyTdvU mtOWCABO4xwhi0uiQ8LGCtq1j+ECuppUj8idFwKVu1/t4RkLn7he0R+vNST6uRXl1EAx 34IphoUOQaw8gIJLJC/rdReyenT7yE8lz9Tp4kA23wlsZE7uUgJFXR55TUd+yBmUeZtj 4ipJ+QyjPQkG0FBtG/8zGmcQnRR7okgVj9nIjmmkjFf5Ir+uqPqYqDLjXF3G/kBJ+5J5 tEcw== X-Gm-Message-State: AOJu0YxxixLyv7vgANNH7MbW2MWYmMPte+X85KgcVkiI2aCWzH9Umecy 4TsTXghrQnoKNGvEs1TVdt30zndu4Fwd/fkHmfiNTtF+zWKIiPAV8lG4+rhnNEdMqbn4ZGX71mc K/gonGr/OQPGD2QLoHl0d74MqyGP/RCIylJfg9vKkKyFF X-Gm-Gg: ASbGncvp31SV6SFy9B1XhKw8n9aXDVgJCcxqZxv7SAuYMtPHedi3nAysQ6vHJH5vVVM syzF0wHEio9e3cI22eatUFv3Sn+4aIB089amIS7WzR+nDkgOnH8nMAvv1O8eUnNIGe9npe6muf/ U5YUvG1WFCaCExD57oUgp5QZ09Pd9V5JAG67F0Mkbi7TKz3yWUjkRpzYg0NNyqe16mb4REUxemi QTx5wa3ouIbPTBn3BG/vqn9AyeiqSG7CMxEhaY7yJvwm28RE6DAMzoWLyT0SOP1UvhmIc2E5GFk WD/LaGqO/khZvFJrf6rGMjDBbpDTTiJbiP/8bbNXk3elnrlegCOs1kMv/YtHR7wzMBhNDFnPsIx 4bqnyNXTAMr1Iw1XklUvF7yCFNYr7qf8= X-Google-Smtp-Source: AGHT+IGnbsUgPRm9lYFUgtot7v2I1SL+G5d5zUwfgTJjwqsvhGRtCsQT3HWZ4vbTRquiZF54ddiWoZSLnFGH X-Received: by 2002:a05:6214:29ce:b0:78f:1312:2d94 with SMTP id 6a1803df08f44-882926af851mr197721686d6.56.1763396655079; Mon, 17 Nov 2025 08:24:15 -0800 (PST) Received: from postal.iol.unh.edu (postal.iol.unh.edu. [132.177.123.84]) by smtp-relay.gmail.com with ESMTPS id 6a1803df08f44-8828653a426sm16900646d6.16.2025.11.17.08.24.15 (version=TLS1_2 cipher=ECDHE-ECDSA-AES128-GCM-SHA256 bits=128/128); Mon, 17 Nov 2025 08:24:15 -0800 (PST) X-Relaying-Domain: iol.unh.edu Date: Mon, 17 Nov 2025 08:24:15 -0800 (PST) Message-ID: <691b4c2f.050a0220.28e88.470aSMTPIN_ADDED_MISSING@mx.google.com> Received: from [172.21.0.4] (unknown [172.18.0.240]) by postal.iol.unh.edu (Postfix) with ESMTP id CEB136050A61; Mon, 17 Nov 2025 11:24:14 -0500 (EST) Subject: |SUCCESS| pw158857 [PATCH] [v2] net/mlx5/windows: fix match criteria From: dpdklab@iol.unh.edu To: Test Report Cc: dpdk-test-reports@iol.unh.edu In-Reply-To: <20251117084500.1276-1-isharoni@nvidia.com> References: <20251117084500.1276-1-isharoni@nvidia.com> Content-Type: text/plain X-BeenThere: test-report@dpdk.org X-Mailman-Version: 2.1.29 Precedence: list List-Id: automatic DPDK test reports List-Unsubscribe: , List-Archive: List-Post: List-Help: List-Subscribe: , Errors-To: test-report-bounces@dpdk.org Test-Label: iol-unit-amd64-testing Test-Status: SUCCESS http://dpdk.org/patch/158857 _Testing PASS_ Submitter: Itai Sharoni Date: Monday, November 17 2025 08:45:00 DPDK git baseline: Repo:dpdk-next-net-mlx Branch: master CommitID:6c8ab18883d4a51ac512a969d36b47272a63b61b 158857 --> testing pass Upstream job id: Generic-Unit-Test-DPDK#393929 Test environment and result as below: +-------------------------------+----------------+ | Environment | dpdk_unit_test | +===============================+================+ | Debian GNU/Linux 12 | PASS | +-------------------------------+----------------+ | Fedora Linux 40 | PASS | +-------------------------------+----------------+ | CentOS Stream 10 | PASS | +-------------------------------+----------------+ | CentOS Stream 9 | PASS | +-------------------------------+----------------+ | Fedora Linux 41 | PASS | +-------------------------------+----------------+ | Fedora Linux 42 | PASS | +-------------------------------+----------------+ | Red Hat Enterprise Linux 8.10 | PASS | +-------------------------------+----------------+ | Ubuntu 22.04 | PASS | +-------------------------------+----------------+ | Ubuntu 20.04 | PASS | +-------------------------------+----------------+ | Ubuntu 24.04 | PASS | +-------------------------------+----------------+ | Red Hat Enterprise Linux 9.5 | PASS | +-------------------------------+----------------+ | Windows Server 2022 | PASS | +-------------------------------+----------------+ Debian GNU/Linux 12 Kernel: 5.15 Compiler: gcc gcc (Debian 12.2.0-14+deb12u1) 12.2.0 Fedora Linux 40 Kernel: 5.15 Compiler: gcc gcc (GCC) 14.2.1 20240912 (Red Hat 14.2.1-3) CentOS Stream 10 Kernel: 5.15 Compiler: gcc gcc (GCC) 14.2.1 20250110 (Red Hat 14.2.1-8) CentOS Stream 9 Kernel: 5.15 Compiler: gcc gcc (GCC) 11.5.0 20240719 (Red Hat 11.5.0-11) Fedora Linux 41 Kernel: 5.15 Compiler: clang gcc (GCC) 14.3.1 20250523 (Red Hat 14.3.1-1) Fedora Linux 42 Kernel: 5.15 Compiler: clang gcc (GCC) 15.2.1 20250808 (Red Hat 15.2.1-1) Red Hat Enterprise Linux 8.10 Kernel: 5.15 Compiler: gcc gcc (GCC) 8.5.0 20210514 (Red Hat 8.5.0-22) Ubuntu 22.04 Kernel: 5.15 Compiler: gcc gcc (Ubuntu 11.4.0-1ubuntu1~22.04) 11.4.0 Ubuntu 20.04 Kernel: 5.15 Compiler: gcc gcc (Ubuntu 9.4.0-1ubuntu1~20.04.2) 9.4.0 Ubuntu 24.04 Kernel: 5.15 Compiler: gcc gcc (Ubuntu 13.3.0-6ubuntu2~24.04) 13.3.0 Red Hat Enterprise Linux 9.5 Kernel: 5.15 Compiler: gcc gcc (GCC) 11.5.0 20240719 (Red Hat 11.5.0-2) Windows Server 2022 Kernel: 10.0.20348.2031 Compiler: clang 15.0.7, gcc 14.1.0 (MinGW), and MSVC VS 19.39.33521 To view detailed results, visit: https://lab.dpdk.org/results/dashboard/patchsets/34626/ UNH-IOL DPDK Community Lab To manage your email subscriptions, visit: https://lab.dpdk.org/results/dashboard/preferences/subscriptions/