From mboxrd@z Thu Jan 1 00:00:00 1970 Return-Path: Received: from mails.dpdk.org (mails.dpdk.org [217.70.189.124]) by inbox.dpdk.org (Postfix) with ESMTP id AD88F48B34 for ; Mon, 17 Nov 2025 18:30:44 +0100 (CET) Received: from mails.dpdk.org (localhost [127.0.0.1]) by mails.dpdk.org (Postfix) with ESMTP id 8D4C940262; Mon, 17 Nov 2025 18:30:44 +0100 (CET) Received: from mail-vk1-f228.google.com (mail-vk1-f228.google.com [209.85.221.228]) by mails.dpdk.org (Postfix) with ESMTP id 4662F40262 for ; Mon, 17 Nov 2025 18:30:43 +0100 (CET) Received: by mail-vk1-f228.google.com with SMTP id 71dfb90a1353d-55965c96fd7so968376e0c.0 for ; Mon, 17 Nov 2025 09:30:43 -0800 (PST) DKIM-Signature: v=1; a=rsa-sha256; c=relaxed/relaxed; d=iol.unh.edu; s=unh-iol; t=1763400642; x=1764005442; darn=dpdk.org; h=references:in-reply-to:cc:to:from:subject:message-id:date:from:to :cc:subject:date:message-id:reply-to; bh=LzD2uHMuO8/AH3jYNLX+M0P0UzW6bIRuv3Ef4e40xI0=; b=FtD90vC2sN5KtLG2gA9ZN2B16yaqMRiOKpxOfvExcogE+OJbw+rdOc2B6ViC8Onu/j A/PKlqLQk37nxETPZsio0t+AFag916jUo3av5qIa/kU45fMMLtXB1qLZhvpzlyqzCoAM qoNOKm8/UV7MQgF+2rnEUF2u9Eybu92lN4OlM= X-Google-DKIM-Signature: v=1; a=rsa-sha256; c=relaxed/relaxed; d=1e100.net; s=20230601; t=1763400642; x=1764005442; h=references:in-reply-to:cc:to:from:subject:message-id:date:x-gm-gg :x-gm-message-state:from:to:cc:subject:date:message-id:reply-to; bh=LzD2uHMuO8/AH3jYNLX+M0P0UzW6bIRuv3Ef4e40xI0=; b=dnFMgJLQuFTvYrl8fmQ0RuLhYb7+En8HAfgGcAjtI3Uc+VT1HlGKQTOfqVNG+uHufA yMYcljvV5W8h4Ehr6HoowIWbV47uP/rV05yfsNaoCEQt4sAKYjmwf32pZaSV7HG4FnQ7 zY4szun6OJmM+k6NUiRZOXLlMdLjI4R3KT9PCM95YNHbfvSQcW3FRRa0RpiVlDk6qLNl IlUez0dzfY32ob11AiokeONiB7ovb2s1307NPCdD0W1w/BRuG5r2qThNcgjKpQn20dMk 7afs8G6yNHam/2RwrSiaHCY/ndz7xJReDMxItlNAluF2/Yd0Mk0rpxkcsSdvMkbLPZBV gJ7A== X-Gm-Message-State: AOJu0Yw+CNjrqHmSyM/WEwF5MKa2ZU7Fp5R+TdxDEGG0CKQczDnv1XU7 g1nXz1+f/J/5xPW/niJibprssvPClSw5iYilozN48w3nb/AdMomCVWldPk7Yfk518nWU6xR/ipu 8dhlbinEzRMFUuF9vTaTcUHXlv/J5UVrXRkKyNBQqD5Pv X-Gm-Gg: ASbGncuxerkwsUyWGKFYgLQWr/wSHfssqGZ5htdYrhP171/4VrHdRYzmyyBZHx+vSCX WWF4LtVMPPaXPAI2Tr+0RF2YawwB6lEswpbI2v7C+u9Tk9eF3dbo1TfJyOm8ZRzCDooAW/zSyb+ Q6WlEh4xDqFmzM+XuO6i34zl5fKYpcWLsyiFrDv5U2sUxcNv6xVj+lQgvXd9gr6fVWtFwh98ccn ZT0aP8cgVe5uwOxfKOs9ljCKXQr4nTb5p3aVIYik3g3jCWd7sCy0ISTGSVOn169JpYf9IMIydsl aHSTOBClJTsBLGMzshOl1O77d8cZ4SSxZOV2Zsg3RIgIZk58b0GdsgKZFXdxPSdDKMF46LwM77m yn3xWTnhxE2U5AsFMqbIqgTBjjUResJW2nuHn0EPnSg== X-Google-Smtp-Source: AGHT+IFDRdvPVoawC+ui/yPuu2Www4dX3pY3KG6cMMq9x+uR2MkmSy83rkR2+sHW1iem9EVFxjMD1CbRkR2m X-Received: by 2002:a05:6122:2009:b0:55b:305b:488d with SMTP id 71dfb90a1353d-55b305b6f81mr2488624e0c.19.1763400642404; Mon, 17 Nov 2025 09:30:42 -0800 (PST) Received: from postal.iol.unh.edu (postal.iol.unh.edu. [132.177.123.84]) by smtp-relay.gmail.com with ESMTPS id 71dfb90a1353d-55b0f45ab7dsm1541907e0c.5.2025.11.17.09.30.42 (version=TLS1_2 cipher=ECDHE-ECDSA-AES128-GCM-SHA256 bits=128/128); Mon, 17 Nov 2025 09:30:42 -0800 (PST) X-Relaying-Domain: iol.unh.edu Date: Mon, 17 Nov 2025 09:30:42 -0800 (PST) Message-ID: <691b5bc2.050a0220.2b0b9e.c57dSMTPIN_ADDED_MISSING@mx.google.com> Received: from [172.21.0.2] (unknown [172.18.0.240]) by postal.iol.unh.edu (Postfix) with ESMTP id 0AE966050A61; Mon, 17 Nov 2025 12:30:42 -0500 (EST) Subject: |SUCCESS| pw158853 [PATCH] app/testpmd: fix inner UDP checksum offlo From: dpdklab@iol.unh.edu To: Test Report Cc: dpdk-test-reports@iol.unh.edu, Stephen Hemminger In-Reply-To: <20251117075046.11624-1-fengchengwen@huawei.com> References: <20251117075046.11624-1-fengchengwen@huawei.com> Content-Type: text/plain X-BeenThere: test-report@dpdk.org X-Mailman-Version: 2.1.29 Precedence: list List-Id: automatic DPDK test reports List-Unsubscribe: , List-Archive: List-Post: List-Help: List-Subscribe: , Errors-To: test-report-bounces@dpdk.org Test-Label: iol-unit-arm64-testing Test-Status: SUCCESS http://dpdk.org/patch/158853 _Testing PASS_ Submitter: fengchengwen Date: Monday, November 17 2025 07:50:46 DPDK git baseline: Repo:dpdk-next-net Branch: master CommitID:18d8a8909b8ed6b0a4bd8f99971da74ebba792e2 158853 --> testing pass Upstream job id: Generic-Unit-Test-DPDK#393750 Test environment and result as below: +------------------------------+----------------+------------------------------+--------------+---------------------------+ | Environment | dpdk_unit_test | cryptodev_sw_snow3g_autotest | lpm_autotest | cryptodev_sw_zuc_autotest | +==============================+================+==============================+==============+===========================+ | CentOS Stream 9 | PASS | SKIPPED | SKIPPED | SKIPPED | +------------------------------+----------------+------------------------------+--------------+---------------------------+ | Debian GNU/Linux 12 | PASS | SKIPPED | SKIPPED | SKIPPED | +------------------------------+----------------+------------------------------+--------------+---------------------------+ | CentOS Stream 10 | PASS | SKIPPED | SKIPPED | SKIPPED | +------------------------------+----------------+------------------------------+--------------+---------------------------+ | Fedora Linux 40 | PASS | SKIPPED | SKIPPED | SKIPPED | +------------------------------+----------------+------------------------------+--------------+---------------------------+ | Fedora Linux 41 | PASS | SKIPPED | SKIPPED | SKIPPED | +------------------------------+----------------+------------------------------+--------------+---------------------------+ | Fedora Linux 42 | PASS | SKIPPED | SKIPPED | SKIPPED | +------------------------------+----------------+------------------------------+--------------+---------------------------+ | Red Hat Enterprise Linux 9.5 | PASS | SKIPPED | SKIPPED | SKIPPED | +------------------------------+----------------+------------------------------+--------------+---------------------------+ | Ubuntu 22.04 | PASS | SKIPPED | SKIPPED | SKIPPED | +------------------------------+----------------+------------------------------+--------------+---------------------------+ | Ubuntu 20.04 | PASS | SKIPPED | PASS | SKIPPED | +------------------------------+----------------+------------------------------+--------------+---------------------------+ | Ubuntu 24.04 | PASS | SKIPPED | SKIPPED | SKIPPED | +------------------------------+----------------+------------------------------+--------------+---------------------------+ | Debian 12 (arm) | SKIPPED | PASS | SKIPPED | PASS | +------------------------------+----------------+------------------------------+--------------+---------------------------+ CentOS Stream 9 Kernel: 5.4 Compiler: gcc gcc (GCC) 11.5.0 20240719 (Red Hat 11.5.0-11) Debian GNU/Linux 12 Kernel: 5.4 Compiler: gcc gcc (Debian 12.2.0-14+deb12u1) 12.2.0 CentOS Stream 10 Kernel: 5.4 Compiler: gcc gcc (GCC) 14.2.1 20250110 (Red Hat 14.2.1-8) Fedora Linux 40 Kernel: 5.4 Compiler: clang gcc (GCC) 14.2.1 20240912 (Red Hat 14.2.1-3) Fedora Linux 41 Kernel: 5.4 Compiler: gcc gcc (GCC) 14.3.1 20250523 (Red Hat 14.3.1-1) Fedora Linux 42 Kernel: 5.4 Compiler: gcc gcc (GCC) 15.2.1 20250808 (Red Hat 15.2.1-1) Red Hat Enterprise Linux 9.5 Kernel: 5.4 Compiler: gcc gcc (GCC) 11.5.0 20240719 (Red Hat 11.5.0-2) Ubuntu 22.04 Kernel: 5.4 Compiler: gcc gcc (Ubuntu 11.4.0-1ubuntu1~22.04) 11.4.0 Ubuntu 20.04 Kernel: 5.4 Compiler: gcc gcc (Ubuntu 9.4.0-1ubuntu1~20.04.2) 9.4.0 Ubuntu 24.04 Kernel: 5.4 Compiler: gcc gcc (Ubuntu 13.3.0-6ubuntu2~24.04) 13.3.0 Debian 12 (arm) Kernel: Depends on container host Compiler: gcc (Debian 12.2.0-14) 12.2.0 To view detailed results, visit: https://lab.dpdk.org/results/dashboard/patchsets/34622/ UNH-IOL DPDK Community Lab To manage your email subscriptions, visit: https://lab.dpdk.org/results/dashboard/preferences/subscriptions/