From mboxrd@z Thu Jan 1 00:00:00 1970 Return-Path: Received: from mails.dpdk.org (mails.dpdk.org [217.70.189.124]) by inbox.dpdk.org (Postfix) with ESMTP id 3613048B34 for ; Mon, 17 Nov 2025 18:45:59 +0100 (CET) Received: from mails.dpdk.org (localhost [127.0.0.1]) by mails.dpdk.org (Postfix) with ESMTP id 13EED40262; Mon, 17 Nov 2025 18:45:59 +0100 (CET) Received: from mail-il1-f226.google.com (mail-il1-f226.google.com [209.85.166.226]) by mails.dpdk.org (Postfix) with ESMTP id C80AC40262 for ; Mon, 17 Nov 2025 18:45:57 +0100 (CET) Received: by mail-il1-f226.google.com with SMTP id e9e14a558f8ab-4331709968fso16976935ab.2 for ; Mon, 17 Nov 2025 09:45:57 -0800 (PST) DKIM-Signature: v=1; a=rsa-sha256; c=relaxed/relaxed; d=iol.unh.edu; s=unh-iol; t=1763401557; x=1764006357; darn=dpdk.org; h=references:in-reply-to:cc:to:from:subject:message-id:date:from:to :cc:subject:date:message-id:reply-to; bh=NjPN0Kj05mr5lKLc9Z/AFcFVkIoLHgC4NleG/2fTQc0=; b=bUy+iyXa3LAtyoCVdGGPmqrQc2wshCNXVondllt7GjEZuMA4Vx/lfRkmru4F+81cpz ZHvWvBZV/jWFPduyko/XMwx/6ib18eoU8vOJ7n/a0ElAeI++GTuQVBtVUaocSWnKAMo2 Z8idJzpImc8K8esDH9MIdK9tjH4veDKAe9TEo= X-Google-DKIM-Signature: v=1; a=rsa-sha256; c=relaxed/relaxed; d=1e100.net; s=20230601; t=1763401557; x=1764006357; h=references:in-reply-to:cc:to:from:subject:message-id:date:x-gm-gg :x-gm-message-state:from:to:cc:subject:date:message-id:reply-to; bh=NjPN0Kj05mr5lKLc9Z/AFcFVkIoLHgC4NleG/2fTQc0=; b=BPhQ3CIsnpizCZTCy8Ob+LM1PMuF6nQLznh1lTYbcyfUC04ab5DUEG8IqGZGdmZVqX uclZ0tx8PHZ5VFS/OPRgqZeFgoUa+3R/0Q64WGq7aJFBQnFghL+tfOMUf25QglJMSiyn XK4ObSbKZob81P8YqXis6yFW7DVht4+gHvhw1vpIeKSJWIn3f0k258mgTPqS/9mwXqZo sGw8stTsFo2yk2X/3G7TDJ5Eyk4LdhsePLQBSbTFV7V3C1owBwHxlWBq5j8knaVBN0vj Ek4OT+teNbO2KbZS0ZnZIh1usSNaF8Anq3gWHbBYDeWPDAE47XtrqgiWR3yKCZRR8zn5 uHMw== X-Gm-Message-State: AOJu0YzlEZ8eCb1zOJ3rmsYEDz4AseD/n51+9cY1HZ9zg7z5/nomA8FB /WLJOrhsyqUPcL9DBOAE/3KH4sgc5967YfVMvvWUW6YwCJwntIl4IbzYEbDfEVAVf/atuL/Z8xo ziBZ8sK9SRX0s4gRnekP5sFlSQSfnTlKLZc3dp2Q9+5Gb X-Gm-Gg: ASbGncujiZnQeXRUIR2KcQI0cznERcsIU/5vJEUfMUu2N6XUxWyQFyyJf1DO0Aki1s1 nf6JBV4U1zSNz+Rejb74zXhvVM/SdQ2FGx/DVP/LDi7bSn3rolzwr1c3up+4GT01zo2utJ4/Lgq DWqA21YCAMEXpVI1EHAm+DYU7K+sCC/kDJ2PbGnO9U6iejZSpuwP6lPmoIBwwpsuEybnDxz42hu 4dvBAWrJCgD0cuWRNBbR42Wj06XUdl6eSC4plYGepbmHVhI7xumx9EQ8ue0x8bBZ+Sw8+xN6Kj5 kMqZCasG4zr6c2Iz/XFhwsDCVlaitZi9QW/aOwQtAkqIzyyqvUDTusz4ebsD/XiV0YXiSEmWY0t u+R9LlVpTfA5+tlEurdbl4iD4R35eqsemHrWdtBkGVQ== X-Google-Smtp-Source: AGHT+IF5n0z3tfEb6Sv4cjiPrHDCdj6l30Grj5WZWD1x6jN7//h3EByYiIKSDThBM/mbVXsOkpVlZmgCJncd X-Received: by 2002:a05:6e02:e:b0:433:23f0:1ebf with SMTP id e9e14a558f8ab-4348c8659aemr188503965ab.9.1763401557143; Mon, 17 Nov 2025 09:45:57 -0800 (PST) Received: from postal.iol.unh.edu (postal.iol.unh.edu. [132.177.123.84]) by smtp-relay.gmail.com with ESMTPS id e9e14a558f8ab-434a7e1036fsm3425925ab.31.2025.11.17.09.45.57 (version=TLS1_2 cipher=ECDHE-ECDSA-AES128-GCM-SHA256 bits=128/128); Mon, 17 Nov 2025 09:45:57 -0800 (PST) X-Relaying-Domain: iol.unh.edu Date: Mon, 17 Nov 2025 09:45:57 -0800 (PST) Message-ID: <691b5f55.050a0220.2d4890.14ccSMTPIN_ADDED_MISSING@mx.google.com> Received: from [172.21.0.3] (unknown [172.18.0.240]) by postal.iol.unh.edu (Postfix) with ESMTP id A81646050A61; Mon, 17 Nov 2025 12:45:56 -0500 (EST) Subject: |SUCCESS| pw158858 [PATCH] [v2] examples/ipsec-secgw: add support fo From: dpdklab@iol.unh.edu To: Test Report Cc: dpdk-test-reports@iol.unh.edu In-Reply-To: <20251117090851.54748-1-sunyang.wu@jaguarmicro.com> References: <20251117090851.54748-1-sunyang.wu@jaguarmicro.com> Content-Type: text/plain X-BeenThere: test-report@dpdk.org X-Mailman-Version: 2.1.29 Precedence: list List-Id: automatic DPDK test reports List-Unsubscribe: , List-Archive: List-Post: List-Help: List-Subscribe: , Errors-To: test-report-bounces@dpdk.org Test-Label: iol-compile-arm64-testing Test-Status: SUCCESS http://dpdk.org/patch/158858 _Testing PASS_ Submitter: Sunyang Wu Date: Monday, November 17 2025 09:08:51 DPDK git baseline: Repo:dpdk Branch: master CommitID:be0112878b4fc3a1b918370ed2fe615c52039d77 158858 --> testing pass Upstream job id: Generic-DPDK-Compile-Meson#445575 Test environment and result as below: +------------------------------+--------------------+ | Environment | dpdk_meson_compile | +==============================+====================+ | Red Hat Enterprise Linux 9.5 | PASS | +------------------------------+--------------------+ | Ubuntu 20.04 | PASS | +------------------------------+--------------------+ | Fedora Linux 42 | PASS | +------------------------------+--------------------+ | Debian GNU/Linux 12 | PASS | +------------------------------+--------------------+ | Ubuntu 22.04 | PASS | +------------------------------+--------------------+ | Ubuntu 24.04 | PASS | +------------------------------+--------------------+ | CentOS Stream 9 | PASS | +------------------------------+--------------------+ | CentOS Stream 10 | PASS | +------------------------------+--------------------+ Red Hat Enterprise Linux 9.5 Kernel: 5.4 Compiler: gcc gcc (GCC) 11.5.0 20240719 (Red Hat 11.5.0-2) Ubuntu 20.04 Kernel: 5.15 Compiler: aarch64-linux-gnu-gcc gcc (Ubuntu 9.4.0-1ubuntu1~20.04.2) 9.4.0 Fedora Linux 42 Kernel: 5.4 Compiler: gcc gcc (GCC) 15.2.1 20250808 (Red Hat 15.2.1-1) Debian GNU/Linux 12 Kernel: 5.4 Compiler: gcc gcc (Debian 12.2.0-14+deb12u1) 12.2.0 Ubuntu 22.04 Kernel: 5.4 Compiler: gcc gcc (Ubuntu 11.4.0-1ubuntu1~22.04) 11.4.0 Ubuntu 24.04 Kernel: 5.4 Compiler: gcc gcc (Ubuntu 13.3.0-6ubuntu2~24.04) 13.3.0 CentOS Stream 9 Kernel: 5.4 Compiler: gcc gcc (GCC) 11.5.0 20240719 (Red Hat 11.5.0-11) CentOS Stream 10 Kernel: 5.4 Compiler: gcc gcc (GCC) 14.2.1 20250110 (Red Hat 14.2.1-8) To view detailed results, visit: https://lab.dpdk.org/results/dashboard/patchsets/34625/ UNH-IOL DPDK Community Lab To manage your email subscriptions, visit: https://lab.dpdk.org/results/dashboard/preferences/subscriptions/