From mboxrd@z Thu Jan 1 00:00:00 1970 Return-Path: Received: from mails.dpdk.org (mails.dpdk.org [217.70.189.124]) by inbox.dpdk.org (Postfix) with ESMTP id 9B24D48B34 for ; Mon, 17 Nov 2025 19:08:13 +0100 (CET) Received: from mails.dpdk.org (localhost [127.0.0.1]) by mails.dpdk.org (Postfix) with ESMTP id 96A634028B; Mon, 17 Nov 2025 19:08:13 +0100 (CET) Received: from mail-pf1-f226.google.com (mail-pf1-f226.google.com [209.85.210.226]) by mails.dpdk.org (Postfix) with ESMTP id 8D66F4028B for ; Mon, 17 Nov 2025 19:08:12 +0100 (CET) Received: by mail-pf1-f226.google.com with SMTP id d2e1a72fcca58-7a435a3fc57so4320200b3a.1 for ; Mon, 17 Nov 2025 10:08:12 -0800 (PST) DKIM-Signature: v=1; a=rsa-sha256; c=relaxed/relaxed; d=iol.unh.edu; s=unh-iol; t=1763402892; x=1764007692; darn=dpdk.org; h=references:in-reply-to:cc:to:from:subject:message-id:date:from:to :cc:subject:date:message-id:reply-to; bh=ssP/cidk4EPf+dEbx+/QmkgYrq+ioDp9HvcT1nx9mlM=; b=INuG0IRNQkAwnxaVMMAnHzpDE7K4wFKcNfVktzBeghb8o5cmTODz2rJko8Zl+XkOgu TP9D2xmxZ/4aw4plIJMvzIAOG3K8n7heOQQmYcFliv8pZrssjl3wFpSx/Iska1iUea5Z kZNtIxZA85PWB8WgkizSX9LaIWONw4JjqOh7s= X-Google-DKIM-Signature: v=1; a=rsa-sha256; c=relaxed/relaxed; d=1e100.net; s=20230601; t=1763402892; x=1764007692; h=references:in-reply-to:cc:to:from:subject:message-id:date:x-gm-gg :x-gm-message-state:from:to:cc:subject:date:message-id:reply-to; bh=ssP/cidk4EPf+dEbx+/QmkgYrq+ioDp9HvcT1nx9mlM=; b=WOV7DC5F+yqlEPBp3SMv5Acnv0BWCMuGzaGYu0lCNB9ratFXXpuL9ghhB/wLxtYHYa Hltu9WFyejkJXruejgJ2u2iKVMywFxq41xKa9ucvZWbXHi2qXiimPI75xFjZVr/If+gD teSpTzxVbtsQJ/Yn2ve1OdWEtupcxGcqzgkMdAXRGFpzHiTwUhkK4m3OevnaUusK3tUJ q3/GTuuTINzqj6UerqVa1lb1Dlil7j0JAqAQUVzNuKBFw6itzWV9+ZTMzNOmRs/ec/MT HBB9sezc5vncZ9QjJkXdvrSTL2It2EOffeCdiYG/7bBPsgrrrsvZv3QUQHAEQq1cPnUS MLTw== X-Gm-Message-State: AOJu0Yz1v0LRt3xQ2WyNObNrUhm8/d8HuSQx3YhqA67xGHXBD8WAAlh2 lYAXHv80GPwKbiFeYmlNsL+pR1hbiXQpvrLa5A3xrYd1xf6S4LoJ177VkKpXVXMfY3h+YnZkyRI FwQx+DXyrEmQJdYl+Wqk7o0Z5oaZ84PTeYlaTkStq2hm9 X-Gm-Gg: ASbGncu+S61SWIO4xPSE9eEVmZUgueCg0ISP1cB26txwbCIql6h7QpYsxk9MGpGKClQ Cg0xeOBAuBKslAmdTjGPdYYagjUA6PgcuTYICAj7OY2TMu6fI51Xn6KbeFUclW3PEL8xYsd6xbI AND5W8I6E+KE5PqjWX5xyZ7H0uoCbDK896Bwp6ttnfvrEZCIfwQf9j5dw5L3XbX0p2ItT9yEpAp JQ82E7fs0pWaXfAO4oYHzz+W4ochRSdqlIFaYU0w1VRH+dirwHrtwk+ZoJZp779qCaxYF/5RZv8 IHn+CvvlboZ9x74qiueFFTDexruMXR2fSGN5wSrA+bG7IKVj2w3N+pImv8bSkxsRXn8m+R4AtuW 4nY4uJMtpKLscjD9JWIRU1Yej5mioBeRYoj45/yqGzw== X-Google-Smtp-Source: AGHT+IEn9sa+aMlQaGI73VnnJaqEOL+ngZldSCv5MjINb5Mjvml14uvGN3n0BtfwOweqQ3wzIq9yVp7sTztj X-Received: by 2002:a05:7022:6608:b0:11a:4b72:35e8 with SMTP id a92af1059eb24-11b40e81abamr5982092c88.6.1763402887643; Mon, 17 Nov 2025 10:08:07 -0800 (PST) Received: from postal.iol.unh.edu (postal.iol.unh.edu. [132.177.123.84]) by smtp-relay.gmail.com with ESMTPS id a92af1059eb24-11b0609131csm1274322c88.5.2025.11.17.10.08.07 (version=TLS1_2 cipher=ECDHE-ECDSA-AES128-GCM-SHA256 bits=128/128); Mon, 17 Nov 2025 10:08:07 -0800 (PST) X-Relaying-Domain: iol.unh.edu Date: Mon, 17 Nov 2025 10:08:07 -0800 (PST) Message-ID: <691b6487.050a0220.98bfc.fff2SMTPIN_ADDED_MISSING@mx.google.com> Received: from [172.21.0.2] (unknown [172.18.0.240]) by postal.iol.unh.edu (Postfix) with ESMTP id AF7A1604D420; Mon, 17 Nov 2025 13:08:06 -0500 (EST) Subject: |SUCCESS| pw158857 [PATCH] [v2] net/mlx5/windows: fix match criteria From: dpdklab@iol.unh.edu To: Test Report Cc: dpdk-test-reports@iol.unh.edu In-Reply-To: <20251117084500.1276-1-isharoni@nvidia.com> References: <20251117084500.1276-1-isharoni@nvidia.com> Content-Type: text/plain X-BeenThere: test-report@dpdk.org X-Mailman-Version: 2.1.29 Precedence: list List-Id: automatic DPDK test reports List-Unsubscribe: , List-Archive: List-Post: List-Help: List-Subscribe: , Errors-To: test-report-bounces@dpdk.org Test-Label: iol-compile-arm64-testing Test-Status: SUCCESS http://dpdk.org/patch/158857 _Testing PASS_ Submitter: Itai Sharoni Date: Monday, November 17 2025 08:45:00 DPDK git baseline: Repo:dpdk-next-net-mlx Branch: master CommitID:6c8ab18883d4a51ac512a969d36b47272a63b61b 158857 --> testing pass Upstream job id: Generic-DPDK-Compile-Meson#445602 Test environment and result as below: +------------------------------+--------------------+ | Environment | dpdk_meson_compile | +==============================+====================+ | Red Hat Enterprise Linux 9.5 | PASS | +------------------------------+--------------------+ | Ubuntu 20.04 | PASS | +------------------------------+--------------------+ | Debian GNU/Linux 12 | PASS | +------------------------------+--------------------+ | Fedora Linux 42 | PASS | +------------------------------+--------------------+ | Ubuntu 22.04 | PASS | +------------------------------+--------------------+ | Ubuntu 24.04 | PASS | +------------------------------+--------------------+ | CentOS Stream 9 | PASS | +------------------------------+--------------------+ | CentOS Stream 10 | PASS | +------------------------------+--------------------+ Red Hat Enterprise Linux 9.5 Kernel: 5.4 Compiler: gcc gcc (GCC) 11.5.0 20240719 (Red Hat 11.5.0-2) Ubuntu 20.04 Kernel: 5.15 Compiler: aarch64-linux-gnu-gcc gcc (Ubuntu 9.4.0-1ubuntu1~20.04.2) 9.4.0 Debian GNU/Linux 12 Kernel: 5.4 Compiler: gcc gcc (Debian 12.2.0-14+deb12u1) 12.2.0 Fedora Linux 42 Kernel: 5.4 Compiler: gcc gcc (GCC) 15.2.1 20250808 (Red Hat 15.2.1-1) Ubuntu 22.04 Kernel: 5.4 Compiler: gcc gcc (Ubuntu 11.4.0-1ubuntu1~22.04) 11.4.0 Ubuntu 24.04 Kernel: 5.4 Compiler: gcc gcc (Ubuntu 13.3.0-6ubuntu2~24.04) 13.3.0 CentOS Stream 9 Kernel: 5.4 Compiler: gcc gcc (GCC) 11.5.0 20240719 (Red Hat 11.5.0-11) CentOS Stream 10 Kernel: 5.4 Compiler: gcc gcc (GCC) 14.2.1 20250110 (Red Hat 14.2.1-8) To view detailed results, visit: https://lab.dpdk.org/results/dashboard/patchsets/34626/ UNH-IOL DPDK Community Lab To manage your email subscriptions, visit: https://lab.dpdk.org/results/dashboard/preferences/subscriptions/