From mboxrd@z Thu Jan 1 00:00:00 1970 Return-Path: Received: from mails.dpdk.org (mails.dpdk.org [217.70.189.124]) by inbox.dpdk.org (Postfix) with ESMTP id EC8E748B34 for ; Mon, 17 Nov 2025 19:54:58 +0100 (CET) Received: from mails.dpdk.org (localhost [127.0.0.1]) by mails.dpdk.org (Postfix) with ESMTP id E82034028B; Mon, 17 Nov 2025 19:54:58 +0100 (CET) Received: from mail-pf1-f227.google.com (mail-pf1-f227.google.com [209.85.210.227]) by mails.dpdk.org (Postfix) with ESMTP id E8BD44028B for ; Mon, 17 Nov 2025 19:54:57 +0100 (CET) Received: by mail-pf1-f227.google.com with SMTP id d2e1a72fcca58-7b852bb31d9so5187550b3a.0 for ; Mon, 17 Nov 2025 10:54:57 -0800 (PST) DKIM-Signature: v=1; a=rsa-sha256; c=relaxed/relaxed; d=iol.unh.edu; s=unh-iol; t=1763405697; x=1764010497; darn=dpdk.org; h=references:in-reply-to:cc:to:from:subject:message-id:date:from:to :cc:subject:date:message-id:reply-to; bh=liXnUjRCH9Jki+QcQ4QEfirv9FtbCY52HRL2FrADMXo=; b=g8PhtsVozE4X/zNBq+QfbHw9OTldokO5gsbu22uVJ2BtzS7F9LubjdCmwbol9YQijJ s3j7tvfqEGu5+PXWTSu17SfYChjR9XdxJxYC2shheEeroPCSxxYGpNobc4FDhhwewtr2 27Qmu+1Bb76l9YgMhfC1TFGz1RI+8/nzow6/g= X-Google-DKIM-Signature: v=1; a=rsa-sha256; c=relaxed/relaxed; d=1e100.net; s=20230601; t=1763405697; x=1764010497; h=references:in-reply-to:cc:to:from:subject:message-id:date:x-gm-gg :x-gm-message-state:from:to:cc:subject:date:message-id:reply-to; bh=liXnUjRCH9Jki+QcQ4QEfirv9FtbCY52HRL2FrADMXo=; b=bMZpGBZBgTSxPb/tHkNG4yyvsdg6bG2ZQoxTEtZNHHZVqSiA18HpjA4DvmvyKRLJXc FZt1dfzzq7VJ6ZR8DOoCZuEAIDnL8MgzW1E/ojAGLKUaC3vVCsADI1JtOQp+nTUU9mgy eOu5VOLc//gJWL2AQaGFrva0NusuNaDf4hPfYl8LxhG8kH6HNEmMBG2QpJtmSJgyKhXs vh7qlozoDOfH11nPTgWTLZbX+txmjN1eFQUfYwpsahlx/rW/DXuVwhf35bSHh7l3k24H aV0wIuH4nJwdHwKSAFIwrf/jqI4HhKi5nJx06hC6cDLCBAXdNDOMhFlpzA5pmlm9DSRQ Izlw== X-Gm-Message-State: AOJu0YxTdikqjigOKNsyA+LOhxNU67FjuUUHcp6HBI6yK/BUZK7aqPqI OFAkvwGA/STU68JVEXHlU8vjNL8s+6hpgySpCpzM13fw62eDwfZFWncKofyeb1wq5/IdY5U9Kmd D8dcXT+a0MnW+vZqpkvIWq5B9rvgpRuIERNZhG1JOJy08 X-Gm-Gg: ASbGncv1yHihlw8m/vP5RAygw5EIouxU+HluDKA9xfu1L3Etx4zeKDdtDXSNzaJ9Wen sxdKmBQgeB1/jtSgCxSkYdy083VfaWVNU5A6sXglrjPrzYIQqudGA6sBkgBZoautobmX8t4bTox EYheiZRwps8lDCFBAutfJ2eECbD4L7yZ0wJ9TNL+EW8rptlXxkfuXkAch7RS2JTHCeN8tWlqwJ/ xOyiBIo8n7Tl75efZ4dYzlXpvf5jzP04ox+tnZgXvLcA6pj+YXyf/0BzZMtqkvR1r77F3jbpQEo NfsLket4dsoeUYtNWzf5/blBRBrICfY2Kn9nnap1mjh+Mrzs2ZLwUSWfHxRxNXEI8a7B2CC6U5e FBTVAOJK+mI66SKAuOQjP56L5qE03XbMkFPb/FWb/xw== X-Google-Smtp-Source: AGHT+IFxY1c3Dw90/QWx+AUgbVbYZLpAnHvy0y3qWQNfKwWET0fquENHO463/Vih2x2jSyZxxzNJwHqrrju+ X-Received: by 2002:a05:6a20:7487:b0:35e:86d3:88c8 with SMTP id adf61e73a8af0-35e86d3983dmr7710680637.52.1763405697021; Mon, 17 Nov 2025 10:54:57 -0800 (PST) Received: from postal.iol.unh.edu (postal.iol.unh.edu. [132.177.123.84]) by smtp-relay.gmail.com with ESMTPS id 41be03b00d2f7-bc366550b9bsm747720a12.0.2025.11.17.10.54.56 (version=TLS1_2 cipher=ECDHE-ECDSA-AES128-GCM-SHA256 bits=128/128); Mon, 17 Nov 2025 10:54:57 -0800 (PST) X-Relaying-Domain: iol.unh.edu Date: Mon, 17 Nov 2025 10:54:57 -0800 (PST) Message-ID: <691b6f81.630a0220.165020.5927SMTPIN_ADDED_MISSING@mx.google.com> Received: from [172.21.0.3] (unknown [172.18.0.240]) by postal.iol.unh.edu (Postfix) with ESMTP id 7F6796051830; Mon, 17 Nov 2025 13:54:56 -0500 (EST) Subject: |SUCCESS| pw158849 [PATCH] test-flow-perf: fix the incorrect array l From: dpdklab@iol.unh.edu To: Test Report Cc: dpdk-test-reports@iol.unh.edu In-Reply-To: <20251117072858.9318-1-bingz@nvidia.com> References: <20251117072858.9318-1-bingz@nvidia.com> Content-Type: text/plain X-BeenThere: test-report@dpdk.org X-Mailman-Version: 2.1.29 Precedence: list List-Id: automatic DPDK test reports List-Unsubscribe: , List-Archive: List-Post: List-Help: List-Subscribe: , Errors-To: test-report-bounces@dpdk.org Test-Label: iol-unit-arm64-testing Test-Status: SUCCESS http://dpdk.org/patch/158849 _Testing PASS_ Submitter: Bing Zhao Date: Monday, November 17 2025 07:28:58 DPDK git baseline: Repo:dpdk Branch: master CommitID:be0112878b4fc3a1b918370ed2fe615c52039d77 158849 --> testing pass Upstream job id: Generic-Unit-Test-DPDK#393780 Test environment and result as below: +------------------------------+----------------+--------------+---------------------------+------------------------------+ | Environment | dpdk_unit_test | lpm_autotest | cryptodev_sw_zuc_autotest | cryptodev_sw_snow3g_autotest | +==============================+================+==============+===========================+==============================+ | Fedora Linux 40 | PASS | SKIPPED | SKIPPED | SKIPPED | +------------------------------+----------------+--------------+---------------------------+------------------------------+ | Debian GNU/Linux 12 | PASS | SKIPPED | SKIPPED | SKIPPED | +------------------------------+----------------+--------------+---------------------------+------------------------------+ | Ubuntu 22.04 | PASS | SKIPPED | SKIPPED | SKIPPED | +------------------------------+----------------+--------------+---------------------------+------------------------------+ | CentOS Stream 10 | PASS | SKIPPED | SKIPPED | SKIPPED | +------------------------------+----------------+--------------+---------------------------+------------------------------+ | CentOS Stream 9 | PASS | SKIPPED | SKIPPED | SKIPPED | +------------------------------+----------------+--------------+---------------------------+------------------------------+ | Fedora Linux 41 | PASS | SKIPPED | SKIPPED | SKIPPED | +------------------------------+----------------+--------------+---------------------------+------------------------------+ | Fedora Linux 42 | PASS | SKIPPED | SKIPPED | SKIPPED | +------------------------------+----------------+--------------+---------------------------+------------------------------+ | Ubuntu 20.04 | PASS | PASS | SKIPPED | SKIPPED | +------------------------------+----------------+--------------+---------------------------+------------------------------+ | Red Hat Enterprise Linux 9.5 | PASS | SKIPPED | SKIPPED | SKIPPED | +------------------------------+----------------+--------------+---------------------------+------------------------------+ | Ubuntu 24.04 | PASS | SKIPPED | SKIPPED | SKIPPED | +------------------------------+----------------+--------------+---------------------------+------------------------------+ | Debian 12 (arm) | SKIPPED | SKIPPED | PASS | PASS | +------------------------------+----------------+--------------+---------------------------+------------------------------+ Fedora Linux 40 Kernel: 5.4 Compiler: gcc gcc (GCC) 14.2.1 20240912 (Red Hat 14.2.1-3) Debian GNU/Linux 12 Kernel: 5.4 Compiler: gcc gcc (Debian 12.2.0-14+deb12u1) 12.2.0 Ubuntu 22.04 Kernel: 5.15 Compiler: gcc gcc (Ubuntu 11.4.0-1ubuntu1~22.04.2) 11.4.0 CentOS Stream 10 Kernel: 5.4 Compiler: gcc gcc (GCC) 14.2.1 20250110 (Red Hat 14.2.1-8) CentOS Stream 9 Kernel: 5.4 Compiler: gcc gcc (GCC) 11.5.0 20240719 (Red Hat 11.5.0-11) Fedora Linux 41 Kernel: 5.4 Compiler: clang gcc (GCC) 14.3.1 20250523 (Red Hat 14.3.1-1) Fedora Linux 42 Kernel: 5.4 Compiler: gcc gcc (GCC) 15.2.1 20250808 (Red Hat 15.2.1-1) Ubuntu 20.04 Kernel: 5.4 Compiler: gcc gcc (Ubuntu 9.4.0-1ubuntu1~20.04.2) 9.4.0 Red Hat Enterprise Linux 9.5 Kernel: 5.4 Compiler: gcc gcc (GCC) 11.5.0 20240719 (Red Hat 11.5.0-2) Ubuntu 24.04 Kernel: 5.4 Compiler: gcc gcc (Ubuntu 13.3.0-6ubuntu2~24.04) 13.3.0 Debian 12 (arm) Kernel: Depends on container host Compiler: gcc (Debian 12.2.0-14) 12.2.0 To view detailed results, visit: https://lab.dpdk.org/results/dashboard/patchsets/34620/ UNH-IOL DPDK Community Lab To manage your email subscriptions, visit: https://lab.dpdk.org/results/dashboard/preferences/subscriptions/