From mboxrd@z Thu Jan 1 00:00:00 1970 Return-Path: Received: from mails.dpdk.org (mails.dpdk.org [217.70.189.124]) by inbox.dpdk.org (Postfix) with ESMTP id 56B9B48B35 for ; Mon, 17 Nov 2025 21:12:50 +0100 (CET) Received: from mails.dpdk.org (localhost [127.0.0.1]) by mails.dpdk.org (Postfix) with ESMTP id 519944028B; Mon, 17 Nov 2025 21:12:50 +0100 (CET) Received: from mail-oa1-f98.google.com (mail-oa1-f98.google.com [209.85.160.98]) by mails.dpdk.org (Postfix) with ESMTP id 149EC4028B for ; Mon, 17 Nov 2025 21:12:49 +0100 (CET) Received: by mail-oa1-f98.google.com with SMTP id 586e51a60fabf-3e80c483a13so2621362fac.2 for ; Mon, 17 Nov 2025 12:12:49 -0800 (PST) DKIM-Signature: v=1; a=rsa-sha256; c=relaxed/relaxed; d=iol.unh.edu; s=unh-iol; t=1763410368; x=1764015168; darn=dpdk.org; h=references:in-reply-to:cc:to:from:subject:message-id:date:from:to :cc:subject:date:message-id:reply-to; bh=Qgmag4QCmss6GGfey5jADv/btkEgYOL6d4s0rFTM3zM=; b=Wb9JZJrybU+T7CQQuv8KWpzDMUwA6RXMxuTv+4HTEh/7mNOGMiFY0YZAQvUMgrRuJc 7Tm3LQCpgWL8SNW8hE5V7R9IDe2dQ8IH0SRxY45gR1T9TBqLcVlGG5x6pYP8qThLP3Y4 MhUkzfI02T7ihUhS/azc/lR0HUkm5IadtWuu0= X-Google-DKIM-Signature: v=1; a=rsa-sha256; c=relaxed/relaxed; d=1e100.net; s=20230601; t=1763410368; x=1764015168; h=references:in-reply-to:cc:to:from:subject:message-id:date:x-gm-gg :x-gm-message-state:from:to:cc:subject:date:message-id:reply-to; bh=Qgmag4QCmss6GGfey5jADv/btkEgYOL6d4s0rFTM3zM=; b=jP6ZDHnRVbqLtuOKsSckrBMJmA5oqy+RGOGKEDLESlAURa3T9PbQL2/KRVVcT159eF 9URGVabMFN8MKxpN3MEoHK0BRReEINdoTid6gkZ3lRQSyp0CEVx4T59ohdPvafwFjWoz O5ORRKvFuyPPA0R6ahxnZFlV8NpAHx6AbjC0+GwZLLYmHhF6RZL7D1US3oHefZninMjZ 07o+Xo3Wil8ZCKfwXVD1lINI7azKYjqvkgfvnw023n/qgdZw9dGKEpw0W8lf1SxnWII3 2HkWOUZRpfxeROPF4RGtGnuOiv6CBL8eUx4RCxk+LUVGTPwkTn01OubTSSVsJ+LOEX37 jW2A== X-Gm-Message-State: AOJu0YzG6exyLKmj37GHaknvppqRGSvLEw6Ra3V83ci2lX/uGEWpXehW 9StTdbkxcpndagLnH0L/i400kIJ+Yd/XKfr8g9f476DUbulPyGvcQkXGhzP4uNiAfb6Y7zEc8tw 6TvIC15p/3A3ik7filayM1v4/6Mb25c1K6t1O/k4PSrlxKMj5r7VjOh9Jh5+D X-Gm-Gg: ASbGnctzhctrdgw0xhXDrjKlN2eCn9ZiD3gu5v6AH0OM5JNqz0RWH84RtXX00vvgfKi wlCE2u4xwsrSSEbTFjPsciOBcO5RVksvaVTuNdXGgC0Tj66G/Fy17lvT0Cj1u8ALAMnRbCwKZuy DEIs5EFLkE2hf1AovN2Z3ASf6fuvMTJi8FvS52ovIiiRYI4bKThabfMAbUSQggHZfDufD5bNPHu 4y4OnBHkz8D0/SALdVER0OyzI9gz5nAC+UpWSngtItYGKH4bZvGn5gxmnnIQjoyTiWlO3XL6BtK DGfUy7lzEgFEqY2+O03R5CPTRMIDWfnFO9o5YWrDnLUiNOYCd/PSP8vfC/LUMAXBgbcmdGUcfdN N8nniolWIOA9pHQqJl8g= X-Google-Smtp-Source: AGHT+IG4TYS1cimuyVv/iocp2Y78zYkOrqCTYYqDYKzuSEyBTEgElmFQdbq+gz0kiB2rfCcJGGK17kHbAHMT X-Received: by 2002:a05:687c:3104:b0:3c9:89b6:c64f with SMTP id 586e51a60fabf-3e868aae19bmr6342875fac.0.1763410368203; Mon, 17 Nov 2025 12:12:48 -0800 (PST) Received: from postal.iol.unh.edu (postal.iol.unh.edu. [2606:4100:3880:1234::84]) by smtp-relay.gmail.com with ESMTPS id 586e51a60fabf-3e851fc6760sm1184001fac.2.2025.11.17.12.12.48 (version=TLS1_2 cipher=ECDHE-ECDSA-AES128-GCM-SHA256 bits=128/128); Mon, 17 Nov 2025 12:12:48 -0800 (PST) X-Relaying-Domain: iol.unh.edu Date: Mon, 17 Nov 2025 12:12:48 -0800 (PST) Message-ID: <691b81c0.050a0220.2a86de.d3baSMTPIN_ADDED_MISSING@mx.google.com> Received: from [172.21.0.3] (unknown [172.18.0.240]) by postal.iol.unh.edu (Postfix) with ESMTP id B32816050A61; Mon, 17 Nov 2025 15:12:47 -0500 (EST) Subject: |SUCCESS| pw158847 [PATCH] net/mlx5: fix segmentation fault in flow From: dpdklab@iol.unh.edu To: Test Report Cc: dpdk-test-reports@iol.unh.edu In-Reply-To: <20251117071536.205328-1-mkashani@nvidia.com> References: <20251117071536.205328-1-mkashani@nvidia.com> Content-Type: text/plain X-BeenThere: test-report@dpdk.org X-Mailman-Version: 2.1.29 Precedence: list List-Id: automatic DPDK test reports List-Unsubscribe: , List-Archive: List-Post: List-Help: List-Subscribe: , Errors-To: test-report-bounces@dpdk.org Test-Label: iol-unit-arm64-testing Test-Status: SUCCESS http://dpdk.org/patch/158847 _Testing PASS_ Submitter: Maayan Kashani Date: Monday, November 17 2025 07:15:36 DPDK git baseline: Repo:dpdk-next-net-mlx Branch: master CommitID:6c8ab18883d4a51ac512a969d36b47272a63b61b 158847 --> testing pass Upstream job id: Generic-Unit-Test-DPDK#393799 Test environment and result as below: +------------------------------+----------------+--------------+---------------------------+------------------------------+ | Environment | dpdk_unit_test | lpm_autotest | cryptodev_sw_zuc_autotest | cryptodev_sw_snow3g_autotest | +==============================+================+==============+===========================+==============================+ | Fedora Linux 41 | PASS | SKIPPED | SKIPPED | SKIPPED | +------------------------------+----------------+--------------+---------------------------+------------------------------+ | CentOS Stream 9 | PASS | SKIPPED | SKIPPED | SKIPPED | +------------------------------+----------------+--------------+---------------------------+------------------------------+ | Fedora Linux 40 | PASS | SKIPPED | SKIPPED | SKIPPED | +------------------------------+----------------+--------------+---------------------------+------------------------------+ | CentOS Stream 10 | PASS | SKIPPED | SKIPPED | SKIPPED | +------------------------------+----------------+--------------+---------------------------+------------------------------+ | Debian GNU/Linux 12 | PASS | SKIPPED | SKIPPED | SKIPPED | +------------------------------+----------------+--------------+---------------------------+------------------------------+ | Fedora Linux 42 | PASS | SKIPPED | SKIPPED | SKIPPED | +------------------------------+----------------+--------------+---------------------------+------------------------------+ | Red Hat Enterprise Linux 9.5 | PASS | SKIPPED | SKIPPED | SKIPPED | +------------------------------+----------------+--------------+---------------------------+------------------------------+ | Ubuntu 22.04 | PASS | SKIPPED | SKIPPED | SKIPPED | +------------------------------+----------------+--------------+---------------------------+------------------------------+ | Ubuntu 24.04 | PASS | SKIPPED | SKIPPED | SKIPPED | +------------------------------+----------------+--------------+---------------------------+------------------------------+ | Ubuntu 20.04 | PASS | PASS | SKIPPED | SKIPPED | +------------------------------+----------------+--------------+---------------------------+------------------------------+ | Debian 12 (arm) | SKIPPED | SKIPPED | PASS | PASS | +------------------------------+----------------+--------------+---------------------------+------------------------------+ Fedora Linux 41 Kernel: 5.4 Compiler: gcc gcc (GCC) 14.3.1 20250523 (Red Hat 14.3.1-1) CentOS Stream 9 Kernel: 5.4 Compiler: gcc gcc (GCC) 11.5.0 20240719 (Red Hat 11.5.0-11) Fedora Linux 40 Kernel: 5.4 Compiler: gcc gcc (GCC) 14.2.1 20240912 (Red Hat 14.2.1-3) CentOS Stream 10 Kernel: 5.4 Compiler: gcc gcc (GCC) 14.2.1 20250110 (Red Hat 14.2.1-8) Debian GNU/Linux 12 Kernel: 5.4 Compiler: gcc gcc (Debian 12.2.0-14+deb12u1) 12.2.0 Fedora Linux 42 Kernel: 5.4 Compiler: clang gcc (GCC) 15.2.1 20250808 (Red Hat 15.2.1-1) Red Hat Enterprise Linux 9.5 Kernel: 5.4 Compiler: gcc gcc (GCC) 11.5.0 20240719 (Red Hat 11.5.0-2) Ubuntu 22.04 Kernel: 5.4 Compiler: gcc gcc (Ubuntu 11.4.0-1ubuntu1~22.04) 11.4.0 Ubuntu 24.04 Kernel: 5.4 Compiler: gcc gcc (Ubuntu 13.3.0-6ubuntu2~24.04) 13.3.0 Ubuntu 20.04 Kernel: 5.4 Compiler: gcc gcc (Ubuntu 9.4.0-1ubuntu1~20.04.2) 9.4.0 Debian 12 (arm) Kernel: Depends on container host Compiler: gcc (Debian 12.2.0-14) 12.2.0 To view detailed results, visit: https://lab.dpdk.org/results/dashboard/patchsets/34618/ UNH-IOL DPDK Community Lab To manage your email subscriptions, visit: https://lab.dpdk.org/results/dashboard/preferences/subscriptions/