From mboxrd@z Thu Jan 1 00:00:00 1970 Return-Path: Received: from mails.dpdk.org (mails.dpdk.org [217.70.189.124]) by inbox.dpdk.org (Postfix) with ESMTP id 3E1EC48B36 for ; Mon, 17 Nov 2025 22:08:53 +0100 (CET) Received: from mails.dpdk.org (localhost [127.0.0.1]) by mails.dpdk.org (Postfix) with ESMTP id 1CC2F4028B; Mon, 17 Nov 2025 22:08:53 +0100 (CET) Received: from mail-yx1-f99.google.com (mail-yx1-f99.google.com [74.125.224.99]) by mails.dpdk.org (Postfix) with ESMTP id CA1994028B for ; Mon, 17 Nov 2025 22:08:51 +0100 (CET) Received: by mail-yx1-f99.google.com with SMTP id 956f58d0204a3-63e16fbdd50so4324448d50.2 for ; Mon, 17 Nov 2025 13:08:51 -0800 (PST) DKIM-Signature: v=1; a=rsa-sha256; c=relaxed/relaxed; d=iol.unh.edu; s=unh-iol; t=1763413731; x=1764018531; darn=dpdk.org; h=references:in-reply-to:cc:to:from:subject:message-id:date:from:to :cc:subject:date:message-id:reply-to; bh=kQ9yqZIA9NQl4p6nu76Z3jpb3oyNQt6Lg1FXLURWajQ=; b=fbtqUd147U9yoPI9M9+qWif0wiFdQUPN6Tg5NO3qKCt6R4XCFvhgRkAsnDjXudCyji wbyZELXIlzMFaBKGgur5Bu7TEPbTG4x77V6UUYGhvbbd0QXDsIet7G4TdyYz6tM1Tkni SrItKOmxA8wPR0pJBSX880AIKPPWiJkG8J+Y4= X-Google-DKIM-Signature: v=1; a=rsa-sha256; c=relaxed/relaxed; d=1e100.net; s=20230601; t=1763413731; x=1764018531; h=references:in-reply-to:cc:to:from:subject:message-id:date:x-gm-gg :x-gm-message-state:from:to:cc:subject:date:message-id:reply-to; bh=kQ9yqZIA9NQl4p6nu76Z3jpb3oyNQt6Lg1FXLURWajQ=; b=OcDoxQhd496weKRjwgSAOyYKW69mBho4TgZZQQWYvs9E9JmAPloaAmSDBu1o3VBRY/ XaT4EJotdfM2TBtoU8HH8FYeJeY4CUI0QizK4h12BvqoSzAS68aBkTPLBoLEJfh/Mn8o AnI2sEpyaUHmS1bT6DjunnK+OECdPCQADX1ou/BPjXoQUsPmqMli7TlT4yO4GHdvV1Ar KFkZysCSCQpohM3Gugl2xjH7WytMNUtTgVocU8JjlnxUHxPgi0/7cOBoNa5PrwSSN2VG MZt9Lu1PT410HCwGh8zL9MvqMt7aUvQtYfME3LvF+hyr1uI+bjzy6eKlZ4l81xU++5PI hhCQ== X-Gm-Message-State: AOJu0YxEoSP9nlCk5fFjfMQQC5QWeZQd5dUCDhlBGsIwtw1d+mdZ639Q hjlVkdBsGeuW9/KjXnpKmz3hGNG8WBuZJ03q6vA+JC5zgxrMeorAf5KS5zuKpyX1+RkZbx4hFX7 9jplLsGWTQGT/4tkGvcSzScBTrUBXAtRBsu/qRvWTBA4omcRSAsaPuuBCYfj5 X-Gm-Gg: ASbGncuK2elTbjP4p2eUxWxuOS4egJisusycm0BquQm7+Drf3YTuc5A+xsB4FGEzl7y sRhTto7VuWnwMv2eD6/rrWqc4foL9ymTX6HsDIMk//afEm5WQWbM80VBrkyghsie3rbG3/lZspA dFsGdEuJKxZa+J35/nuYjgqqMbNVN5GLQSEG3b3a9cSSjoA4ff3tApFtqTRYgLTYYW1gaQSeVai XUQZ2tXKf9z1pqYP6S4Jsphv5TyevOCuejXG4OozxA16oXHLSStC9TOkjrq95scKyQoQwSx/irB 2wcsVd/0tHc6XV+NofcXwoADGC4N0feyskJrd0iT//3HFIaY1ne3VGFuN6G5krbx+2+5c5UqGwr PxWZom8rWT9KDUbty+eo= X-Google-Smtp-Source: AGHT+IF8Uj6rNmRo0f+KsN9siXP5yoyAzWOKiUa6CuCeAaCNkFhn1sX4Rt5MVDqBsC6nlzu1oWOOlQXYUcSB X-Received: by 2002:a05:690e:241c:b0:63f:96d7:a350 with SMTP id 956f58d0204a3-641e769d516mr9125393d50.66.1763413730986; Mon, 17 Nov 2025 13:08:50 -0800 (PST) Received: from postal.iol.unh.edu (postal.iol.unh.edu. [2606:4100:3880:1234::84]) by smtp-relay.gmail.com with ESMTPS id 00721157ae682-78821deafb1sm8512347b3.3.2025.11.17.13.08.50 (version=TLS1_2 cipher=ECDHE-ECDSA-AES128-GCM-SHA256 bits=128/128); Mon, 17 Nov 2025 13:08:50 -0800 (PST) X-Relaying-Domain: iol.unh.edu Date: Mon, 17 Nov 2025 13:08:50 -0800 (PST) Message-ID: <691b8ee2.050a0220.165049.cc63SMTPIN_ADDED_MISSING@mx.google.com> Received: from [172.21.0.3] (unknown [172.18.0.240]) by postal.iol.unh.edu (Postfix) with ESMTP id 9AD9F6050A61; Mon, 17 Nov 2025 16:08:50 -0500 (EST) Subject: |SUCCESS| pw158856 [PATCH] [v3] net/mlx5: use private structure for From: dpdklab@iol.unh.edu To: Test Report Cc: dpdk-test-reports@iol.unh.edu In-Reply-To: <20251117084443.10264-1-bingz@nvidia.com> References: <20251117084443.10264-1-bingz@nvidia.com> Content-Type: text/plain X-BeenThere: test-report@dpdk.org X-Mailman-Version: 2.1.29 Precedence: list List-Id: automatic DPDK test reports List-Unsubscribe: , List-Archive: List-Post: List-Help: List-Subscribe: , Errors-To: test-report-bounces@dpdk.org Test-Label: iol-unit-arm64-testing Test-Status: SUCCESS http://dpdk.org/patch/158856 _Testing PASS_ Submitter: Bing Zhao Date: Monday, November 17 2025 08:44:43 DPDK git baseline: Repo:dpdk-next-net-mlx Branch: master CommitID:6c8ab18883d4a51ac512a969d36b47272a63b61b 158856 --> testing pass Upstream job id: Generic-Unit-Test-DPDK#393836 Test environment and result as below: +------------------------------+--------------+----------------+------------------------------+---------------------------+ | Environment | lpm_autotest | dpdk_unit_test | cryptodev_sw_snow3g_autotest | cryptodev_sw_zuc_autotest | +==============================+==============+================+==============================+===========================+ | Ubuntu 20.04 | PASS | PASS | SKIPPED | SKIPPED | +------------------------------+--------------+----------------+------------------------------+---------------------------+ | CentOS Stream 9 | SKIPPED | PASS | SKIPPED | SKIPPED | +------------------------------+--------------+----------------+------------------------------+---------------------------+ | CentOS Stream 10 | SKIPPED | PASS | SKIPPED | SKIPPED | +------------------------------+--------------+----------------+------------------------------+---------------------------+ | Debian GNU/Linux 12 | SKIPPED | PASS | SKIPPED | SKIPPED | +------------------------------+--------------+----------------+------------------------------+---------------------------+ | Fedora Linux 40 | SKIPPED | PASS | SKIPPED | SKIPPED | +------------------------------+--------------+----------------+------------------------------+---------------------------+ | Fedora Linux 41 | SKIPPED | PASS | SKIPPED | SKIPPED | +------------------------------+--------------+----------------+------------------------------+---------------------------+ | Fedora Linux 42 | SKIPPED | PASS | SKIPPED | SKIPPED | +------------------------------+--------------+----------------+------------------------------+---------------------------+ | Red Hat Enterprise Linux 9.5 | SKIPPED | PASS | SKIPPED | SKIPPED | +------------------------------+--------------+----------------+------------------------------+---------------------------+ | Ubuntu 24.04 | SKIPPED | PASS | SKIPPED | SKIPPED | +------------------------------+--------------+----------------+------------------------------+---------------------------+ | Ubuntu 22.04 | SKIPPED | PASS | SKIPPED | SKIPPED | +------------------------------+--------------+----------------+------------------------------+---------------------------+ | Debian 12 (arm) | SKIPPED | SKIPPED | PASS | PASS | +------------------------------+--------------+----------------+------------------------------+---------------------------+ Ubuntu 20.04 Kernel: 5.4 Compiler: gcc gcc (Ubuntu 9.4.0-1ubuntu1~20.04.2) 9.4.0 CentOS Stream 9 Kernel: 5.4 Compiler: gcc gcc (GCC) 11.5.0 20240719 (Red Hat 11.5.0-11) CentOS Stream 10 Kernel: 5.4 Compiler: gcc gcc (GCC) 14.2.1 20250110 (Red Hat 14.2.1-8) Debian GNU/Linux 12 Kernel: 5.4 Compiler: gcc gcc (Debian 12.2.0-14+deb12u1) 12.2.0 Fedora Linux 40 Kernel: 5.4 Compiler: gcc gcc (GCC) 14.2.1 20240912 (Red Hat 14.2.1-3) Fedora Linux 41 Kernel: 5.4 Compiler: gcc gcc (GCC) 14.3.1 20250523 (Red Hat 14.3.1-1) Fedora Linux 42 Kernel: 5.4 Compiler: clang gcc (GCC) 15.2.1 20250808 (Red Hat 15.2.1-1) Red Hat Enterprise Linux 9.5 Kernel: 5.4 Compiler: gcc gcc (GCC) 11.5.0 20240719 (Red Hat 11.5.0-2) Ubuntu 24.04 Kernel: 5.4 Compiler: gcc gcc (Ubuntu 13.3.0-6ubuntu2~24.04) 13.3.0 Ubuntu 22.04 Kernel: 5.4 Compiler: gcc gcc (Ubuntu 11.4.0-1ubuntu1~22.04) 11.4.0 Debian 12 (arm) Kernel: Depends on container host Compiler: gcc (Debian 12.2.0-14) 12.2.0 To view detailed results, visit: https://lab.dpdk.org/results/dashboard/patchsets/34623/ UNH-IOL DPDK Community Lab To manage your email subscriptions, visit: https://lab.dpdk.org/results/dashboard/preferences/subscriptions/