From mboxrd@z Thu Jan 1 00:00:00 1970 Return-Path: Received: from mails.dpdk.org (mails.dpdk.org [217.70.189.124]) by inbox.dpdk.org (Postfix) with ESMTP id 2784948B36 for ; Tue, 18 Nov 2025 00:46:07 +0100 (CET) Received: from mails.dpdk.org (localhost [127.0.0.1]) by mails.dpdk.org (Postfix) with ESMTP id 069324027D; Tue, 18 Nov 2025 00:46:07 +0100 (CET) Received: from mail-qk1-f226.google.com (mail-qk1-f226.google.com [209.85.222.226]) by mails.dpdk.org (Postfix) with ESMTP id 8BC3A4027D for ; Tue, 18 Nov 2025 00:46:05 +0100 (CET) Received: by mail-qk1-f226.google.com with SMTP id af79cd13be357-8b2a4b6876fso622296985a.3 for ; Mon, 17 Nov 2025 15:46:05 -0800 (PST) DKIM-Signature: v=1; a=rsa-sha256; c=relaxed/relaxed; d=iol.unh.edu; s=unh-iol; t=1763423165; x=1764027965; darn=dpdk.org; h=references:in-reply-to:cc:to:from:subject:message-id:date:from:to :cc:subject:date:message-id:reply-to; bh=vb60hg7+pGvhcay/vKscdPGg7FvEvQbllGW0YGn1yS4=; b=NAupvuQqrWFLK5qNzkLFumA10NlRXnS1y+aXYn4ypRpSk7O0AG5o96bU5e7wmMhpui Qy6ufnBB8RlQ22FR/DlxPEbYhe3GM+0EYNIADiXyxuzRaXgI/zZo0CYxD26xwjMh4PCU E5V7LiY4KDouIUt5k1NKSfFKaJ4PXBfiz9aks= X-Google-DKIM-Signature: v=1; a=rsa-sha256; c=relaxed/relaxed; d=1e100.net; s=20230601; t=1763423165; x=1764027965; h=references:in-reply-to:cc:to:from:subject:message-id:date:x-gm-gg :x-gm-message-state:from:to:cc:subject:date:message-id:reply-to; bh=vb60hg7+pGvhcay/vKscdPGg7FvEvQbllGW0YGn1yS4=; b=XJhXZMykUqPxWg1Gh/rIGYqPnFfopOkk/hhhZDv3LQUC4jXgnWt4pMtvxnT1Hd8YT9 oX52p4dNQBmULbexFZvZvd9G3w6OgXMkQRDL3Yf+Mie7vGpwDIFSUEFA3Fspr6S0SkNX r34Yy4rT80V8ytiRzuetrLbybZk2LPzWYBlWlSJbyrW993TSiE+OUBFpQjgHhR+xu3eP a33MCRv0UYhjo8m7exzgzEokqg9Sf6Pw7yvzebu1DS1r+z3Dot5/QNXIhkKdXQS0W4Yf 76UBmr1W123uTi1DtCFC+g3hguxRdAISp772bMmVb3XeURlxU4FfewaposPe9xeAtkuR dwQg== X-Gm-Message-State: AOJu0YwOvebzK7FnaRKUKm573Tud/KvyMqsdfRdlUenI0Dgct90xCDeg +qPQVGIWBwhZHGgnqwH8EQqBuvOL4wQLEf/K3eXFTTtce929i/cBBquQmYaGrRncNUWYhh3RUx+ euvZwy2fnsiVrJYnsT03geifkJjUZXS0M1U23L61ns8L/e3dMoAMrzU9d2NGO X-Gm-Gg: ASbGnctVTTmQ2bbVeSm+cF0AB27ObTEc3QqsRqYx0qRF7Iutu8viH2/8ofkTgTyae4h f2M/1+6Ob+y6DVNGkz1YMWGMC4Xx1X2pMCz+xdriCt85lpsk/KDS8KWxSSSI14oV3MSF73RLWIV DSj7u9xHPvQJ1DX9URw+pFfV9vvCNmbCnNXgpOyAkbr0CXN8X00CRolEv1K2KNDsZ4NjlnHphW2 2+O6ZawRcCPLH04RXDpD/+9G7/dRAaAt16zEa+E19cAF4dVbN20MXhbT91MLmjghx6wciRBDsSF ZxvlwkNyhaNKYHnypaqFEZTJRQGuT3TI3af21krdwgcr//bWUEaYAVEKeeN8bGDnxOJPz5rohuF USGG8pwJfXHMgJigNvxc= X-Google-Smtp-Source: AGHT+IEH0/TEVjTyYzKxnf4kzeg/RVL11Dej++URjqifjq8usyqBoPSUp+rGfsbntS7Qrjxyl5qyS0k48p7Q X-Received: by 2002:a05:620a:4611:b0:8b2:efe7:d82b with SMTP id af79cd13be357-8b2efe7dbd7mr608090785a.30.1763423164812; Mon, 17 Nov 2025 15:46:04 -0800 (PST) Received: from postal.iol.unh.edu (postal.iol.unh.edu. [2606:4100:3880:1234::84]) by smtp-relay.gmail.com with ESMTPS id af79cd13be357-8b2aeef9a87sm120502585a.4.2025.11.17.15.46.04 (version=TLS1_2 cipher=ECDHE-ECDSA-AES128-GCM-SHA256 bits=128/128); Mon, 17 Nov 2025 15:46:04 -0800 (PST) X-Relaying-Domain: iol.unh.edu Date: Mon, 17 Nov 2025 15:46:04 -0800 (PST) Message-ID: <691bb3bc.050a0220.f1358.ba15SMTPIN_ADDED_MISSING@mx.google.com> Received: from [172.21.0.3] (unknown [172.18.0.240]) by postal.iol.unh.edu (Postfix) with ESMTP id 79DF46051830; Mon, 17 Nov 2025 18:46:04 -0500 (EST) Subject: |SUCCESS| pw158860 [PATCH] crypto/openssl: support AES-XTS operation From: dpdklab@iol.unh.edu To: Test Report Cc: dpdk-test-reports@iol.unh.edu, Akhil Goyal In-Reply-To: <20251117124414.1839-1-felix.zhang@jaguarmicro.com> References: <20251117124414.1839-1-felix.zhang@jaguarmicro.com> Content-Type: text/plain X-BeenThere: test-report@dpdk.org X-Mailman-Version: 2.1.29 Precedence: list List-Id: automatic DPDK test reports List-Unsubscribe: , List-Archive: List-Post: List-Help: List-Subscribe: , Errors-To: test-report-bounces@dpdk.org Test-Label: iol-compile-arm64-testing Test-Status: SUCCESS http://dpdk.org/patch/158860 _Testing PASS_ Submitter: Shaokai Zhang Date: Monday, November 17 2025 12:44:14 DPDK git baseline: Repo:dpdk-next-crypto Branch: master CommitID:754ac59dcaf20949b55c58ab00ca73ea19dcc1cb 158860 --> testing pass Upstream job id: Generic-DPDK-Compile-Meson#445665 Test environment and result as below: +------------------------------+--------------------+ | Environment | dpdk_meson_compile | +==============================+====================+ | Red Hat Enterprise Linux 9.5 | PASS | +------------------------------+--------------------+ | Ubuntu 20.04 | PASS | +------------------------------+--------------------+ | Fedora Linux 42 | PASS | +------------------------------+--------------------+ | Debian GNU/Linux 12 | PASS | +------------------------------+--------------------+ | Ubuntu 22.04 | PASS | +------------------------------+--------------------+ | CentOS Stream 9 | PASS | +------------------------------+--------------------+ | Ubuntu 24.04 | PASS | +------------------------------+--------------------+ | CentOS Stream 10 | PASS | +------------------------------+--------------------+ Red Hat Enterprise Linux 9.5 Kernel: 5.4 Compiler: gcc gcc (GCC) 11.5.0 20240719 (Red Hat 11.5.0-2) Ubuntu 20.04 Kernel: 5.15 Compiler: aarch64-linux-gnu-gcc gcc (Ubuntu 9.4.0-1ubuntu1~20.04.2) 9.4.0 Fedora Linux 42 Kernel: 5.4 Compiler: gcc gcc (GCC) 15.2.1 20250808 (Red Hat 15.2.1-1) Debian GNU/Linux 12 Kernel: 5.4 Compiler: gcc gcc (Debian 12.2.0-14+deb12u1) 12.2.0 Ubuntu 22.04 Kernel: 5.4 Compiler: gcc gcc (Ubuntu 11.4.0-1ubuntu1~22.04) 11.4.0 CentOS Stream 9 Kernel: 5.4 Compiler: gcc gcc (GCC) 11.5.0 20240719 (Red Hat 11.5.0-11) Ubuntu 24.04 Kernel: 5.4 Compiler: gcc gcc (Ubuntu 13.3.0-6ubuntu2~24.04) 13.3.0 CentOS Stream 10 Kernel: 5.4 Compiler: gcc gcc (GCC) 14.2.1 20250110 (Red Hat 14.2.1-8) To view detailed results, visit: https://lab.dpdk.org/results/dashboard/patchsets/34628/ UNH-IOL DPDK Community Lab To manage your email subscriptions, visit: https://lab.dpdk.org/results/dashboard/preferences/subscriptions/