From mboxrd@z Thu Jan 1 00:00:00 1970 Return-Path: Received: from mails.dpdk.org (mails.dpdk.org [217.70.189.124]) by inbox.dpdk.org (Postfix) with ESMTP id 76DF948B36 for ; Tue, 18 Nov 2025 01:50:18 +0100 (CET) Received: from mails.dpdk.org (localhost [127.0.0.1]) by mails.dpdk.org (Postfix) with ESMTP id 4B91D4027D; Tue, 18 Nov 2025 01:50:18 +0100 (CET) Received: from mail-vk1-f226.google.com (mail-vk1-f226.google.com [209.85.221.226]) by mails.dpdk.org (Postfix) with ESMTP id 9B8D34027D for ; Tue, 18 Nov 2025 01:50:17 +0100 (CET) Received: by mail-vk1-f226.google.com with SMTP id 71dfb90a1353d-55b2a09ff61so575833e0c.2 for ; Mon, 17 Nov 2025 16:50:17 -0800 (PST) DKIM-Signature: v=1; a=rsa-sha256; c=relaxed/relaxed; d=iol.unh.edu; s=unh-iol; t=1763427017; x=1764031817; darn=dpdk.org; h=references:in-reply-to:cc:to:from:subject:message-id:date:from:to :cc:subject:date:message-id:reply-to; bh=O9tePPkhqGZqo5tylXW/8fx+EbqTMmNUf/XdE7LHTcQ=; b=LQc7pVYlcSr5vdPS3JviTji7Na7ir5aCj2uuy0i6uRn3uSkdBZOd6/s6ofMnNpDloE WbM3IRGwd/Cusm0x5fKb0hJDTACSwc+gJpiMNOx1Q7iIGxSvRAfGBupjLqUldEKBrskW BhDESP50LkZtJ/3nL9e9QMLfkUw7G5sr7jWWQ= X-Google-DKIM-Signature: v=1; a=rsa-sha256; c=relaxed/relaxed; d=1e100.net; s=20230601; t=1763427017; x=1764031817; h=references:in-reply-to:cc:to:from:subject:message-id:date:x-gm-gg :x-gm-message-state:from:to:cc:subject:date:message-id:reply-to; bh=O9tePPkhqGZqo5tylXW/8fx+EbqTMmNUf/XdE7LHTcQ=; b=g8nFh4+n8Fluqeam/6sgt2vyxiJlSRzqDZxNmfhtsNqPPs6GhWENbRWpfXfePKSkt3 BWvDxSFbjRotrpScjEY/QzJ2pIk4lRQnH4kZR1Z46zcYyLK5c3a5fWtDsQTNDbi8IiHO bTC8zrhwy9R8m8AFpcTf15tZCa/klcFrLP2hoJoD1xN1DJ716dTTDX2RCKzdB/ejDnjY J+3Ek5DCOps+kDfHvg/d6cuwm++dhbjIDvReFApF2nuT71Rwz80gmGjUCHPEegqyShGv mqM3kfzJyqlZcwQKfMfnhpzaBqEcizw2SsTgezJC0iG40M+GPo6qvtFteSx0Ufw3y8ok aFvg== X-Gm-Message-State: AOJu0Yyc2YJWnuPgGZ4hgq81Qw/uj96R4/P6k0kAdOmYZsgksWaXbB86 qBTiGMzpNyV90spIfk42MZvjqpw3K40uABibBhR/n35J/09w6IlqM06/ttlVf3u5wwTfMnC6MvS KvcoXlG8QGvGT4krH5Mim+VImCxE2kwoPsOgBDkfc/5zK8WgLL5n9G3VqRvlR X-Gm-Gg: ASbGncsDivJMmoh4xc4RzwYgkTaP7gBN5OZphAWJvaslo7PIDH9f9Q4kBin26M/+Rri peCZzzhgPDZPgZsOs1zjpGy9V1CWIVigsh/KIiERiEiSu34fQNl9fTlRqdNXDuPKHHCjQ7+7LMs gG82ETvYeEhbYhUdpWrCd2YY47KtNHGd8owogNuofB6Th0WdK234JdjfyYyOF7aCVIub2jiSPnc 1/NqgFXJp2PTpXi0iSo6vlaYO0d4QxANdSi7Wwc6W+usFCrrOUtHGXgdQnoyqErhHaadO6Isbmc 4MADDzpbPkQo6w18u0+yEIVfF3zwHnp7vPoPVv8mmuH/kG1+PyjdvE8omEDn4IDuoTp6ZzZzrpM 2w88OYCtxkIkx4t6v2VQ= X-Google-Smtp-Source: AGHT+IGm4b+q+oMfjrvYuOwEHhkh2tZXDZ6KbU/J7KpWJVjv5SRJVogMPKA534EyTQxAj/ng73ru7fr3y1L7 X-Received: by 2002:a05:6122:2a51:b0:559:6e2a:953d with SMTP id 71dfb90a1353d-55b1be41069mr4243644e0c.8.1763427016941; Mon, 17 Nov 2025 16:50:16 -0800 (PST) Received: from postal.iol.unh.edu (postal.iol.unh.edu. [2606:4100:3880:1234::84]) by smtp-relay.gmail.com with ESMTPS id 71dfb90a1353d-55b0f48ca70sm1627548e0c.7.2025.11.17.16.50.16 (version=TLS1_2 cipher=ECDHE-ECDSA-AES128-GCM-SHA256 bits=128/128); Mon, 17 Nov 2025 16:50:16 -0800 (PST) X-Relaying-Domain: iol.unh.edu Date: Mon, 17 Nov 2025 16:50:16 -0800 (PST) Message-ID: <691bc2c8.050a0220.6358d.3279SMTPIN_ADDED_MISSING@mx.google.com> Received: from [172.21.0.2] (unknown [172.18.0.240]) by postal.iol.unh.edu (Postfix) with ESMTP id 58DB76051830; Mon, 17 Nov 2025 19:50:16 -0500 (EST) Subject: |SUCCESS| pw158857 [PATCH] [v2] net/mlx5/windows: fix match criteria From: dpdklab@iol.unh.edu To: Test Report Cc: dpdk-test-reports@iol.unh.edu In-Reply-To: <20251117084500.1276-1-isharoni@nvidia.com> References: <20251117084500.1276-1-isharoni@nvidia.com> Content-Type: text/plain X-BeenThere: test-report@dpdk.org X-Mailman-Version: 2.1.29 Precedence: list List-Id: automatic DPDK test reports List-Unsubscribe: , List-Archive: List-Post: List-Help: List-Subscribe: , Errors-To: test-report-bounces@dpdk.org Test-Label: iol-unit-arm64-testing Test-Status: SUCCESS http://dpdk.org/patch/158857 _Testing PASS_ Submitter: Itai Sharoni Date: Monday, November 17 2025 08:45:00 DPDK git baseline: Repo:dpdk-next-net-mlx Branch: master CommitID:6c8ab18883d4a51ac512a969d36b47272a63b61b 158857 --> testing pass Upstream job id: Generic-Unit-Test-DPDK#393930 Test environment and result as below: +------------------------------+--------------+----------------+---------------------------+------------------------------+ | Environment | lpm_autotest | dpdk_unit_test | cryptodev_sw_zuc_autotest | cryptodev_sw_snow3g_autotest | +==============================+==============+================+===========================+==============================+ | Ubuntu 20.04 | PASS | PASS | SKIPPED | SKIPPED | +------------------------------+--------------+----------------+---------------------------+------------------------------+ | Ubuntu 22.04 | SKIPPED | PASS | SKIPPED | SKIPPED | +------------------------------+--------------+----------------+---------------------------+------------------------------+ | CentOS Stream 10 | SKIPPED | PASS | SKIPPED | SKIPPED | +------------------------------+--------------+----------------+---------------------------+------------------------------+ | Fedora Linux 40 | SKIPPED | PASS | SKIPPED | SKIPPED | +------------------------------+--------------+----------------+---------------------------+------------------------------+ | Debian GNU/Linux 12 | SKIPPED | PASS | SKIPPED | SKIPPED | +------------------------------+--------------+----------------+---------------------------+------------------------------+ | CentOS Stream 9 | SKIPPED | PASS | SKIPPED | SKIPPED | +------------------------------+--------------+----------------+---------------------------+------------------------------+ | Fedora Linux 42 | SKIPPED | PASS | SKIPPED | SKIPPED | +------------------------------+--------------+----------------+---------------------------+------------------------------+ | Fedora Linux 41 | SKIPPED | PASS | SKIPPED | SKIPPED | +------------------------------+--------------+----------------+---------------------------+------------------------------+ | Red Hat Enterprise Linux 9.5 | SKIPPED | PASS | SKIPPED | SKIPPED | +------------------------------+--------------+----------------+---------------------------+------------------------------+ | Ubuntu 24.04 | SKIPPED | PASS | SKIPPED | SKIPPED | +------------------------------+--------------+----------------+---------------------------+------------------------------+ | Debian 12 (arm) | SKIPPED | SKIPPED | PASS | PASS | +------------------------------+--------------+----------------+---------------------------+------------------------------+ Ubuntu 20.04 Kernel: 5.4 Compiler: gcc gcc (Ubuntu 9.4.0-1ubuntu1~20.04.2) 9.4.0 Ubuntu 22.04 Kernel: 5.15 Compiler: gcc gcc (Ubuntu 11.4.0-1ubuntu1~22.04.2) 11.4.0 CentOS Stream 10 Kernel: 5.4 Compiler: gcc gcc (GCC) 14.2.1 20250110 (Red Hat 14.2.1-8) Fedora Linux 40 Kernel: 5.4 Compiler: gcc gcc (GCC) 14.2.1 20240912 (Red Hat 14.2.1-3) Debian GNU/Linux 12 Kernel: 5.4 Compiler: gcc gcc (Debian 12.2.0-14+deb12u1) 12.2.0 CentOS Stream 9 Kernel: 5.4 Compiler: gcc gcc (GCC) 11.5.0 20240719 (Red Hat 11.5.0-11) Fedora Linux 42 Kernel: 5.4 Compiler: gcc gcc (GCC) 15.2.1 20250808 (Red Hat 15.2.1-1) Fedora Linux 41 Kernel: 5.4 Compiler: clang gcc (GCC) 14.3.1 20250523 (Red Hat 14.3.1-1) Red Hat Enterprise Linux 9.5 Kernel: 5.4 Compiler: gcc gcc (GCC) 11.5.0 20240719 (Red Hat 11.5.0-2) Ubuntu 24.04 Kernel: 5.4 Compiler: gcc gcc (Ubuntu 13.3.0-6ubuntu2~24.04) 13.3.0 Debian 12 (arm) Kernel: Depends on container host Compiler: gcc (Debian 12.2.0-14) 12.2.0 To view detailed results, visit: https://lab.dpdk.org/results/dashboard/patchsets/34626/ UNH-IOL DPDK Community Lab To manage your email subscriptions, visit: https://lab.dpdk.org/results/dashboard/preferences/subscriptions/