From mboxrd@z Thu Jan 1 00:00:00 1970 Return-Path: Received: from mails.dpdk.org (mails.dpdk.org [217.70.189.124]) by inbox.dpdk.org (Postfix) with ESMTP id 9164C48B37 for ; Tue, 18 Nov 2025 03:05:49 +0100 (CET) Received: from mails.dpdk.org (localhost [127.0.0.1]) by mails.dpdk.org (Postfix) with ESMTP id 6848E4027D; Tue, 18 Nov 2025 03:05:49 +0100 (CET) Received: from mail-io1-f97.google.com (mail-io1-f97.google.com [209.85.166.97]) by mails.dpdk.org (Postfix) with ESMTP id 143294027D for ; Tue, 18 Nov 2025 03:05:48 +0100 (CET) Received: by mail-io1-f97.google.com with SMTP id ca18e2360f4ac-9491ba846b2so9266239f.2 for ; Mon, 17 Nov 2025 18:05:47 -0800 (PST) DKIM-Signature: v=1; a=rsa-sha256; c=relaxed/relaxed; d=iol.unh.edu; s=unh-iol; t=1763431547; x=1764036347; darn=dpdk.org; h=cc:to:from:subject:message-id:date:from:to:cc:subject:date :message-id:reply-to; bh=vD/ZpUXpkn30tRFKzqsQNORm4VvTpkKQfzYjF3ORkW4=; b=a0alPN7m2htalUStPPMqp8LM1ifkKWupZOy+Xg0S/q/Qi1AB95IZ49gNhv8d11Bxh4 xxf7eU6svTMLc3j45dfKck+09D3uim0vdgnPUo0mpVnoUq9vPU1K0hOBHqgH5ccZvUEU nJ70S0NnMjdMGAL7iGNceWCU0bJE5UTEDYG30= X-Google-DKIM-Signature: v=1; a=rsa-sha256; c=relaxed/relaxed; d=1e100.net; s=20230601; t=1763431547; x=1764036347; h=cc:to:from:subject:message-id:date:x-gm-gg:x-gm-message-state:from :to:cc:subject:date:message-id:reply-to; bh=vD/ZpUXpkn30tRFKzqsQNORm4VvTpkKQfzYjF3ORkW4=; b=MxOX83sxbYcvRxkxieYFvYAw7xuuZN74pw+djgipdKDgjQ6881PHi22xuMiGPjVDpR qa2LC5mMcrKXk7WNzFWlaFC5oLcFtCsQGHnokeHXSuZhlhZnN6FqswnPSWV+TAnpaZ/4 JR8mUl3ilIKgQq8NPtfVJKGW318bDuTHnlbs3LGq50HTXOQsjfSpTLBppWB7bLd9giIs l+9TULBGolzFnqDwnC8yu/Mm4eFOGgta4aKvql+hvnWo4Y3kEew+1lApyW0InZ0dWTPW zT0ff0V6twMfkDS38DircQt+uJroap+pc/vcBJUtRtYykTzZSb7JGPgHg3VukzxZ+LHl mYDg== X-Gm-Message-State: AOJu0YwwXpmaaM9nEhvmf24siuS4pPSqoE+TGHJtVq+Uolnvq4ndsofS 0QEif7AF//O+NhPVKvImWacnQGhb78RYg8v2nv6K0OABHWoGuKWGuNKrvwI+oF6V0IkZLmseu/r frldQdm52zkGkYJC7YJ1WUuD4tzgowYuEXFPxjwKqFB/m X-Gm-Gg: ASbGnctcwGHCfjSJL88DJg/fQAQjXMNEb32QOPF3qsFl2x3EWpVFBP6jRmvxZ60btAd DT0mc+XBPPyd9MRudYjgoJEydbJTEXHktkowK7BRCZESqsObNVdnzAwxIsquTBekzAU2DE5h7a9 eskQC3vISCcaTbhiElALc3tP6SuAKO5v1EUo7t/C4NqjTB8hoPwv289rnso6l+RKmNWkbZuwwLJ PQjrQuJWDq3u7Mzn6r76gT0xdQMF6FTxHP9KzC91MYPMfCwS72mDi1muHgF0FZdlH39JK2fC3ps w0T80PmD59yxEZjKXaDNQb19TQEw4Oz9H24+Bpa7vR3MT9LnzVmzjgc2rtvs8+ysptz3IvkiFrb 0sGE4GUSSJOd3lEXQ1RmtQvaVJbingvSR3V19HsDyZA== X-Google-Smtp-Source: AGHT+IHpiBMCI2cudm0VEbB9lH9jPOxrfNCLnKJZo29ox907hdWGMaq9fcPmIVIz9X9rBTMCqlzY5r64KX5r X-Received: by 2002:a05:6638:4be6:b0:5b7:1ebd:4d2f with SMTP id 8926c6da1cb9f-5b7c9c4a53bmr10906511173.4.1763431547211; Mon, 17 Nov 2025 18:05:47 -0800 (PST) Received: from postal.iol.unh.edu (postal.iol.unh.edu. [132.177.123.84]) by smtp-relay.gmail.com with ESMTPS id 8926c6da1cb9f-5b7bd246a4esm1016079173.8.2025.11.17.18.05.47 (version=TLS1_2 cipher=ECDHE-ECDSA-AES128-GCM-SHA256 bits=128/128); Mon, 17 Nov 2025 18:05:47 -0800 (PST) X-Relaying-Domain: iol.unh.edu Date: Mon, 17 Nov 2025 18:05:47 -0800 (PST) Message-ID: <691bd47b.050a0220.1f4fac.36aaSMTPIN_ADDED_MISSING@mx.google.com> Received: from [172.21.0.3] (unknown [172.18.0.240]) by postal.iol.unh.edu (Postfix) with ESMTP id CD8576051830; Mon, 17 Nov 2025 21:05:46 -0500 (EST) Subject: |SUCCESS| [GIT MASTER] 39454e245b125ae555bc5a3a058cc3c1e1280f82 From: dpdklab@iol.unh.edu To: Test Report Cc: dpdk-test-reports@iol.unh.edu Content-Type: text/plain X-BeenThere: test-report@dpdk.org X-Mailman-Version: 2.1.29 Precedence: list List-Id: automatic DPDK test reports List-Unsubscribe: , List-Archive: List-Post: List-Help: List-Subscribe: , Errors-To: test-report-bounces@dpdk.org _Testing PASS_ Branch: dpdk 39454e245b125ae555bc5a3a058cc3c1e1280f82 --> testing pass Upstream job id: Generic-Unit-Test-DPDK#394012 Test environment and result as below: +-------------------------------+----------------+ | Environment | dpdk_unit_test | +===============================+================+ | Fedora Linux 42 | PASS | +-------------------------------+----------------+ | Debian GNU/Linux 12 | PASS | +-------------------------------+----------------+ | Arch Linux 20250613.0.365270 | PASS | +-------------------------------+----------------+ | Fedora Linux 41 | PASS | +-------------------------------+----------------+ | Fedora Linux 40 | PASS | +-------------------------------+----------------+ | CentOS Stream 10 | PASS | +-------------------------------+----------------+ | Red Hat Enterprise Linux 9.5 | PASS | +-------------------------------+----------------+ | CentOS Stream 9 | PASS | +-------------------------------+----------------+ | Ubuntu 24.04 | PASS | +-------------------------------+----------------+ | Ubuntu 20.04 | PASS | +-------------------------------+----------------+ | Red Hat Enterprise Linux 8.10 | PASS | +-------------------------------+----------------+ | Ubuntu 22.04 | PASS | +-------------------------------+----------------+ | Windows Server 2022 | PASS | +-------------------------------+----------------+ Fedora Linux 42 Kernel: 5.15 Compiler: clang gcc (GCC) 15.2.1 20250808 (Red Hat 15.2.1-1) Debian GNU/Linux 12 Kernel: 5.15 Compiler: gcc gcc (Debian 12.2.0-14+deb12u1) 12.2.0 Arch Linux 20250613.0.365270 Kernel: 5.15 Compiler: gcc gcc (GCC) 15.1.1 20250425 Fedora Linux 41 Kernel: 5.15 Compiler: gcc gcc (GCC) 14.3.1 20250523 (Red Hat 14.3.1-1) Fedora Linux 40 Kernel: 5.15 Compiler: clang gcc (GCC) 14.2.1 20240912 (Red Hat 14.2.1-3) CentOS Stream 10 Kernel: 5.15 Compiler: gcc gcc (GCC) 14.2.1 20250110 (Red Hat 14.2.1-8) Red Hat Enterprise Linux 9.5 Kernel: 5.15 Compiler: gcc gcc (GCC) 11.5.0 20240719 (Red Hat 11.5.0-2) CentOS Stream 9 Kernel: 5.15 Compiler: gcc gcc (GCC) 11.5.0 20240719 (Red Hat 11.5.0-11) Ubuntu 24.04 Kernel: 5.15 Compiler: gcc gcc (Ubuntu 13.3.0-6ubuntu2~24.04) 13.3.0 Ubuntu 20.04 Kernel: 5.15 Compiler: gcc gcc (Ubuntu 9.4.0-1ubuntu1~20.04.2) 9.4.0 Red Hat Enterprise Linux 8.10 Kernel: 5.15 Compiler: gcc gcc (GCC) 8.5.0 20210514 (Red Hat 8.5.0-22) Ubuntu 22.04 Kernel: 5.15 Compiler: gcc gcc (Ubuntu 11.4.0-1ubuntu1~22.04) 11.4.0 Windows Server 2022 Kernel: 10.0.20348.2031 Compiler: clang 15.0.7, gcc 14.1.0 (MinGW), and MSVC VS 19.39.33521 To view detailed results, visit: https://lab.dpdk.org/results/dashboard/tarballs/35641/ UNH-IOL DPDK Community Lab To manage your email subscriptions, visit: https://lab.dpdk.org/results/dashboard/preferences/subscriptions/